BEGIN:VCALENDAR
VERSION:2.0
PRODID:-//IK HOU VAN HELMOND - ECPv6.15.20//NONSGML v1.0//EN
CALSCALE:GREGORIAN
METHOD:PUBLISH
X-WR-CALNAME:IK HOU VAN HELMOND
X-ORIGINAL-URL:https://ikhouvanhelmond.nl
X-WR-CALDESC:Evenementen voor IK HOU VAN HELMOND
REFRESH-INTERVAL;VALUE=DURATION:PT1H
X-Robots-Tag:noindex
X-PUBLISHED-TTL:PT1H
BEGIN:VTIMEZONE
TZID:UTC
BEGIN:STANDARD
TZOFFSETFROM:+0000
TZOFFSETTO:+0000
TZNAME:UTC
DTSTART:20240101T000000
END:STANDARD
END:VTIMEZONE
BEGIN:VEVENT
DTSTART;TZID=UTC:20250211T193000
DTEND;TZID=UTC:20250211T230000
DTSTAMP:20260423T194239
CREATED:20250207T195610Z
LAST-MODIFIED:20250207T200237Z
UID:506-1739302200-1739314800@ikhouvanhelmond.nl
SUMMARY:Bordspelavond
DESCRIPTION:Iedere tweede dinsdag van de maand organiseert wijkhuis De Fonkel een bordspelavond. Toegang is gratis en het eerste drankje ook. Je bent welkom vanaf 19.30 uur en aanmelden is niet nodig. Kom gezellig langs om sfeer te proeven en te kijken of het iets voor je is. Er zijn diverse spellen aanwezig maar je mag ook zelf iets meenemen.
URL:https://ikhouvanhelmond.nl/event/bordspelavond/
LOCATION:Wijkhuis de Fonkel\, Prins Karelstraat 123\, Helmond
CATEGORIES:Vermaak
ATTACH;FMTTYPE=image/jpeg:https://ikhouvanhelmond.nl/wp-content/uploads/2025/02/afbeelding-bordspelavond-gr.jpg
END:VEVENT
BEGIN:VEVENT
DTSTART;TZID=UTC:20250210T140000
DTEND;TZID=UTC:20250210T153000
DTSTAMP:20260423T194239
CREATED:20250208T164721Z
LAST-MODIFIED:20250210T105435Z
UID:621-1739196000-1739201400@ikhouvanhelmond.nl
SUMMARY:Expositie Vrouw en Werk (geannuleerd)
DESCRIPTION:Er hangen weer nieuwe werken op onze Brainport Human Campus in Helmond. De expositie Vrouw en Werk is de vierde in een reeks van exposities die we samen met Museum Helmond houden. \n”Vrouw en Werk – Van en Door Vrouwen\, Voor Iedereen”\, laat kunstwerken zien waarbij vrouwen zowel Maker als Model zijn. De tentoonstelling biedt een inspirerende blik op de rol van vrouwen in de wereld van arbeid en kunst. Van ambachtelijke beroepen tot jonge kunstenaars\, deze expositie belicht de veerkracht\, creativiteit en invloed van vrouwen in diverse sectoren. Aan de hand van historische objecten\, persoonlijke verhalen en hedendaagse kunst wordt een veelzijdig beeld geschetst van de uitdagingen en successen die vrouwen hebben ervaren. Vrouw en Werk nodigt bezoekers uit om stil te staan bij de sociale veranderingen en de voortdurende strijd voor gelijkheid op de werkvloer en de kunstwereld\, terwijl het bijdraagt aan erkenning en herkenning van vrouwen en hun werk.
URL:https://ikhouvanhelmond.nl/event/expositie-vrouw-en-werk/
LOCATION:Brainport Human Campus\, Vlamovenweg 2\, Helmond
CATEGORIES:Expositie
END:VEVENT
BEGIN:VEVENT
DTSTART;TZID=UTC:20250209T140000
DTEND;TZID=UTC:20250209T161500
DTSTAMP:20260423T194239
CREATED:20250207T201025Z
LAST-MODIFIED:20250207T201025Z
UID:516-1739109600-1739117700@ikhouvanhelmond.nl
SUMMARY:Concert Carnavalesque
DESCRIPTION:Tel je de dagen af naar carnaval en kun je niet wachten tot het zo ver is? Heb je trek in een goeie warming-up? Kom dan op zondag 9 februari vanaf 14 uur naar de Helmondse Kanaaldijk voor een gruwelijk gezellig concert Carnavalesque. \nOm het feest compleet te maken ontvangt de Koninklijke Stadsharmonie Phileutonia deze middag maar liefst twee bijzondere Helmondse gasten in haar verenigingsgebouw: de carnavalsgroep Moi Gewist én de Rimboband. Samen met het Philbee-orkest van Phileutonia zullen zij bezoekers trakteren op bekende meezinghits\, zoals Het dondert en het Bliksemt van Guus Meeuwis en Engelbewaarder van Marco Schuitmaker. Los van dat ieder gezelschap eigen nummers brengt\, zullen ze er ook samen een groot Helmonds feest van maken op het podium. \nZin om in en aan te haken? Trek je carnavalsoutfit (of je gewone kleren) aan en wees welkom op ons Concert Carnavalesque.
URL:https://ikhouvanhelmond.nl/event/concert-carnavalesque/
LOCATION:Phileutonia\, Kanaaldijk N.W. 27B\, Helmond
CATEGORIES:Muziek
END:VEVENT
END:VCALENDAR