BEGIN:VCALENDAR
VERSION:2.0
PRODID:-//IK HOU VAN HELMOND - ECPv6.15.20//NONSGML v1.0//EN
CALSCALE:GREGORIAN
METHOD:PUBLISH
X-WR-CALNAME:IK HOU VAN HELMOND
X-ORIGINAL-URL:https://ikhouvanhelmond.nl
X-WR-CALDESC:Evenementen voor IK HOU VAN HELMOND
REFRESH-INTERVAL;VALUE=DURATION:PT1H
X-Robots-Tag:noindex
X-PUBLISHED-TTL:PT1H
BEGIN:VTIMEZONE
TZID:UTC
BEGIN:STANDARD
TZOFFSETFROM:+0000
TZOFFSETTO:+0000
TZNAME:UTC
DTSTART:20240101T000000
END:STANDARD
END:VTIMEZONE
BEGIN:VEVENT
DTSTART;TZID=UTC:20250720T110000
DTEND;TZID=UTC:20250720T170000
DTSTAMP:20260419T195517
CREATED:20250716T090151Z
LAST-MODIFIED:20250716T090151Z
UID:2117-1753009200-1753030800@ikhouvanhelmond.nl
SUMMARY:Platenbeurs
DESCRIPTION:In samenwerking met Ray Elpee uit Eindhoven organiseert de Cacaofabriek weer een buiteneditie van de platenbeurs. Voer voor verzamelaars dus! \n\n\nHeel veel CD’s en natuurlijk vinyl op deze beurs. Zowel singletjes als albums op mooi zwart vinyl. Muziek\, drankje\, hapje\, terrasje\, gezelligheid en een zonnetje. Daar gaan we voor! De beurs start om 11.00 uur en duurt tot 17.00 uur Entree is gratis!
URL:https://ikhouvanhelmond.nl/event/platenbeurs/
LOCATION:De Cacaofabriek\, Cacaokade 1\, Helmond
CATEGORIES:Vermaak
ATTACH;FMTTYPE=image/jpeg:https://ikhouvanhelmond.nl/wp-content/uploads/2025/07/Platenbeurs-Helmond-scaled.jpg
END:VEVENT
END:VCALENDAR