BEGIN:VCALENDAR
VERSION:2.0
PRODID:-//IK HOU VAN HELMOND - ECPv6.15.20//NONSGML v1.0//EN
CALSCALE:GREGORIAN
METHOD:PUBLISH
X-WR-CALNAME:IK HOU VAN HELMOND
X-ORIGINAL-URL:https://ikhouvanhelmond.nl
X-WR-CALDESC:Evenementen voor IK HOU VAN HELMOND
REFRESH-INTERVAL;VALUE=DURATION:PT1H
X-Robots-Tag:noindex
X-PUBLISHED-TTL:PT1H
BEGIN:VTIMEZONE
TZID:UTC
BEGIN:STANDARD
TZOFFSETFROM:+0000
TZOFFSETTO:+0000
TZNAME:UTC
DTSTART:20240101T000000
END:STANDARD
END:VTIMEZONE
BEGIN:VEVENT
DTSTART;TZID=UTC:20250513T193000
DTEND;TZID=UTC:20250513T230000
DTSTAMP:20260419T132104
CREATED:20250207T195910Z
LAST-MODIFIED:20250207T195959Z
UID:514-1747164600-1747177200@ikhouvanhelmond.nl
SUMMARY:Bordspelavond
DESCRIPTION:Iedere tweede dinsdag van de maand organiseert wijkhuis De Fonkel een bordspelavond. Toegang is gratis en het eerste drankje ook. Je bent welkom vanaf 19.30 uur en aanmelden is niet nodig. Kom gezellig langs om sfeer te proeven en te kijken of het iets voor je is. Er zijn diverse spellen aanwezig maar je mag ook zelf iets meenemen.
URL:https://ikhouvanhelmond.nl/event/bordspelavond-4/
LOCATION:Wijkhuis de Fonkel\, Prins Karelstraat 123\, Helmond
CATEGORIES:Vermaak
ATTACH;FMTTYPE=image/jpeg:https://ikhouvanhelmond.nl/wp-content/uploads/2025/02/afbeelding-bordspelavond-gr.jpg
END:VEVENT
END:VCALENDAR