BEGIN:VCALENDAR
VERSION:2.0
PRODID:-//IK HOU VAN HELMOND - ECPv6.15.20//NONSGML v1.0//EN
CALSCALE:GREGORIAN
METHOD:PUBLISH
X-ORIGINAL-URL:https://ikhouvanhelmond.nl
X-WR-CALDESC:Evenementen voor IK HOU VAN HELMOND
REFRESH-INTERVAL;VALUE=DURATION:PT1H
X-Robots-Tag:noindex
X-PUBLISHED-TTL:PT1H
BEGIN:VTIMEZONE
TZID:UTC
BEGIN:STANDARD
TZOFFSETFROM:+0000
TZOFFSETTO:+0000
TZNAME:UTC
DTSTART:20240101T000000
END:STANDARD
END:VTIMEZONE
BEGIN:VEVENT
DTSTART;VALUE=DATE:20250426
DTEND;VALUE=DATE:20250427
DTSTAMP:20260419T145231
CREATED:20250314T130845Z
LAST-MODIFIED:20250314T130845Z
UID:1210-1745625600-1745711999@ikhouvanhelmond.nl
SUMMARY:Koningsmarkt Brouwhorst
DESCRIPTION:Een kraam huren kan via Jolique kidswear en kost €17\,50
URL:https://ikhouvanhelmond.nl/event/koningsmarkt-brouwhorst/
LOCATION:WC Brouwhorst\, Helmond
CATEGORIES:Vermaak
END:VEVENT
BEGIN:VEVENT
DTSTART;TZID=UTC:20250426T100000
DTEND;TZID=UTC:20250426T180000
DTSTAMP:20260419T145231
CREATED:20250211T161115Z
LAST-MODIFIED:20250211T161139Z
UID:660-1745661600-1745690400@ikhouvanhelmond.nl
SUMMARY:Koningsdag Brandevoort
DESCRIPTION:Het belooft weer een dag vol plezier\, muziek\, activiteiten en gezelligheid te worden voor jong en oud. \nProgramma volgt.
URL:https://ikhouvanhelmond.nl/event/koningsdag-brandevoort/
LOCATION:Markthal Brandevoort\, De Plaetse 117\, Helmond
CATEGORIES:Vermaak
ATTACH;FMTTYPE=image/jpeg:https://ikhouvanhelmond.nl/wp-content/uploads/2025/02/475099046_610210428616031_709553334041352786_n.png.jpeg
END:VEVENT
END:VCALENDAR