BEGIN:VCALENDAR
VERSION:2.0
PRODID:-//IK HOU VAN HELMOND - ECPv6.15.20//NONSGML v1.0//EN
CALSCALE:GREGORIAN
METHOD:PUBLISH
X-ORIGINAL-URL:https://ikhouvanhelmond.nl
X-WR-CALDESC:Evenementen voor IK HOU VAN HELMOND
REFRESH-INTERVAL;VALUE=DURATION:PT1H
X-Robots-Tag:noindex
X-PUBLISHED-TTL:PT1H
BEGIN:VTIMEZONE
TZID:UTC
BEGIN:STANDARD
TZOFFSETFROM:+0000
TZOFFSETTO:+0000
TZNAME:UTC
DTSTART:20240101T000000
END:STANDARD
END:VTIMEZONE
BEGIN:VEVENT
DTSTART;VALUE=DATE:20250419
DTEND;VALUE=DATE:20250420
DTSTAMP:20260419T145231
CREATED:20250328T093737Z
LAST-MODIFIED:20250328T093737Z
UID:1298-1745020800-1745107199@ikhouvanhelmond.nl
SUMMARY:Molukse dag
DESCRIPTION:Op zaterdag 19 april organiseert Bibliotheek Helmond-Peel een Molukse dag. Het programma: \n13.30 uur – 14.30 uur Boekbespreking: Mijn leven\, een dubbele spagaat\nHoe is het om te leven tussen twee werelden? Vincent Mastail\, de hoofdpersoon van ‘Mijn leven\, een dubbele spagaat’\, neemt je mee in zijn persoonlijke reis en laat unieke foto’s uit het verleden zien. Samen met auteur Frans Pennings bespreken ze de achtergrond van het boek en de Molukse gemeenschap in Nederland. Na de presentatie is er ruimte voor vragen\, een gesprek en de mogelijkheid om het boek te kopen met een handtekening. Ook is er tijd voor een gezamenlijke foto.\n👉🏼 meer info en tickets (gratis) https://helmondpeel.op-shop.nl/9950/boekbespreking-mijn-leven-een-dubbele-spagaat/19-04-2025 \n13.30 uur – 14.30 uur Potjes versieren met de naam van je dorp\nWaar komt jouw familie vandaan? Laat het zien met een uniek versierd potje!\nMolukse mensen zijn trots op hun afkomst en de dorpen waar hun familie vandaan komt. In deze workshop krijgen kinderen de kans om een potje te versieren met verf\, stickers en andere materialen. Op het potje schrijven of schilderen ze de naam van hun dorp\, zodat het een persoonlijk en betekenisvol aandenken wordt. Deze activiteit verbindt creativiteit met cultuur en erfgoed.\n👉🏼 meer info en tickets (gratis) https://helmondpeel.op-shop.nl/9951/potjes-versieren-met-de-naam-van-je-dorp/19-04-2025 \n13.30 uur – 14.30 uur Waaiers versieren\nTijdens deze activiteit krijgen kinderen de kans om hun eigen Molukse waaier te versieren. Ze kunnen kiezen uit verschillende materialen zoals verf\, stiften\, glitters en stickers om hun creatie zo mooi en uniek mogelijk te maken. Naast het plezier van knutselen\, leren de kinderen ook over de betekenis en het gebruik van waaiers in de Molukse cultuur. Een leuke en creatieve workshop voor jonge kunstenaars! Voor kinderen van 4-12 jaar en hun ouders.\n👉🏼 meer info en tickets (gratis) https://helmondpeel.op-shop.nl/9952/waaiers-versieren/19-04-2025 \n14.45 uur – 15.30 uur Voorlezen uit Moluks verhaal: De Boom vol Schatten\nTijdens deze voorleessessie maken kinderen kennis met het betoverende verhaal: De Boom vol Schatten. Een prachtig verhaal vol avontuur en wijsheid. Op een speelse manier leren ze meer over de Molukse cultuur en tradities. Na het voorlezen is er ruimte om na te praten en vragen te stellen. Een inspirerende activiteit die lezen en cultuur samenbrengt. Gratis toegankelijk\, aanmelden niet nodig. \n14.45 uur – 15.30 uur Molukse hapjes proeven\nOntdek de smaken van de Molukken! Tijdens deze proeverij maak je kennis met heerlijke Molukse hapjes\, bereid volgens authentieke recepten. Ontdek de smaken\, kruiden en verhalen achter deze gerechten en geniet van een gezellige sfeer. Er is ook ruimte om meer te leren over de betekenis van eten binnen de Molukse cultuur. Gratis toegankelijk\, aanmelden niet nodig. \n16.00 uur – 16.15 uur Traditionele Molukse dans\nKom genieten van een betoverende dansvoorstelling! Tijdens de voorstelling brengt een groep danseressen traditionele Molukse dansen tot leven in prachtige klederdracht. Na de voorstelling krijgen kinderen de kans om mee te dansen met hun zelfgemaakte waaiers. Dit is een geweldige gelegenheid om samen te genieten van de muziek en de dans en de rijke tradities van de Molukken te ervaren. Laat je inspireren en dans mee. Gratis toegankelijk\, aanmelden niet nodig. \n16.00 uur – 16.15 uur Molukse muziek\nKom genieten van een muzikale middag! Tijdens deze activiteit kun je luisteren naar traditionele Molukse muziek\, uitgevoerd door onze collega Sefanja. Zij wordt begeleid door gitaar en zal een selectie van mooie Molukse liedjes zingen. Dit is een geweldige gelegenheid om de sfeer van de Molukse cultuur te ervaren en mee te zingen. Sefanja zingt Molukse liederen met de Menari dansgroep. Gratis toegankelijk\, aanmelden niet nodig. \n  \n 
URL:https://ikhouvanhelmond.nl/event/molukse-dag/
LOCATION:Bibliotheek Helmond-Peel\, Watermolenwal 11\, Helmond
CATEGORIES:Vermaak
END:VEVENT
END:VCALENDAR