BEGIN:VCALENDAR
VERSION:2.0
PRODID:-//IK HOU VAN HELMOND - ECPv6.15.20//NONSGML v1.0//EN
CALSCALE:GREGORIAN
METHOD:PUBLISH
X-ORIGINAL-URL:https://ikhouvanhelmond.nl
X-WR-CALDESC:Evenementen voor IK HOU VAN HELMOND
REFRESH-INTERVAL;VALUE=DURATION:PT1H
X-Robots-Tag:noindex
X-PUBLISHED-TTL:PT1H
BEGIN:VTIMEZONE
TZID:UTC
BEGIN:STANDARD
TZOFFSETFROM:+0000
TZOFFSETTO:+0000
TZNAME:UTC
DTSTART:20240101T000000
END:STANDARD
END:VTIMEZONE
BEGIN:VEVENT
DTSTART;TZID=UTC:20250403T201500
DTEND;TZID=UTC:20250403T215000
DTSTAMP:20260419T145231
CREATED:20250314T120117Z
LAST-MODIFIED:20250314T120428Z
UID:1150-1743711300-1743717000@ikhouvanhelmond.nl
SUMMARY:Martijn Kardol - Fris
DESCRIPTION:Stel je kunt helemaal opnieuw beginnen. Gewoon een druk op de knop en je reset de boel. Hoe fijn zou dat zijn? Martijn Kardol heeft een poging tot een frisse start gewaagd: een kind\, een nieuwe woonplaats en een nieuwe voorstelling. Soms valt nu eenmaal alles samen. Te mooi om waar te zijn? Ja zeker\, want de Belastingdienst weet je nog steeds te vinden\, je blijkt toch iets meer op je ouders te lijken dan dat je voor ogen had en hoe ‘Fris’ ben je nog na anderhalf uur op het podium? \nWe komen allemaal wel op een punt in ons leven\, waarop een frisse start erg ‘Welkom’ is. ‘Bang’ dat je geschiedenis je blijft achtervolgen? Tsja\, dat is nu eenmaal ‘De Situatie’. En hoe ‘Ver van je bed’ het ook lijkt\, ooit komt het op je pad.   \n\n\n\n\n\nNa drie avondvullende cabaretprogramma’s en afgelopen theaterseizoen zijn musicaldebuut\, is Martijn terug in het theater met een nieuwe solo. Verwacht een mix van pijnlijk herkenbare situaties\, absurde wendingen en hilarische anekdotes. Na een avond met Martijn zijn je buikspieren weer getraind en kun je de boel weer prima relativeren. \nPRIKKELARM THEATERBEZOEK\nBij deze voorstelling wordt een prikkelarme ervaring aangeboden voor mensen die prikkelgevoelig zijn. Ben jij prikkelgevoelig en is een avondje uit (soms) te veel voor je?  Als theater zorgen we ervoor dat er zo min mogelijk prikkels aanwezig zijn tijdens je bezoek. \nReserveren prikkelarm\nHet boeken van tickets voor voorstellingen met prikkelarme faciliteiten is niet mogelijk via de website.\nBel voor meer informatie\, het bespreken van jouw wensen en/of het bestellen van kaarten met de Theaterkassa: 0492-587000 of mail naar bespreekbureau@theaterspeelhuis.nl. \nEr is slechts een beperkt aantal tickets beschikbaar voor prikkelarm theaterbezoek.
URL:https://ikhouvanhelmond.nl/event/martijn-kardol-fris/
LOCATION:Theater het Speelhuis\, Speelhuisplein 2\, Helmond
CATEGORIES:Vermaak
ATTACH;FMTTYPE=image/jpeg:https://ikhouvanhelmond.nl/wp-content/uploads/2025/03/img33939_orig.jpg
END:VEVENT
END:VCALENDAR