BEGIN:VCALENDAR
VERSION:2.0
PRODID:-//IK HOU VAN HELMOND - ECPv6.15.20//NONSGML v1.0//EN
CALSCALE:GREGORIAN
METHOD:PUBLISH
X-WR-CALNAME:IK HOU VAN HELMOND
X-ORIGINAL-URL:https://ikhouvanhelmond.nl
X-WR-CALDESC:Evenementen voor IK HOU VAN HELMOND
REFRESH-INTERVAL;VALUE=DURATION:PT1H
X-Robots-Tag:noindex
X-PUBLISHED-TTL:PT1H
BEGIN:VTIMEZONE
TZID:UTC
BEGIN:STANDARD
TZOFFSETFROM:+0000
TZOFFSETTO:+0000
TZNAME:UTC
DTSTART:20240101T000000
END:STANDARD
END:VTIMEZONE
BEGIN:VEVENT
DTSTART;TZID=UTC:20250320T190000
DTEND;TZID=UTC:20250320T220000
DTSTAMP:20260419T162013
CREATED:20250225T071332Z
LAST-MODIFIED:20250225T071332Z
UID:934-1742497200-1742508000@ikhouvanhelmond.nl
SUMMARY:Tafeltoppers - Unplugged with Plume
DESCRIPTION:Beleef een smaakvolle en gezellige avond uit in onze brasserie met Tafeltoppers! Een donderdagavond per maand staat er een fantastische liveshow + viergangendiner op het menu voor €49\,95. \n\n\n\nThe Voice Of Holland-winnaar Pleun Bierbooms\, bekend als Plume\, trakteert je op een akoestische liveshow tijdens deze tweede editie van Tafeltoppers. Met een nostalgische sfeer en een stijl geïnspireerd door de muziek uit de jaren ’50 en ’60 zorgt ze voor een betoverend optreden in onze brasserie.
URL:https://ikhouvanhelmond.nl/event/tafeltoppers-unplugged-with-plume/
LOCATION:De Cacaofabriek\, Cacaokade 1\, Helmond
CATEGORIES:Vermaak
END:VEVENT
BEGIN:VEVENT
DTSTART;TZID=UTC:20250320T200000
DTEND;TZID=UTC:20250320T210000
DTSTAMP:20260419T162013
CREATED:20250314T140627Z
LAST-MODIFIED:20250314T140657Z
UID:1223-1742500800-1742504400@ikhouvanhelmond.nl
SUMMARY:Gierige Gerda - Geld besparen voor een rijker leven
DESCRIPTION:Bij het horen van het woord ‘besparen’ schieten veel mensen in de verdediging. Als je bespaart moet je dingen opgeven\, moet je soberder gaan leven en al je kostbare vrije tijd opgeven om alle supermarktaanbiedingen af te gaan. Gelukkig is dit niet zo bij de methode die levensgenieter Minke van Kuijen erop nahoudt. Minke is beter bekend als ‘Gierige Gerda’. \nIn deze lezing focussen we ons ten eerste op het besparen op de boodschappen. En dan zonder elke week zes supermarkten af te gaan op zoek naar de allerbeste deals. Wat is bijvoorbeeld het verschil tussen een aanbieding en een deal? Straks weet jij hoe je deze moet spotten. Ook wordt het belang van een goede voorraadkast behandeld\, net als wat er nou eigenlijk allemaal in moet. \nNa afloop heb jij een goede basis waar je thuis mee aan de slag kunt\, zodat je kunt besparen voor een rijker leven en alles uit je geld kunt halen! \nAanmelden\nWil je zeker zijn van een plekje bij deze lezing? Meld je dan aan. Vol is vol!\nBij te weinig aanmeldingen kan de lezing geannuleerd worden. Meld je dus vooraf aan als je aanwezig wilt zijn.
URL:https://ikhouvanhelmond.nl/event/gierige-gerda-geld-besparen-voor-een-rijker-leven/
LOCATION:Bibliotheek Helmond-Peel\, Watermolenwal 11\, Helmond
CATEGORIES:Vermaak
ATTACH;FMTTYPE=image/jpeg:https://ikhouvanhelmond.nl/wp-content/uploads/2025/03/668e4b10209b1.jpg
END:VEVENT
END:VCALENDAR