BEGIN:VCALENDAR
VERSION:2.0
PRODID:-//IK HOU VAN HELMOND - ECPv6.15.20//NONSGML v1.0//EN
CALSCALE:GREGORIAN
METHOD:PUBLISH
X-ORIGINAL-URL:https://ikhouvanhelmond.nl
X-WR-CALDESC:Evenementen voor IK HOU VAN HELMOND
REFRESH-INTERVAL;VALUE=DURATION:PT1H
X-Robots-Tag:noindex
X-PUBLISHED-TTL:PT1H
BEGIN:VTIMEZONE
TZID:UTC
BEGIN:STANDARD
TZOFFSETFROM:+0000
TZOFFSETTO:+0000
TZNAME:UTC
DTSTART:20240101T000000
END:STANDARD
END:VTIMEZONE
BEGIN:VEVENT
DTSTART;TZID=UTC:20250316T170000
DTEND;TZID=UTC:20250316T220000
DTSTAMP:20260419T162236
CREATED:20250305T141941Z
LAST-MODIFIED:20250305T141941Z
UID:1028-1742144400-1742162400@ikhouvanhelmond.nl
SUMMARY:Dinnershow Luxurious
DESCRIPTION:Dinnershow Luxurious staat garant voor een ultieme avond uit samen met uw vrienden\, relaties of collega’s waarin u wordt verwend met heerlijke gerechten en top entertainment waarbij wij verzekeren dat stil blijven zitten echt niet mogelijk is. Een exclusieve avond uit waarbij u geniet van een 5 gangen diner\, een onbeperkt drankarrangement\, een welkomstborrel en top entertainment. \nMet Glennis Grace\, Mike Peterson\, Jeffrey Kuipers\, Denny Braaf\, Frans van Adrichem en Bart van Dishoeck wordt dit een heerlijke avond om nooit te vergeten!
URL:https://ikhouvanhelmond.nl/event/dinnershow-luxurious-2/
LOCATION:De Traverse\, Steenweg 19\, Helmond
CATEGORIES:Vermaak
END:VEVENT
END:VCALENDAR