BEGIN:VCALENDAR
VERSION:2.0
PRODID:-//IK HOU VAN HELMOND - ECPv6.15.20//NONSGML v1.0//EN
CALSCALE:GREGORIAN
METHOD:PUBLISH
X-WR-CALNAME:IK HOU VAN HELMOND
X-ORIGINAL-URL:https://ikhouvanhelmond.nl
X-WR-CALDESC:Evenementen voor IK HOU VAN HELMOND
REFRESH-INTERVAL;VALUE=DURATION:PT1H
X-Robots-Tag:noindex
X-PUBLISHED-TTL:PT1H
BEGIN:VTIMEZONE
TZID:UTC
BEGIN:STANDARD
TZOFFSETFROM:+0000
TZOFFSETTO:+0000
TZNAME:UTC
DTSTART:20240101T000000
END:STANDARD
END:VTIMEZONE
BEGIN:VEVENT
DTSTART;TZID=UTC:20250314T190000
DTEND;TZID=UTC:20250314T235900
DTSTAMP:20260419T162012
CREATED:20250305T141749Z
LAST-MODIFIED:20250305T141749Z
UID:1026-1741978800-1741996740@ikhouvanhelmond.nl
SUMMARY:Dinnershow Luxurious
DESCRIPTION:Dinnershow Luxurious staat garant voor een ultieme avond uit samen met uw vrienden\, relaties of collega’s waarin u wordt verwend met heerlijke gerechten en top entertainment waarbij wij verzekeren dat stil blijven zitten echt niet mogelijk is. \nEen exclusieve avond uit waarbij u geniet van een 5 gangen diner\, een onbeperkt drankarrangement\, een welkomstborrel en top entertainment. \nMet John West\, Mike Peterson\, Kimberly Fransens\, Denny Braaf\, Frans van Adrichem en Bart van Dishoeck wordt dit een heerlijke avond om nooit te vergeten!
URL:https://ikhouvanhelmond.nl/event/dinnershow-luxurious/
LOCATION:De Traverse\, Steenweg 19\, Helmond
CATEGORIES:Vermaak
END:VEVENT
BEGIN:VEVENT
DTSTART;TZID=UTC:20250314T203000
DTEND;TZID=UTC:20250314T230000
DTSTAMP:20260419T162012
CREATED:20250305T135726Z
LAST-MODIFIED:20250305T142235Z
UID:1001-1741984200-1741993200@ikhouvanhelmond.nl
SUMMARY:Pubquiz @ Muziekcafé
DESCRIPTION:💡 Test jouw kennis!\nDoe mee aan onze gezellige en uitdagende pubquiz! Verzamel je slimste vrienden en strijd om de eer én leuke prijzen. Het belooft een avond vol plezier\, spanning en gezelligheid te worden. \n💰 Kosten: €20 per team\n👥 Maximaal aantal personen per team: 4 \nAanmelden kan aan de bar en via https://www.ticketview.nl/shop/muziekcafehelmond?eventID=6137. Geef hierin de naam van je team door en het aantal deelnemers. Wees er snel bij\, want vol = vol! \nTot dan\, en laat je hersens kraken!
URL:https://ikhouvanhelmond.nl/event/pubquiz-muziekcafe/
LOCATION:Muziekcafe\, Zuid Koninginnewal 39\, Helmond
CATEGORIES:Vermaak
END:VEVENT
END:VCALENDAR