BEGIN:VCALENDAR
VERSION:2.0
PRODID:-//IK HOU VAN HELMOND - ECPv6.15.20//NONSGML v1.0//EN
CALSCALE:GREGORIAN
METHOD:PUBLISH
X-ORIGINAL-URL:https://ikhouvanhelmond.nl
X-WR-CALDESC:Evenementen voor IK HOU VAN HELMOND
REFRESH-INTERVAL;VALUE=DURATION:PT1H
X-Robots-Tag:noindex
X-PUBLISHED-TTL:PT1H
BEGIN:VTIMEZONE
TZID:UTC
BEGIN:STANDARD
TZOFFSETFROM:+0000
TZOFFSETTO:+0000
TZNAME:UTC
DTSTART:20240101T000000
END:STANDARD
END:VTIMEZONE
BEGIN:VEVENT
DTSTART;VALUE=DATE:20250704
DTEND;VALUE=DATE:20250705
DTSTAMP:20260423T090457
CREATED:20250627T141346Z
LAST-MODIFIED:20250627T141346Z
UID:2087-1751587200-1751673599@ikhouvanhelmond.nl
SUMMARY:Lerarenborrel
DESCRIPTION:Lerarenborrel – 4 juli Café Franske\, de Kade en de Kapper op Harbourstreet\, Helmond \n\nHet is inmiddels een vaste traditie\, en dit jaar wordt het grootser dan ooit!\n Live optreden van De Heren van! – dé partyband bij uitstek\n DJ tot in de late uurtjes – dansen gegarandeerd\n Gezelligheid en muziek op een zwoele zomeravond\n\nMis het niet! Zet 4 juli in je agenda en kom borrelen op Harbourstreet!\nEn niet alleen toegang voor onderwijstoppers – spread the word!
URL:https://ikhouvanhelmond.nl/event/lerarenborrel/
LOCATION:Havenweg\, Helmond
CATEGORIES:Vermaak
ATTACH;FMTTYPE=image/jpeg:https://ikhouvanhelmond.nl/wp-content/uploads/2025/06/IMG_9606.jpg
END:VEVENT
BEGIN:VEVENT
DTSTART;VALUE=DATE:20250705
DTEND;VALUE=DATE:20250707
DTSTAMP:20260423T090457
CREATED:20250604T092601Z
LAST-MODIFIED:20250604T092601Z
UID:1852-1751673600-1751846399@ikhouvanhelmond.nl
SUMMARY:Kennedymars
DESCRIPTION:Kennedymars Someren is een groots wandelevenement waarbij duizenden wandelaars de uitdaging aangaan om 80 (Kennedymars) kilometer te wandelen.  Tijdens de wandelronde komen de lopers ook door Helmond. De verwachte doorkomsttijden zijn: \n\nCentrum Helmond: 00.00 – 05.15 uur\nBrandevoort: 00.45 – 06.30 uur\n\nMeer info over de Kennedeymars in Helmond vind je op https://www.kennedymars.nl/.
URL:https://ikhouvanhelmond.nl/event/kennedymars/
LOCATION:Helmond
CATEGORIES:Vermaak
ATTACH;FMTTYPE=image/jpeg:https://ikhouvanhelmond.nl/wp-content/uploads/2025/06/kennedy-mars-doorkomst-Asten-2017-3.jpg
END:VEVENT
BEGIN:VEVENT
DTSTART;TZID=UTC:20250710T103000
DTEND;TZID=UTC:20250710T113000
DTSTAMP:20260423T090457
CREATED:20250617T124314Z
LAST-MODIFIED:20250617T124314Z
UID:1978-1752143400-1752147000@ikhouvanhelmond.nl
SUMMARY:Hellemonds kwèèk uurtje
DESCRIPTION:Kom d’r gezellig bij zitten tijdens het Hellemonds kwèèk uurtje in Bibliotheek Helmond! Deze zomer gaat Haw ut Hellemonds iedere donderdagochtend aan de ontmoettafel met jou in gesprek – in ons eigen\, vertrouwde Helmonds dialect. \nSamen kletsen we over wat er speelt in de stad\, delen we verhalen van vroeger én van nu en lachen we om herkenbare uitspraken of gezegdes. Geen ingewikkeld programma\, maar gewoon gezelligheid\, ontmoeting en een goed gesprek in het Hellemonds. \nHaw ut Hellemonds zorgt voor de sfeer\, de gezelligheid én een flinke dosis Helmondse humor. \nIedereen is welkom om aan te schuiven\, als je het maar leuk vindt om in dialect te praten of als je mee wil luisteren. Aanschuiven is gratis maar een plekje reserveren is verplicht. \nThema: Hellemondse zommerkermis
URL:https://ikhouvanhelmond.nl/event/hellemonds-kweek-uurtje/
LOCATION:Bibliotheek Helmond-Peel\, Watermolenwal 11\, Helmond
CATEGORIES:Vermaak
END:VEVENT
BEGIN:VEVENT
DTSTART;VALUE=DATE:20250711
DTEND;VALUE=DATE:20250717
DTSTAMP:20260423T090457
CREATED:20250207T193847Z
LAST-MODIFIED:20250207T193847Z
UID:500-1752192000-1752710399@ikhouvanhelmond.nl
SUMMARY:Zomerkermis Helmond centrum
DESCRIPTION:De kermis wordt ook in 2025 weer een groot feest waar iedereen welkom is. Dus of je nu plezier met je vrienden wil hebben of zin hebt in een leuke dag uit voor het hele gezin\, kom naar de Helmond Kermis!
URL:https://ikhouvanhelmond.nl/event/zomerkermis-helmond-centrum/
LOCATION:Helmond centrum
CATEGORIES:Vermaak
ATTACH;FMTTYPE=image/jpeg:https://ikhouvanhelmond.nl/wp-content/uploads/2025/02/IMG_0541-scaled.jpg
END:VEVENT
BEGIN:VEVENT
DTSTART;TZID=UTC:20250717T103000
DTEND;TZID=UTC:20250717T113000
DTSTAMP:20260423T090457
CREATED:20250617T124425Z
LAST-MODIFIED:20250617T124425Z
UID:1981-1752748200-1752751800@ikhouvanhelmond.nl
SUMMARY:Hellemonds kwèèk uurtje
DESCRIPTION:Kom d’r gezellig bij zitten tijdens het Hellemonds kwèèk uurtje in Bibliotheek Helmond! Deze zomer gaat Haw ut Hellemonds iedere donderdagochtend aan de ontmoettafel met jou in gesprek – in ons eigen\, vertrouwde Helmonds dialect. \nSamen kletsen we over wat er speelt in de stad\, delen we verhalen van vroeger én van nu en lachen we om herkenbare uitspraken of gezegdes. Geen ingewikkeld programma\, maar gewoon gezelligheid\, ontmoeting en een goed gesprek in het Hellemonds. \nHaw ut Hellemonds zorgt voor de sfeer\, de gezelligheid én een flinke dosis Helmondse humor. \nIedereen is welkom om aan te schuiven\, als je het maar leuk vindt om in dialect te praten of als je mee wil luisteren. Aanschuiven is gratis maar een plekje reserveren is verplicht. \nThema: Hellemondse verhalen en gedichten
URL:https://ikhouvanhelmond.nl/event/hellemonds-kweek-uurtje-2/
LOCATION:Bibliotheek Helmond-Peel\, Watermolenwal 11\, Helmond
CATEGORIES:Vermaak
END:VEVENT
BEGIN:VEVENT
DTSTART;TZID=UTC:20250720T110000
DTEND;TZID=UTC:20250720T170000
DTSTAMP:20260423T090457
CREATED:20250716T090151Z
LAST-MODIFIED:20250716T090151Z
UID:2117-1753009200-1753030800@ikhouvanhelmond.nl
SUMMARY:Platenbeurs
DESCRIPTION:In samenwerking met Ray Elpee uit Eindhoven organiseert de Cacaofabriek weer een buiteneditie van de platenbeurs. Voer voor verzamelaars dus! \n\n\nHeel veel CD’s en natuurlijk vinyl op deze beurs. Zowel singletjes als albums op mooi zwart vinyl. Muziek\, drankje\, hapje\, terrasje\, gezelligheid en een zonnetje. Daar gaan we voor! De beurs start om 11.00 uur en duurt tot 17.00 uur Entree is gratis!
URL:https://ikhouvanhelmond.nl/event/platenbeurs/
LOCATION:De Cacaofabriek\, Cacaokade 1\, Helmond
CATEGORIES:Vermaak
ATTACH;FMTTYPE=image/jpeg:https://ikhouvanhelmond.nl/wp-content/uploads/2025/07/Platenbeurs-Helmond-scaled.jpg
END:VEVENT
BEGIN:VEVENT
DTSTART;TZID=UTC:20250724T103000
DTEND;TZID=UTC:20250724T113000
DTSTAMP:20260423T090457
CREATED:20250617T124531Z
LAST-MODIFIED:20250617T124531Z
UID:1983-1753353000-1753356600@ikhouvanhelmond.nl
SUMMARY:Hellemonds kwèèk uurtje
DESCRIPTION:Kom d’r gezellig bij zitten tijdens het Hellemonds kwèèk uurtje in Bibliotheek Helmond! Deze zomer gaat Haw ut Hellemonds iedere donderdagochtend aan de ontmoettafel met jou in gesprek – in ons eigen\, vertrouwde Helmonds dialect. \nSamen kletsen we over wat er speelt in de stad\, delen we verhalen van vroeger én van nu en lachen we om herkenbare uitspraken of gezegdes. Geen ingewikkeld programma\, maar gewoon gezelligheid\, ontmoeting en een goed gesprek in het Hellemonds. \nHaw ut Hellemonds zorgt voor de sfeer\, de gezelligheid én een flinke dosis Helmondse humor. \nIedereen is welkom om aan te schuiven\, als je het maar leuk vindt om in dialect te praten of als je mee wil luisteren. Aanschuiven is gratis maar een plekje reserveren is verplicht. \nThema: Toekomst Hellemonds dialect
URL:https://ikhouvanhelmond.nl/event/hellemonds-kweek-uurtje-3/
LOCATION:Bibliotheek Helmond-Peel\, Watermolenwal 11\, Helmond
CATEGORIES:Vermaak
END:VEVENT
BEGIN:VEVENT
DTSTART;TZID=UTC:20250726T110000
DTEND;TZID=UTC:20250726T170000
DTSTAMP:20260423T090457
CREATED:20250225T071727Z
LAST-MODIFIED:20250716T094740Z
UID:940-1753527600-1753549200@ikhouvanhelmond.nl
SUMMARY:Platenbeurs
DESCRIPTION:Gratis toegankelijke platen- en cd-markt. Deelnemers uit binnen- en buitenland bieden hun mooiste lp’s\, goedkoopste cd’s en zeldzaamste singles te koop aan: van Hollands tot House\, van Hip Hop tot Heavy Metal en van spotgoedkoop tot onbetaalbaar.
URL:https://ikhouvanhelmond.nl/event/platenbeurs-elzas-helmond/
LOCATION:Elzaspassage\, Helmond
CATEGORIES:Vermaak
ATTACH;FMTTYPE=image/jpeg:https://ikhouvanhelmond.nl/wp-content/uploads/2025/07/Platenbeurs-Helmond-scaled.jpg
END:VEVENT
BEGIN:VEVENT
DTSTART;TZID=UTC:20250726T150000
DTEND;TZID=UTC:20250726T220000
DTSTAMP:20260423T090457
CREATED:20250717T070659Z
LAST-MODIFIED:20250717T070659Z
UID:2140-1753542000-1753567200@ikhouvanhelmond.nl
SUMMARY:Sunset Sessions
DESCRIPTION:SUNSET SESSIONS hits Bobby’s Beach Helmond! \n\n\nReady to party? Op zaterdag 26 juli 2025 tillen The Boy Next Door\, Franky Franklin\, Dalû\, DJ Givano en Jammik jouw beach vibes naar een hoger level! \n\n\n House. Tech House. Hits. Non-stop energy.\n 15:00 – 22:00\n GRATIS ENTREE!\n Bobby’s Beach Helmond
URL:https://ikhouvanhelmond.nl/event/sunset-sessions/
LOCATION:Bobby’s Beach\, Steenweg 11
CATEGORIES:Vermaak
ATTACH;FMTTYPE=image/jpeg:https://ikhouvanhelmond.nl/wp-content/uploads/2025/07/Sunset-sessions-Helmond.jpg
END:VEVENT
BEGIN:VEVENT
DTSTART;TZID=UTC:20250727T120000
DTEND;TZID=UTC:20250727T170000
DTSTAMP:20260423T090457
CREATED:20250425T191304Z
LAST-MODIFIED:20250526T115844Z
UID:1609-1753617600-1753635600@ikhouvanhelmond.nl
SUMMARY:Vlooienmarkt op de Markt
DESCRIPTION:Op de laatste zondag van de maanden mei\, juni en juli organiseert Ik hou van Helmond een vlooienmarkt op de Markt in Helmond. Op deze zondagen kunnen particulieren een kleedje neerleggen en hun spullen verkopen. Bezoekers kunnen gezellig rondsnuffelen én meteen een terrasje pakken of gaan shoppen\, want het is ook koopzondag! \nZelf iets verkopen? Dat kan! Voor €10 huur je een plek (alleen kleedjes\, geen kramen).\nKijk voor meer info op de pagina Vlooienmarkt op de Markt.
URL:https://ikhouvanhelmond.nl/event/vlooienmarkt-op-de-markt-3/
LOCATION:Markt\, Helmond
CATEGORIES:Vermaak
ATTACH;FMTTYPE=image/jpeg:https://ikhouvanhelmond.nl/wp-content/uploads/2025/04/vlooienmarkt-helmond-markt-scaled.jpg
ORGANIZER;CN="Ik hou van Helmond":MAILTO:judith@ikhouvanhelmond.nl
END:VEVENT
BEGIN:VEVENT
DTSTART;TZID=UTC:20250731T103000
DTEND;TZID=UTC:20250731T113000
DTSTAMP:20260423T090457
CREATED:20250617T124652Z
LAST-MODIFIED:20250617T124652Z
UID:1985-1753957800-1753961400@ikhouvanhelmond.nl
SUMMARY:Hellemonds kwèèk uurtje
DESCRIPTION:Kom d’r gezellig bij zitten tijdens het Hellemonds kwèèk uurtje in Bibliotheek Helmond! Deze zomer gaat Haw ut Hellemonds iedere donderdagochtend aan de ontmoettafel met jou in gesprek – in ons eigen\, vertrouwde Helmonds dialect. \nSamen kletsen we over wat er speelt in de stad\, delen we verhalen van vroeger én van nu en lachen we om herkenbare uitspraken of gezegdes. Geen ingewikkeld programma\, maar gewoon gezelligheid\, ontmoeting en een goed gesprek in het Hellemonds. \nHaw ut Hellemonds zorgt voor de sfeer\, de gezelligheid én een flinke dosis Helmondse humor. \nIedereen is welkom om aan te schuiven\, als je het maar leuk vindt om in dialect te praten of als je mee wil luisteren. Aanschuiven is gratis maar een plekje reserveren is verplicht. \nThema: Hellemondse skèlktnamen
URL:https://ikhouvanhelmond.nl/event/hellemonds-kweek-uurtje-4/
LOCATION:Bibliotheek Helmond-Peel\, Watermolenwal 11\, Helmond
CATEGORIES:Vermaak
END:VEVENT
END:VCALENDAR