BEGIN:VCALENDAR
VERSION:2.0
PRODID:-//IK HOU VAN HELMOND - ECPv6.15.20//NONSGML v1.0//EN
CALSCALE:GREGORIAN
METHOD:PUBLISH
X-ORIGINAL-URL:https://ikhouvanhelmond.nl
X-WR-CALDESC:Evenementen voor IK HOU VAN HELMOND
REFRESH-INTERVAL;VALUE=DURATION:PT1H
X-Robots-Tag:noindex
X-PUBLISHED-TTL:PT1H
BEGIN:VTIMEZONE
TZID:UTC
BEGIN:STANDARD
TZOFFSETFROM:+0000
TZOFFSETTO:+0000
TZNAME:UTC
DTSTART:20240101T000000
END:STANDARD
END:VTIMEZONE
BEGIN:VEVENT
DTSTART;TZID=UTC:20250211T193000
DTEND;TZID=UTC:20250211T230000
DTSTAMP:20260419T162014
CREATED:20250207T195610Z
LAST-MODIFIED:20250207T200237Z
UID:506-1739302200-1739314800@ikhouvanhelmond.nl
SUMMARY:Bordspelavond
DESCRIPTION:Iedere tweede dinsdag van de maand organiseert wijkhuis De Fonkel een bordspelavond. Toegang is gratis en het eerste drankje ook. Je bent welkom vanaf 19.30 uur en aanmelden is niet nodig. Kom gezellig langs om sfeer te proeven en te kijken of het iets voor je is. Er zijn diverse spellen aanwezig maar je mag ook zelf iets meenemen.
URL:https://ikhouvanhelmond.nl/event/bordspelavond/
LOCATION:Wijkhuis de Fonkel\, Prins Karelstraat 123\, Helmond
CATEGORIES:Vermaak
ATTACH;FMTTYPE=image/jpeg:https://ikhouvanhelmond.nl/wp-content/uploads/2025/02/afbeelding-bordspelavond-gr.jpg
END:VEVENT
BEGIN:VEVENT
DTSTART;TZID=UTC:20250216T160000
DTEND;TZID=UTC:20250216T181500
DTSTAMP:20260419T162014
CREATED:20250211T200118Z
LAST-MODIFIED:20250211T200118Z
UID:688-1739721600-1739729700@ikhouvanhelmond.nl
SUMMARY:lagarde live | exclusieve try-out
DESCRIPTION:Alfred Lagarde was een iconische DJ die (live) rockmuziek groot maakte in Nederland. Hij haalde bands als Toto en Mother’s Finest naar Nederland en gaf ook Nederlandse acts zoals Van Halen\, Vandenberg\, Golden Earring en Vitesse een podium in radioshows als Betonuur en Countdown Café. Alfred was ook een doorgewinterde rock-‘n-roll-liefhebber die ‘harder leefde’ dan zijn favoriete rockartiesten waarmee hij vaak een intense band had. En zijn invloed leeft voort\, zelfs na zijn plotselinge overlijden in 1998. \n\n\n\nIn 2023 lanceerde DJ Tim op het Broek een podcastserie over het leven van Alfred Lagarde. Een eerbetoon aan een radiopionier met bijdragen van collega-DJ’s\, artiesten\, vrienden en familie. Lagarde Live! is de volgende stap\, waarin ook muzikanten zich aansluiten. Alfred zei altijd: ‘’Rock ‘n’ Roll is better than music”. \nOm dit te beleven keren we terug naar de sfeer van het legendarische Countdown Café. Tim deelt unieke verhalen en exclusieve geluidsfragmenten van Alfred\, terwijl de Big AL Band de muziek speelt van artiesten die Alfred groot maakte en waar de bandleden zelf fan van waren. Countdown Café was dé plek om je helden live te horen spelen\, en dat gevoel brengen we terug. \nAan de podcastserie werkten mee: Adam Curry\, Kees Baars\, Simone Walraven\, Jeroen van Inkel\, Steve Lukather (Toto)\, Jerry Seay (Mothers Finest)\, Adje Vandenberg (Vandenberg)\, Gerard Ekdom\, Wessel van Diepen en Kim Lagarde (zoon van Alfred).
URL:https://ikhouvanhelmond.nl/event/lagarde-live-exclusieve-try-out/
LOCATION:De Cacaofabriek\, Cacaokade 1\, Helmond
CATEGORIES:Vermaak
END:VEVENT
BEGIN:VEVENT
DTSTART;TZID=UTC:20250220T190000
DTEND;TZID=UTC:20250220T220000
DTSTAMP:20260419T162014
CREATED:20250211T200955Z
LAST-MODIFIED:20250211T200955Z
UID:692-1740078000-1740088800@ikhouvanhelmond.nl
SUMMARY:Tafeltoppers
DESCRIPTION:Beleef een smaakvolle en gezellige avond uit in onze brasserie met Tafeltoppers! Elke derde donderdagavond van de maand staat er een fantastische liveshow + viergangendiner* op het menu voor €49\,95. \n\n\n\nOp donderdag 20 februari trappen we de allereerste editie af met de Dragqueen Muziekbingo. Miss Rox Monroe\, Ma’ma Queen en DJ Fantax maken er een groot feestje van. Bereid je dus voor op een avond vol glitter & glamour\, meezingers en gezelligheid!
URL:https://ikhouvanhelmond.nl/event/tafeltoppers/
LOCATION:De Cacaofabriek\, Cacaokade 1\, Helmond
CATEGORIES:Vermaak
END:VEVENT
BEGIN:VEVENT
DTSTART;TZID=UTC:20250222T193000
DTEND;TZID=UTC:20250222T230000
DTSTAMP:20260419T162014
CREATED:20250208T161038Z
LAST-MODIFIED:20250208T162337Z
UID:601-1740252600-1740265200@ikhouvanhelmond.nl
SUMMARY:Kletsavond CV de Rampetampers
DESCRIPTION:Prins Ralf d’n Urste der Rampetampers nodigt u van harte uit op de kletsavond met 4 kletsers en 2 amusementsgroepen. \nOp zaterdag  22 februari 2025  komen in de ton: \n\nMarina Wilbers\nBerry Knapen\nTwan van Oers\nPeter van der Maas\n\nAls amusement: \n\nde Taverne Boys\nKuub\n\nDe muzikale omlijsting is in handen van  de Durbloazers\, terwijl de techniek in handen is van HEG. Uiteraard geven de dansgardes van de Rampetampers ook acte de présence.
URL:https://ikhouvanhelmond.nl/event/kletsavond-cv-de-rampetampers/
LOCATION:Wijkhuis de Fonkel\, Prins Karelstraat 123\, Helmond
CATEGORIES:Vermaak
END:VEVENT
BEGIN:VEVENT
DTSTART;TZID=UTC:20250226T200000
DTEND;TZID=UTC:20250226T233000
DTSTAMP:20260419T162014
CREATED:20250224T105201Z
LAST-MODIFIED:20250224T105247Z
UID:850-1740600000-1740612600@ikhouvanhelmond.nl
SUMMARY:Kluppel Daupfist
DESCRIPTION:Traditioneel is op de woensdagavond voor carnaval het “Kluppel Daupfist”. \nHet evenement “Kluppel Daupfist” wordt in stijl gehouden. Verdeeld over de avond zullen in 3 blokken een 20-tal mensen worden gedoopt d.m.v. een grote of kleine daup. Het dopen wordt afgewisseld door muziek van de Durbloazers. Tijdens dit evenement wordt op deze avond zowel onze eigen prins en prinsen van bevriende carnavalsverenigingen gedoopt omdat ze niet ongedoopt de carnaval in mogen. \nTevens wordt er op aangeven van besturen van diversen Houtse verenigingen eveneens mensen gedoopt die in het lopende jaar op een bijzondere wijze binnen de betreffende vereniging zich verdienstelijk gemaakt hebben. Iedereen is op deze avond van harte welkom.\nDe toegang is gratis.
URL:https://ikhouvanhelmond.nl/event/daupfist/
LOCATION:De Geseldonk\, Cederhoutstraat 44\, Helmond
CATEGORIES:Vermaak
ATTACH;FMTTYPE=image/jpeg:https://ikhouvanhelmond.nl/wp-content/uploads/2025/02/daupfist.jpg
END:VEVENT
BEGIN:VEVENT
DTSTART;TZID=UTC:20250228T150000
DTEND;TZID=UTC:20250228T220000
DTSTAMP:20260419T162014
CREATED:20250211T201509Z
LAST-MODIFIED:20250211T201509Z
UID:698-1740754800-1740780000@ikhouvanhelmond.nl
SUMMARY:Onderwijs carnavalsbal
DESCRIPTION:Het Onderwijs Carnavalsbal staat weer op het programma in De Cacaofabriek! Ook dit jaar belooft het weer een gezellige opening van de carnaval te worden. \n\n\nTijdens het Onderwijs Carnavalsbal worden\, traditiegetrouw\, de gekste carnavals-hits gedraaid en de lekkerste hapjes uitgedeeld. Met de line-up is feest gegarandeerd! Draaimakers en Noaffection draaien de leukste hits. Gullie en Geen stempel verzorgen allebei een geweldig live optreden. Trommel dus je collega’s en alle andere carnavalsvierders op voor de gezelligste opening van de carnaval!
URL:https://ikhouvanhelmond.nl/event/onderwijs-carnavalsbal/
LOCATION:De Cacaofabriek\, Cacaokade 1\, Helmond
CATEGORIES:Vermaak
END:VEVENT
BEGIN:VEVENT
DTSTART;TZID=UTC:20250228T153000
DTEND;TZID=UTC:20250228T203000
DTSTAMP:20260419T162014
CREATED:20250207T202721Z
LAST-MODIFIED:20250207T202721Z
UID:524-1740756600-1740774600@ikhouvanhelmond.nl
SUMMARY:Vurgloeie
DESCRIPTION:Dé perfecte manier om je carnavalsweekend af te trappen! Op het Mizunallen-plein in het hart van de stad zorgen topartiesten ervoor dat je helemaal in de carnavalsstemming komt. De toegang voor deze grootste vrijdagmiddagborrel voor carnaval is helemaal gratis! \nKom met collega’s\, vrienden of vage kennissen naar dé preparty van het Helmonds carnaval! Na afloop kun je het feest verder laten knallen bij de horeca in de stad\, waar het dan al volop los gaat. \nDe Line-up van Vurgloeie:\nHet Feestteam\, Dansado & de Feestmeester\, Papa Lauda\, Zanger Rens\, Hitmaestro & Hofkapel de Klinkers
URL:https://ikhouvanhelmond.nl/event/vurgloeie/
LOCATION:Mizunallenplein\, Steenweg 1\, Helmond
CATEGORIES:Vermaak
END:VEVENT
BEGIN:VEVENT
DTSTART;TZID=UTC:20250228T180000
DTEND;TZID=UTC:20250228T230000
DTSTAMP:20260419T162014
CREATED:20250218T125715Z
LAST-MODIFIED:20250218T125715Z
UID:801-1740765600-1740783600@ikhouvanhelmond.nl
SUMMARY:5 uurkes vurraf
DESCRIPTION:CV De Kluppels organiseert ook dit jaar het evenement 5 Uurkes Vuraf. We willen beginnen rond de klok van 18:00 uur en eindigen rond 23:00 uur. De invulling en de line-up van deze avond is helemaal compleet\, dus zullen Gebr. Ko\, Danny Canters\, Gebr. Rossig en de Zware Jongens voor jullie optreden… \nDe zaal is open vanaf 17:00 uur en het programma start om 18:00 uur. \nTickets kosten EUR 7\,00. (excl. servicekosten). Hierin inbegrepen gratis garderobe.
URL:https://ikhouvanhelmond.nl/event/5-uurkes-vurraf/
LOCATION:De Geseldonk\, Cederhoutstraat 44\, Helmond
CATEGORIES:Vermaak
ATTACH;FMTTYPE=image/jpeg:https://ikhouvanhelmond.nl/wp-content/uploads/2025/02/5-uurkes-vurraf-scaled.jpg
END:VEVENT
BEGIN:VEVENT
DTSTART;TZID=UTC:20250228T210000
DTEND;TZID=UTC:20250228T233000
DTSTAMP:20260419T162014
CREATED:20250207T203403Z
LAST-MODIFIED:20250207T203403Z
UID:528-1740776400-1740785400@ikhouvanhelmond.nl
SUMMARY:Keijologische Hoogeskool
DESCRIPTION:Op de vrijdagavond voor carnaval vindt een van de meest bijzondere evenementen plaats: de Keijologische Hogeskool. Dit unieke ritueel\, nergens anders in de regio te vinden\, onderzoekt het leven van de homo carnavalensis\, en in het bijzonder de Helmonder\, in al zijn facetten. Een ‘intellektoewele’ avond vol humor\, traditie en wetenschappelijke inzichten over de Hellemondse maatschappij. \nElke zitting bestaat uit drie ceremoniële onderdelen onder leiding van d’n Uuper en onder toeziend oog van de Keigoei. Eerst legt de perbeerder\, een nieuwkomer\, zijn of haar Bewijs van Erremoei af\, waarmee hij of zij het recht verdient om het daaropvolgende jaar te promoveren. Vervolgens wordt de Nobelsprijs uitgereikt aan een Helmonder die bijzondere verdiensten heeft geleverd. Tot slot verdedigt het promoventje\, de perbeerder van vorig jaar\, zijn pruufskrift en promoveert tot Doctor in de Keijologie. \nEen avond vol traditie en Helmondse trots\, waar wetenschap en humor hand in hand gaan.
URL:https://ikhouvanhelmond.nl/event/keijologische-hoogeskool/
LOCATION:West Ende\, Steenweg 1\, Helmond
CATEGORIES:Vermaak
END:VEVENT
END:VCALENDAR