BEGIN:VCALENDAR
VERSION:2.0
PRODID:-//IK HOU VAN HELMOND - ECPv6.15.20//NONSGML v1.0//EN
CALSCALE:GREGORIAN
METHOD:PUBLISH
X-WR-CALNAME:IK HOU VAN HELMOND
X-ORIGINAL-URL:https://ikhouvanhelmond.nl
X-WR-CALDESC:Evenementen voor IK HOU VAN HELMOND
REFRESH-INTERVAL;VALUE=DURATION:PT1H
X-Robots-Tag:noindex
X-PUBLISHED-TTL:PT1H
BEGIN:VTIMEZONE
TZID:UTC
BEGIN:STANDARD
TZOFFSETFROM:+0000
TZOFFSETTO:+0000
TZNAME:UTC
DTSTART:20240101T000000
END:STANDARD
END:VTIMEZONE
BEGIN:VEVENT
DTSTART;TZID=UTC:20250421T123000
DTEND;TZID=UTC:20250421T170000
DTSTAMP:20260419T161910
CREATED:20250305T113739Z
LAST-MODIFIED:20250305T113739Z
UID:990-1745238600-1745254800@ikhouvanhelmond.nl
SUMMARY:Paasspeurtocht
DESCRIPTION:Stadstuin Helmond organiseert paasspeurtochten voor grote en kleine kinderen. \n\nKleine kinderen:\nInhoud \n\nEieren verven\nEieren zoeken\nKleurplaat kleuren ( wie heeft de mooiste kleurplaat)\nGlaasje ranja en paas cadeautje\n\nWe hebben voor dit programma tijdvakken gemaakt van 1.25 uur. \nDeze starten om: \n\n12.30 -13.45 of\n14.00 -15.15 of\n15.30 – 16.45\n\nJe kiest de tijd die jou het beste schikt. We verwachten je dan op tijd. Als je je aanmeld dien je vooraf de kosten te betalen. Mocht je je afmelden kunnen we geen geld terug geven. Je mag je aanmelding wel aan een ander kind geven. Je betaald alleen voor je kinderen. Begeleiders / ouders zijn gratis. Er moet wel altijd een ouder bij zijn. \nJeugd en volwassen:\nInhoud \n\nUitdagende Speurtocht in het bos van 1 -1.5 uur\nTwee routes\nJe krijgt een picknick pack voor onderweg\nRoute beschrijving\n\nKosten: €7.95 per persoon. (begeleiders betalen ook) \nMeer info op https://stadstuinhelmond.wordpress.com/2025/02/21/paasspeurtocht-21-april/
URL:https://ikhouvanhelmond.nl/event/paasspeurtocht/
LOCATION:Stadstuin Helmond\, Meanderlaan 6\, Helmond
CATEGORIES:Uit met kinderen
ATTACH;FMTTYPE=image/png:https://ikhouvanhelmond.nl/wp-content/uploads/2025/03/paasspeurtocht-stadstuin-helmond.png
END:VEVENT
END:VCALENDAR