BEGIN:VCALENDAR
VERSION:2.0
PRODID:-//IK HOU VAN HELMOND - ECPv6.15.20//NONSGML v1.0//EN
CALSCALE:GREGORIAN
METHOD:PUBLISH
X-ORIGINAL-URL:https://ikhouvanhelmond.nl
X-WR-CALDESC:Evenementen voor IK HOU VAN HELMOND
REFRESH-INTERVAL;VALUE=DURATION:PT1H
X-Robots-Tag:noindex
X-PUBLISHED-TTL:PT1H
BEGIN:VTIMEZONE
TZID:UTC
BEGIN:STANDARD
TZOFFSETFROM:+0000
TZOFFSETTO:+0000
TZNAME:UTC
DTSTART:20240101T000000
END:STANDARD
END:VTIMEZONE
BEGIN:VEVENT
DTSTART;TZID=UTC:20250622T160000
DTEND;TZID=UTC:20250622T170000
DTSTAMP:20260423T224330
CREATED:20250605T142909Z
LAST-MODIFIED:20250605T142909Z
UID:1873-1750608000-1750611600@ikhouvanhelmond.nl
SUMMARY:De ongelofelijke chocotastische geschiedenis van Wonka
DESCRIPTION:Met een tas vol spullen reist Willie Wonka zijn droom achterna. De wens dat iedereen van zijn magische chocotastische snoep en repen kan genieten. Op naar het centrum van de chocolatiers\, de Galerie Gourmet! \n\n\n\nMaar Willie Wonka wordt gedwarsboomd door de drie bestaande chocolatiers en hun mega chocolade imperium. Zal Willie het lukken om met behulp van zijn vrienden\, bonbontische creaties en een beetje geluk de klus te klaren? \nEen musical gebaseerd op de film Wonka. \nMet musicalartiesten uit: musical jongeren woensdag.
URL:https://ikhouvanhelmond.nl/event/de-ongelofelijke-chocotastische-geschiedenis-van-wonka/
LOCATION:Theater het Speelhuis\, Speelhuisplein 2\, Helmond
CATEGORIES:Theater
ATTACH;FMTTYPE=image/png:https://ikhouvanhelmond.nl/wp-content/uploads/2025/06/Scherm­afbeelding-2025-06-05-om-16.26.22.png
END:VEVENT
BEGIN:VEVENT
DTSTART;TZID=UTC:20250622T194500
DTEND;TZID=UTC:20250622T194500
DTSTAMP:20260423T224330
CREATED:20250606T075125Z
LAST-MODIFIED:20250606T075125Z
UID:1879-1750621500-1750621500@ikhouvanhelmond.nl
SUMMARY:Wonka EN ZIJN FABELTASTISCHE CHOCOBONBON
DESCRIPTION:Met een tas vol spullen reist Willie Wonka zijn droom achterna. De wens dat iedereen van zijn magische chocotastische snoep en repen kan genieten. Op naar het centrum van de chocolatiers\, de Galerie Gourmet! \n\n\n\nMaar Willie Wonka wordt gedwarsboomd door de drie bestaande chocolatiers en hun mega chocolade imperium. Zal Willie het lukken om met behulp van zijn vrienden\, bonbontische creaties en een beetje geluk de klus te klaren? \nEen musical gebaseerd op de film Wonka. \nMet musicalartiesten uit: musical jongeren vrijdag.
URL:https://ikhouvanhelmond.nl/event/wonka-en-zijn-fabeltastische-chocobonbon/
LOCATION:Theater het Speelhuis\, Speelhuisplein 2\, Helmond
CATEGORIES:Theater
ATTACH;FMTTYPE=image/png:https://ikhouvanhelmond.nl/wp-content/uploads/2025/06/Scherm­afbeelding-2025-06-05-om-16.26.22.png
END:VEVENT
BEGIN:VEVENT
DTSTART;TZID=UTC:20250704T203000
DTEND;TZID=UTC:20250704T203000
DTSTAMP:20260423T224330
CREATED:20250604T080158Z
LAST-MODIFIED:20250604T080158Z
UID:1834-1751661000-1751661000@ikhouvanhelmond.nl
SUMMARY:François van der Zanden - Ne Goeie Mens
DESCRIPTION:Franҫois van der Zanden\, onder andere bekend van zijn rol als Berry van Aerle in “Berry de Musical” (van Stichting de Helmondse Musical)\, speelt zijn eerste solo voorstelling ‘Ne Goeie Mens. \n‘Ne Goeie Mens is een cabaretvoorstelling met veel humor en zelfspot\, maar ook een voorstelling met een serieuze ondertoon. \nHoe neem je afscheid van iemand die er al 20 jaar niet meer is? Dat doe je door herinneringen op te halen en er achter te komen hoe jouw leven verweven is met die persoon. Vaak fijne herinneringen\, soms pijnlijk en confronterend\, vaak met een lach en soms met een traan. \nIn zijn voorstelling ‘Ne Goeie Mens neemt Franҫois je mee in de herinneringen aan een man die een belangrijke rol in zijn leven heeft gespeeld\, de momenten waarop hun levens zich hebben gekruist en hoe zijn eigen leven er nu uitziet. Gelijkenissen\, verschillen\, leermomenten\, liefde\, pijn\, worstelingen met het leven\, het komt allemaal voorbij.  Kortom\, een serieus verhaal dat wordt gepresenteerd met de nodige humor en veel zelfspot. \nOver François van der Zanden\nFranҫois van der Zanden speelde in het verleden in veel Helmondse voorstellingen. Zo speelde hij bij Toneelgroep Maskerade\, de Helmondse Musical\, Toneelgroep Vreemd Beest en voor het Genootschap Lucas Gassel. Daarnaast zou u François kunnen kennen van diverse tv opnames als Jan met de Pet (en Bets Klets) uit het TV programma Helmondig van Dit is Helmond.
URL:https://ikhouvanhelmond.nl/event/francois-van-der-zanden-ne-goeie-mens-3/
LOCATION:Annatheater\, Floreffestraat 21a\, Helmond
CATEGORIES:Theater
ATTACH;FMTTYPE=image/png:https://ikhouvanhelmond.nl/wp-content/uploads/2025/06/Francois-van-der-zanden.png
END:VEVENT
BEGIN:VEVENT
DTSTART;VALUE=DATE:20250905
DTEND;VALUE=DATE:20250929
DTSTAMP:20260423T224330
CREATED:20250903T083711Z
LAST-MODIFIED:20250903T083711Z
UID:2297-1757030400-1759103999@ikhouvanhelmond.nl
SUMMARY:De Melkboer
DESCRIPTION:Kom deze zomer naar De Melkboer\, een unieke\, rondtrekkende theatervoorstelling die je meeneemt naar de oude tijden van het melkboerenleven in Helmond. \nIn een sfeervol openluchttheater brengt dit verhaal nostalgie en herkenning samen\, met hartverwarmende humor en onvergetelijke personages. Laat je meeslepen door het leven van de melkboer en de kleurrijke figuren die zijn pad kruisen\, terwijl we door Helmond reizen en verhalen tot leven brengen op bijzondere locaties. \nWie naar De Melkboer gaat\, krijgt meer dan een voorstelling. Je krijgt een reis terug naar een Helmond dat niet meer bestaat\, maar wel voortleeft in de herinneringen van twee mannen die het hebben meegemaakt. En misschien\, als je goed luistert\, hoor je onderweg nog het ritme van de hoeven op de keien – en de stem van de melkboer die roept: “Mèllekboer!” \nTheatervoorstelling De Melkboer wordt elk weekend in september gespeeld in de wijken van Helmond. Alle speeldata en locaties vind je op https://melkboerhelmond.nl/speelschema.
URL:https://ikhouvanhelmond.nl/event/de-melkboer/
LOCATION:Helmond
CATEGORIES:Theater
ATTACH;FMTTYPE=image/webp:https://ikhouvanhelmond.nl/wp-content/uploads/2025/09/58fa78bb-ce1b-4584-b0e5-7b7d88faca40-kopie.jpg.webp
END:VEVENT
BEGIN:VEVENT
DTSTART;TZID=UTC:20250927T200000
DTEND;TZID=UTC:20250927T200000
DTSTAMP:20260423T224330
CREATED:20250604T081254Z
LAST-MODIFIED:20250604T081254Z
UID:1839-1759003200-1759003200@ikhouvanhelmond.nl
SUMMARY:As You Like It - Shakespeare
DESCRIPTION:As You Like It – Shakespeare\nWare liefde\, zoete liefde\, bittere liefde\, verboden liefde\, nep-liefde\, liefde om hogerop te komen\, onmogelijke liefde\, kalverliefde\, verliefd zijn op de verkeerde en je kapot schamen: Shakespeare wist precies wat een ramp de liefde is als je jong bent. We kunnen er eigenlijk maar beter niet aan beginnen. Maar: ze doen het toch. Negen moedige jongeren van de Jeugdtheaterschool Annatheater spelen As You Like It\, een hardvochtige en hilarische komedie over jong en verliefd zijn. \nHet verhaal volgt Rosalinde\, die samen met haar nicht Celia vlucht naar het woud van Arden nadat haar oom\, hertog Frederick\, haar verbant. Vermomd als de jongeman Arnold ontmoet ze haar geliefde Orlando\, die haar niet herkent. Ze test zijn liefde door hem les te geven in hoe hij haar (als Rosalinde) zou moeten beminnen. Ondertussen ontwikkelen zich andere romantische verwikkelingen\, zoals tussen de herder Silvius en de hardvochtige Cindy. \nLaat je betoveren door Shakespeares sprankelende komedie As You Like It! Een tijdloos verhaal vol liefde\, humor en onverwachte wendingen\, waarin niets is wat het lijkt. \nVerlies jezelf in het betoverende woud van Arden\, waar geliefden elkaar vinden\, vermommingen zorgen voor hilarische verwarring en de kracht van ware liefde zegeviert. Vol scherpe dialogen\, geestige intriges en onvergetelijke personages. \nReactie op onze laatste voorstelling “Tussen de Perenbomen”: “Wat een mooie voorstelling en wat een talenten! Want wat werd er goed gespeeld. Ik was diep onder de indruk. Ook ‘very impressive’ vond ik het decor in combinatie met het lichtgebruik. En de muziekkeuze! En hoe inventief dat decor in elkaar zat! Echt\, ik heb me laten verrassen. Met veel passie\, gedrevenheid\, creativiteit en gemeenschapszin\, die jullie wisten over te dragen op het publiek\, dat overweldigd werd door een schitterende voorstelling.” Mieke Chatrou\, directeur Cultuur Contact \nSpel \nCloë Celia: dochter van hertog Frederique\nFleur Charles: worstelaar\, Hertog Senior: verbannen hertog\, vader van Rosalinde en broer hertog Frederique\, Silvius: jonge herder verliefd op Cindy\nJesse Orlando: broer van Olivier\nMaika Anna: dienaar Olivier\nMeis Rosalinde: dochter van hertog Senior\nPien Touchstone: nar aan het hof van hertog Frederique\, hoveling van hertog Frederique en van hertog Senior.\nSirah Olivier: broer van Orlando\, hoveling van hertog Frederique en van hertog Senior\, Corin: oude herder\, Cindy: herderin\nSuus Hertog Frederique: broer van hertog Senior\, Jaques: hoveling van hertog Senior\nSven Le Beau: hoveling van hertog Frederique\, Amiens: hoveling van hertog Senior \nCredits \ntekst Shakespeare\, vertaling Tom Kleijn\, bewerking Theu Boermans\nregie Lavínia Freitas Vale Germano\nregieassistent Jeanne Poulussen\nscenografie Vincent van Ojen\ngrafische vormgeving Architectenbureau De Twee Snoeken\, ’s Hertogenbosch\nKostuums Birgit Romijn\, Marlies Magermans\, Vincent van Ojen\nTechniek Herman Eising\, Marilyn Rojot\, Timothy Verhofstadt en Kim van Zwietering\nProductie Kim van Zwietering\nPubliciteit Lisa van Dam \nSpeeldata\n27-09-2025 20:00\n28-09-2025 15:00\n03-10-2025 20:00\n04-10-2025 20:00\n05-10-2025 15:00
URL:https://ikhouvanhelmond.nl/event/as-you-like-it-shakespeare/
LOCATION:Annatheater\, Floreffestraat 21a\, Helmond
CATEGORIES:Theater
ATTACH;FMTTYPE=image/jpeg:https://ikhouvanhelmond.nl/wp-content/uploads/2025/06/947_whatsapp-image-2025-05-09-at-13.40.09.jpg
END:VEVENT
BEGIN:VEVENT
DTSTART;TZID=UTC:20250928T150000
DTEND;TZID=UTC:20250928T150000
DTSTAMP:20260423T224330
CREATED:20250604T081702Z
LAST-MODIFIED:20250604T081702Z
UID:1842-1759071600-1759071600@ikhouvanhelmond.nl
SUMMARY:As you like it - Shakespeare
DESCRIPTION:As You Like It – Shakespeare\nWare liefde\, zoete liefde\, bittere liefde\, verboden liefde\, nep-liefde\, liefde om hogerop te komen\, onmogelijke liefde\, kalverliefde\, verliefd zijn op de verkeerde en je kapot schamen: Shakespeare wist precies wat een ramp de liefde is als je jong bent. We kunnen er eigenlijk maar beter niet aan beginnen. Maar: ze doen het toch. Negen moedige jongeren van de Jeugdtheaterschool Annatheater spelen As You Like It\, een hardvochtige en hilarische komedie over jong en verliefd zijn. \nHet verhaal volgt Rosalinde\, die samen met haar nicht Celia vlucht naar het woud van Arden nadat haar oom\, hertog Frederick\, haar verbant. Vermomd als de jongeman Arnold ontmoet ze haar geliefde Orlando\, die haar niet herkent. Ze test zijn liefde door hem les te geven in hoe hij haar (als Rosalinde) zou moeten beminnen. Ondertussen ontwikkelen zich andere romantische verwikkelingen\, zoals tussen de herder Silvius en de hardvochtige Cindy. \nLaat je betoveren door Shakespeares sprankelende komedie As You Like It! Een tijdloos verhaal vol liefde\, humor en onverwachte wendingen\, waarin niets is wat het lijkt. \nVerlies jezelf in het betoverende woud van Arden\, waar geliefden elkaar vinden\, vermommingen zorgen voor hilarische verwarring en de kracht van ware liefde zegeviert. Vol scherpe dialogen\, geestige intriges en onvergetelijke personages. \nReactie op onze laatste voorstelling “Tussen de Perenbomen”: “Wat een mooie voorstelling en wat een talenten! Want wat werd er goed gespeeld. Ik was diep onder de indruk. Ook ‘very impressive’ vond ik het decor in combinatie met het lichtgebruik. En de muziekkeuze! En hoe inventief dat decor in elkaar zat! Echt\, ik heb me laten verrassen. Met veel passie\, gedrevenheid\, creativiteit en gemeenschapszin\, die jullie wisten over te dragen op het publiek\, dat overweldigd werd door een schitterende voorstelling.” Mieke Chatrou\, directeur Cultuur Contact \nSpel \nCloë Celia: dochter van hertog Frederique\nFleur Charles: worstelaar\, Hertog Senior: verbannen hertog\, vader van Rosalinde en broer hertog Frederique\, Silvius: jonge herder verliefd op Cindy\nJesse Orlando: broer van Olivier\nMaika Anna: dienaar Olivier\nMeis Rosalinde: dochter van hertog Senior\nPien Touchstone: nar aan het hof van hertog Frederique\, hoveling van hertog Frederique en van hertog Senior.\nSirah Olivier: broer van Orlando\, hoveling van hertog Frederique en van hertog Senior\, Corin: oude herder\, Cindy: herderin\nSuus Hertog Frederique: broer van hertog Senior\, Jaques: hoveling van hertog Senior\nSven Le Beau: hoveling van hertog Frederique\, Amiens: hoveling van hertog Senior \nCredits \ntekst Shakespeare\, vertaling Tom Kleijn\, bewerking Theu Boermans\nregie Lavínia Freitas Vale Germano\nregieassistent Jeanne Poulussen\nscenografie Vincent van Ojen\ngrafische vormgeving Architectenbureau De Twee Snoeken\, ’s Hertogenbosch\nKostuums Birgit Romijn\, Marlies Magermans\, Vincent van Ojen\nTechniek Herman Eising\, Marilyn Rojot\, Timothy Verhofstadt en Kim van Zwietering\nProductie Kim van Zwietering\nPubliciteit Lisa van Dam \nSpeeldata\n27-09-2025 20:00\n28-09-2025 15:00\n03-10-2025 20:00\n04-10-2025 20:00\n05-10-2025 15:00
URL:https://ikhouvanhelmond.nl/event/as-you-like-it-shakespeare-2/
LOCATION:Annatheater\, Floreffestraat 21a\, Helmond
CATEGORIES:Theater
ATTACH;FMTTYPE=image/jpeg:https://ikhouvanhelmond.nl/wp-content/uploads/2025/06/947_whatsapp-image-2025-05-09-at-13.40.09.jpg
END:VEVENT
BEGIN:VEVENT
DTSTART;TZID=UTC:20251003T200000
DTEND;TZID=UTC:20251003T200000
DTSTAMP:20260423T224330
CREATED:20250604T083047Z
LAST-MODIFIED:20250604T085040Z
UID:1844-1759521600-1759521600@ikhouvanhelmond.nl
SUMMARY:As you like it - Shakespeare
DESCRIPTION:Ware liefde\, zoete liefde\, bittere liefde\, verboden liefde\, nep-liefde\, liefde om hogerop te komen\, onmogelijke liefde\, kalverliefde\, verliefd zijn op de verkeerde en je kapot schamen: Shakespeare wist precies wat een ramp de liefde is als je jong bent. We kunnen er eigenlijk maar beter niet aan beginnen. Maar: ze doen het toch. Negen moedige jongeren van de Jeugdtheaterschool Annatheater spelen As You Like It\, een hardvochtige en hilarische komedie over jong en verliefd zijn. \nHet verhaal volgt Rosalinde\, die samen met haar nicht Celia vlucht naar het woud van Arden nadat haar oom\, hertog Frederick\, haar verbant. Vermomd als de jongeman Arnold ontmoet ze haar geliefde Orlando\, die haar niet herkent. Ze test zijn liefde door hem les te geven in hoe hij haar (als Rosalinde) zou moeten beminnen. Ondertussen ontwikkelen zich andere romantische verwikkelingen\, zoals tussen de herder Silvius en de hardvochtige Cindy. \nLaat je betoveren door Shakespeares sprankelende komedie As You Like It! Een tijdloos verhaal vol liefde\, humor en onverwachte wendingen\, waarin niets is wat het lijkt. \nVerlies jezelf in het betoverende woud van Arden\, waar geliefden elkaar vinden\, vermommingen zorgen voor hilarische verwarring en de kracht van ware liefde zegeviert. Vol scherpe dialogen\, geestige intriges en onvergetelijke personages. \nReactie op onze laatste voorstelling “Tussen de Perenbomen”: “Wat een mooie voorstelling en wat een talenten! Want wat werd er goed gespeeld. Ik was diep onder de indruk. Ook ‘very impressive’ vond ik het decor in combinatie met het lichtgebruik. En de muziekkeuze! En hoe inventief dat decor in elkaar zat! Echt\, ik heb me laten verrassen. Met veel passie\, gedrevenheid\, creativiteit en gemeenschapszin\, die jullie wisten over te dragen op het publiek\, dat overweldigd werd door een schitterende voorstelling.” Mieke Chatrou\, directeur Cultuur Contact \nSpel \nCloë Celia: dochter van hertog Frederique\nFleur Charles: worstelaar\, Hertog Senior: verbannen hertog\, vader van Rosalinde en broer hertog Frederique\, Silvius: jonge herder verliefd op Cindy\nJesse Orlando: broer van Olivier\nMaika Anna: dienaar Olivier\nMeis Rosalinde: dochter van hertog Senior\nPien Touchstone: nar aan het hof van hertog Frederique\, hoveling van hertog Frederique en van hertog Senior.\nSirah Olivier: broer van Orlando\, hoveling van hertog Frederique en van hertog Senior\, Corin: oude herder\, Cindy: herderin\nSuus Hertog Frederique: broer van hertog Senior\, Jaques: hoveling van hertog Senior\nSven Le Beau: hoveling van hertog Frederique\, Amiens: hoveling van hertog Senior \nCredits \ntekst Shakespeare\, vertaling Tom Kleijn\, bewerking Theu Boermans\nregie Lavínia Freitas Vale Germano\nregieassistent Jeanne Poulussen\nscenografie Vincent van Ojen\ngrafische vormgeving Architectenbureau De Twee Snoeken\, ’s Hertogenbosch\nKostuums Birgit Romijn\, Marlies Magermans\, Vincent van Ojen\nTechniek Herman Eising\, Marilyn Rojot\, Timothy Verhofstadt en Kim van Zwietering\nProductie Kim van Zwietering\nPubliciteit Lisa van Dam \nSpeeldata\n27-09-2025 20:00\n28-09-2025 15:00\n03-10-2025 20:00\n04-10-2025 20:00\n05-10-2025 15:00
URL:https://ikhouvanhelmond.nl/event/as-you-like-it-shakespeare-3/
LOCATION:Annatheater\, Floreffestraat 21a\, Helmond
CATEGORIES:Theater
ATTACH;FMTTYPE=image/jpeg:https://ikhouvanhelmond.nl/wp-content/uploads/2025/06/947_whatsapp-image-2025-05-09-at-13.40.09.jpg
END:VEVENT
BEGIN:VEVENT
DTSTART;TZID=UTC:20251004T200000
DTEND;TZID=UTC:20251004T200000
DTSTAMP:20260423T224330
CREATED:20250604T091657Z
LAST-MODIFIED:20250604T091657Z
UID:1848-1759608000-1759608000@ikhouvanhelmond.nl
SUMMARY:As you like it - Shakespeare
DESCRIPTION:Ware liefde\, zoete liefde\, bittere liefde\, verboden liefde\, nep-liefde\, liefde om hogerop te komen\, onmogelijke liefde\, kalverliefde\, verliefd zijn op de verkeerde en je kapot schamen: Shakespeare wist precies wat een ramp de liefde is als je jong bent. We kunnen er eigenlijk maar beter niet aan beginnen. Maar: ze doen het toch. Negen moedige jongeren van de Jeugdtheaterschool Annatheater spelen As You Like It\, een hardvochtige en hilarische komedie over jong en verliefd zijn. \nHet verhaal volgt Rosalinde\, die samen met haar nicht Celia vlucht naar het woud van Arden nadat haar oom\, hertog Frederick\, haar verbant. Vermomd als de jongeman Arnold ontmoet ze haar geliefde Orlando\, die haar niet herkent. Ze test zijn liefde door hem les te geven in hoe hij haar (als Rosalinde) zou moeten beminnen. Ondertussen ontwikkelen zich andere romantische verwikkelingen\, zoals tussen de herder Silvius en de hardvochtige Cindy. \nLaat je betoveren door Shakespeares sprankelende komedie As You Like It! Een tijdloos verhaal vol liefde\, humor en onverwachte wendingen\, waarin niets is wat het lijkt. \nVerlies jezelf in het betoverende woud van Arden\, waar geliefden elkaar vinden\, vermommingen zorgen voor hilarische verwarring en de kracht van ware liefde zegeviert. Vol scherpe dialogen\, geestige intriges en onvergetelijke personages. \nReactie op onze laatste voorstelling “Tussen de Perenbomen”: “Wat een mooie voorstelling en wat een talenten! Want wat werd er goed gespeeld. Ik was diep onder de indruk. Ook ‘very impressive’ vond ik het decor in combinatie met het lichtgebruik. En de muziekkeuze! En hoe inventief dat decor in elkaar zat! Echt\, ik heb me laten verrassen. Met veel passie\, gedrevenheid\, creativiteit en gemeenschapszin\, die jullie wisten over te dragen op het publiek\, dat overweldigd werd door een schitterende voorstelling.” Mieke Chatrou\, directeur Cultuur Contact \nSpel \nCloë Celia: dochter van hertog Frederique\nFleur Charles: worstelaar\, Hertog Senior: verbannen hertog\, vader van Rosalinde en broer hertog Frederique\, Silvius: jonge herder verliefd op Cindy\nJesse Orlando: broer van Olivier\nMaika Anna: dienaar Olivier\nMeis Rosalinde: dochter van hertog Senior\nPien Touchstone: nar aan het hof van hertog Frederique\, hoveling van hertog Frederique en van hertog Senior.\nSirah Olivier: broer van Orlando\, hoveling van hertog Frederique en van hertog Senior\, Corin: oude herder\, Cindy: herderin\nSuus Hertog Frederique: broer van hertog Senior\, Jaques: hoveling van hertog Senior\nSven Le Beau: hoveling van hertog Frederique\, Amiens: hoveling van hertog Senior \nCredits \ntekst Shakespeare\, vertaling Tom Kleijn\, bewerking Theu Boermans\nregie Lavínia Freitas Vale Germano\nregieassistent Jeanne Poulussen\nscenografie Vincent van Ojen\ngrafische vormgeving Architectenbureau De Twee Snoeken\, ’s Hertogenbosch\nKostuums Birgit Romijn\, Marlies Magermans\, Vincent van Ojen\nTechniek Herman Eising\, Marilyn Rojot\, Timothy Verhofstadt en Kim van Zwietering\nProductie Kim van Zwietering\nPubliciteit Lisa van Dam \nSpeeldata\n27-09-2025 20:00\n28-09-2025 15:00\n03-10-2025 20:00\n04-10-2025 20:00\n05-10-2025 15:00
URL:https://ikhouvanhelmond.nl/event/as-you-like-it-shakespeare-4/
LOCATION:Annatheater\, Floreffestraat 21a\, Helmond
CATEGORIES:Theater
ATTACH;FMTTYPE=image/jpeg:https://ikhouvanhelmond.nl/wp-content/uploads/2025/06/947_whatsapp-image-2025-05-09-at-13.40.09.jpg
END:VEVENT
BEGIN:VEVENT
DTSTART;TZID=UTC:20251005T150000
DTEND;TZID=UTC:20251005T150000
DTSTAMP:20260423T224330
CREATED:20250604T091819Z
LAST-MODIFIED:20250604T091819Z
UID:1850-1759676400-1759676400@ikhouvanhelmond.nl
SUMMARY:As you like it - Shakespeare
DESCRIPTION:Ware liefde\, zoete liefde\, bittere liefde\, verboden liefde\, nep-liefde\, liefde om hogerop te komen\, onmogelijke liefde\, kalverliefde\, verliefd zijn op de verkeerde en je kapot schamen: Shakespeare wist precies wat een ramp de liefde is als je jong bent. We kunnen er eigenlijk maar beter niet aan beginnen. Maar: ze doen het toch. Negen moedige jongeren van de Jeugdtheaterschool Annatheater spelen As You Like It\, een hardvochtige en hilarische komedie over jong en verliefd zijn. \nHet verhaal volgt Rosalinde\, die samen met haar nicht Celia vlucht naar het woud van Arden nadat haar oom\, hertog Frederick\, haar verbant. Vermomd als de jongeman Arnold ontmoet ze haar geliefde Orlando\, die haar niet herkent. Ze test zijn liefde door hem les te geven in hoe hij haar (als Rosalinde) zou moeten beminnen. Ondertussen ontwikkelen zich andere romantische verwikkelingen\, zoals tussen de herder Silvius en de hardvochtige Cindy. \nLaat je betoveren door Shakespeares sprankelende komedie As You Like It! Een tijdloos verhaal vol liefde\, humor en onverwachte wendingen\, waarin niets is wat het lijkt. \nVerlies jezelf in het betoverende woud van Arden\, waar geliefden elkaar vinden\, vermommingen zorgen voor hilarische verwarring en de kracht van ware liefde zegeviert. Vol scherpe dialogen\, geestige intriges en onvergetelijke personages. \nReactie op onze laatste voorstelling “Tussen de Perenbomen”: “Wat een mooie voorstelling en wat een talenten! Want wat werd er goed gespeeld. Ik was diep onder de indruk. Ook ‘very impressive’ vond ik het decor in combinatie met het lichtgebruik. En de muziekkeuze! En hoe inventief dat decor in elkaar zat! Echt\, ik heb me laten verrassen. Met veel passie\, gedrevenheid\, creativiteit en gemeenschapszin\, die jullie wisten over te dragen op het publiek\, dat overweldigd werd door een schitterende voorstelling.” Mieke Chatrou\, directeur Cultuur Contact \nSpel \nCloë Celia: dochter van hertog Frederique\nFleur Charles: worstelaar\, Hertog Senior: verbannen hertog\, vader van Rosalinde en broer hertog Frederique\, Silvius: jonge herder verliefd op Cindy\nJesse Orlando: broer van Olivier\nMaika Anna: dienaar Olivier\nMeis Rosalinde: dochter van hertog Senior\nPien Touchstone: nar aan het hof van hertog Frederique\, hoveling van hertog Frederique en van hertog Senior.\nSirah Olivier: broer van Orlando\, hoveling van hertog Frederique en van hertog Senior\, Corin: oude herder\, Cindy: herderin\nSuus Hertog Frederique: broer van hertog Senior\, Jaques: hoveling van hertog Senior\nSven Le Beau: hoveling van hertog Frederique\, Amiens: hoveling van hertog Senior \nCredits \ntekst Shakespeare\, vertaling Tom Kleijn\, bewerking Theu Boermans\nregie Lavínia Freitas Vale Germano\nregieassistent Jeanne Poulussen\nscenografie Vincent van Ojen\ngrafische vormgeving Architectenbureau De Twee Snoeken\, ’s Hertogenbosch\nKostuums Birgit Romijn\, Marlies Magermans\, Vincent van Ojen\nTechniek Herman Eising\, Marilyn Rojot\, Timothy Verhofstadt en Kim van Zwietering\nProductie Kim van Zwietering\nPubliciteit Lisa van Dam \nSpeeldata\n27-09-2025 20:00\n28-09-2025 15:00\n03-10-2025 20:00\n04-10-2025 20:00\n05-10-2025 15:00
URL:https://ikhouvanhelmond.nl/event/as-you-like-it-shakespeare-5/
LOCATION:Annatheater\, Floreffestraat 21a\, Helmond
CATEGORIES:Theater
ATTACH;FMTTYPE=image/jpeg:https://ikhouvanhelmond.nl/wp-content/uploads/2025/06/947_whatsapp-image-2025-05-09-at-13.40.09.jpg
END:VEVENT
END:VCALENDAR