BEGIN:VCALENDAR
VERSION:2.0
PRODID:-//IK HOU VAN HELMOND - ECPv6.15.20//NONSGML v1.0//EN
CALSCALE:GREGORIAN
METHOD:PUBLISH
X-ORIGINAL-URL:https://ikhouvanhelmond.nl
X-WR-CALDESC:Evenementen voor IK HOU VAN HELMOND
REFRESH-INTERVAL;VALUE=DURATION:PT1H
X-Robots-Tag:noindex
X-PUBLISHED-TTL:PT1H
BEGIN:VTIMEZONE
TZID:UTC
BEGIN:STANDARD
TZOFFSETFROM:+0000
TZOFFSETTO:+0000
TZNAME:UTC
DTSTART:20240101T000000
END:STANDARD
END:VTIMEZONE
BEGIN:VEVENT
DTSTART;TZID=UTC:20250622T160000
DTEND;TZID=UTC:20250622T170000
DTSTAMP:20260423T204120
CREATED:20250605T142909Z
LAST-MODIFIED:20250605T142909Z
UID:1873-1750608000-1750611600@ikhouvanhelmond.nl
SUMMARY:De ongelofelijke chocotastische geschiedenis van Wonka
DESCRIPTION:Met een tas vol spullen reist Willie Wonka zijn droom achterna. De wens dat iedereen van zijn magische chocotastische snoep en repen kan genieten. Op naar het centrum van de chocolatiers\, de Galerie Gourmet! \n\n\n\nMaar Willie Wonka wordt gedwarsboomd door de drie bestaande chocolatiers en hun mega chocolade imperium. Zal Willie het lukken om met behulp van zijn vrienden\, bonbontische creaties en een beetje geluk de klus te klaren? \nEen musical gebaseerd op de film Wonka. \nMet musicalartiesten uit: musical jongeren woensdag.
URL:https://ikhouvanhelmond.nl/event/de-ongelofelijke-chocotastische-geschiedenis-van-wonka/
LOCATION:Theater het Speelhuis\, Speelhuisplein 2\, Helmond
CATEGORIES:Theater
ATTACH;FMTTYPE=image/png:https://ikhouvanhelmond.nl/wp-content/uploads/2025/06/Scherm­afbeelding-2025-06-05-om-16.26.22.png
END:VEVENT
BEGIN:VEVENT
DTSTART;TZID=UTC:20250622T194500
DTEND;TZID=UTC:20250622T194500
DTSTAMP:20260423T204120
CREATED:20250606T075125Z
LAST-MODIFIED:20250606T075125Z
UID:1879-1750621500-1750621500@ikhouvanhelmond.nl
SUMMARY:Wonka EN ZIJN FABELTASTISCHE CHOCOBONBON
DESCRIPTION:Met een tas vol spullen reist Willie Wonka zijn droom achterna. De wens dat iedereen van zijn magische chocotastische snoep en repen kan genieten. Op naar het centrum van de chocolatiers\, de Galerie Gourmet! \n\n\n\nMaar Willie Wonka wordt gedwarsboomd door de drie bestaande chocolatiers en hun mega chocolade imperium. Zal Willie het lukken om met behulp van zijn vrienden\, bonbontische creaties en een beetje geluk de klus te klaren? \nEen musical gebaseerd op de film Wonka. \nMet musicalartiesten uit: musical jongeren vrijdag.
URL:https://ikhouvanhelmond.nl/event/wonka-en-zijn-fabeltastische-chocobonbon/
LOCATION:Theater het Speelhuis\, Speelhuisplein 2\, Helmond
CATEGORIES:Theater
ATTACH;FMTTYPE=image/png:https://ikhouvanhelmond.nl/wp-content/uploads/2025/06/Scherm­afbeelding-2025-06-05-om-16.26.22.png
END:VEVENT
END:VCALENDAR