BEGIN:VCALENDAR
VERSION:2.0
PRODID:-//IK HOU VAN HELMOND - ECPv6.15.20//NONSGML v1.0//EN
CALSCALE:GREGORIAN
METHOD:PUBLISH
X-ORIGINAL-URL:https://ikhouvanhelmond.nl
X-WR-CALDESC:Evenementen voor IK HOU VAN HELMOND
REFRESH-INTERVAL;VALUE=DURATION:PT1H
X-Robots-Tag:noindex
X-PUBLISHED-TTL:PT1H
BEGIN:VTIMEZONE
TZID:UTC
BEGIN:STANDARD
TZOFFSETFROM:+0000
TZOFFSETTO:+0000
TZNAME:UTC
DTSTART:20240101T000000
END:STANDARD
END:VTIMEZONE
BEGIN:VEVENT
DTSTART;TZID=UTC:20250602T200000
DTEND;TZID=UTC:20250602T213000
DTSTAMP:20260423T204028
CREATED:20250530T074737Z
LAST-MODIFIED:20250530T075540Z
UID:1785-1748894400-1748899800@ikhouvanhelmond.nl
SUMMARY:Wie van de drie heeft dementie?
DESCRIPTION:Een vrolijke clowneske voorstelling. Zus\, zus en broer op leeftijd proberen te ontdekken wie van de drie dementie heeft. Ze doen met z’n drieën muziek- en geheugentesten. \nHet blijft in het ongewisse óf een van de drie dementie heeft en zo ja wie. Naast het onderwerp dementie gaat de voorstelling vooral over communicatie tussen de zussen en de broer. Ze gaan nog altijd met elkaar om als in hun kinderjaren.\nEen spel van macht\, onmacht en verbondjes maken en toch om elkaar geven. Kortom een feest van herkenning. \nDe voorstelling is gratis te bezoeken. Vooraf aanmelden is wel verplicht en kan via chantal.cox@levgroep.nl  (geef je naam\, telefoonnummer en aantal personen door) of telefoon 06 89974075
URL:https://ikhouvanhelmond.nl/event/wie-van-de-drie-heeft-dementie/
LOCATION:Bethlehemkerk\, Sperwerstraat 2
CATEGORIES:Theater
ATTACH;FMTTYPE=image/jpeg:https://ikhouvanhelmond.nl/wp-content/uploads/2025/05/Wie-van-de-drie-1-scaled-1-1536x1073-1.jpg
END:VEVENT
END:VCALENDAR