BEGIN:VCALENDAR
VERSION:2.0
PRODID:-//IK HOU VAN HELMOND - ECPv6.15.20//NONSGML v1.0//EN
CALSCALE:GREGORIAN
METHOD:PUBLISH
X-WR-CALNAME:IK HOU VAN HELMOND
X-ORIGINAL-URL:https://ikhouvanhelmond.nl
X-WR-CALDESC:Evenementen voor IK HOU VAN HELMOND
REFRESH-INTERVAL;VALUE=DURATION:PT1H
X-Robots-Tag:noindex
X-PUBLISHED-TTL:PT1H
BEGIN:VTIMEZONE
TZID:UTC
BEGIN:STANDARD
TZOFFSETFROM:+0000
TZOFFSETTO:+0000
TZNAME:UTC
DTSTART:20240101T000000
END:STANDARD
END:VTIMEZONE
BEGIN:VEVENT
DTSTART;TZID=UTC:20250510T201500
DTEND;TZID=UTC:20250510T212500
DTSTAMP:20260423T222411
CREATED:20250411T140600Z
LAST-MODIFIED:20250411T140600Z
UID:1443-1746908100-1746912300@ikhouvanhelmond.nl
SUMMARY:BRAM - Kompagnie Kistemaker
DESCRIPTION:Een \n\nbuitenstaander die nooit écht werd geaccepteerd. Een moeder die haar tijd ver vooruit was\, meer wilde dan het huishouden. En wilde ze dat moederschap überhaupt? Oordelen van buitenaf vliegen haar om de oren\, “het is niet pluis op nummer 28” “Het spookt daar…” “Dat mens mag zich geen moeder noemen”. En wat moet ze ineens met die verloren zoon die op de stoep staat? \n\n\n\nIn audiovoorstelling BRAM brengen alledaagse voorwerpen\, een koffiemolen\, een rol tape\, schoonmaakhandschoenen\, het mysterieuze rijtjeshuis van Bram tot leven. Een groentehakker klinkt als een piepend tuinhek\, een bleekselderij is een krakende rug en klinkende wijnglazen luiden de deurbel. Je bent op ieder moment vrij om je ogen dicht te doen en je in de Eindhovense buitenwijk Woensel te wanen. \nNa een groot succes op Oerol gaat BRAM nu de theaterzaal in. Een wonderlijk verhaal van mythische proporties. Was Bram een vooruitstrevende feminist\, een compromisloze kunstenaar of een harteloze moeder? Theatermaker Karlijn Kistemaker duikt samen met acteur Rop Verheijen (De Luizenmoeder\, Wie is de Mol?) diep dit Brabantse familieverhaal in en raken steeds verder verstrikt in een web van meningen en verhalen. En cassettebandjes. Veel cassettebandjes. \nBRAM dompelt je onder in een verrassende geluidswereld. Met een stiekeme rol van een foley-artist. \nLuister ook BRAM de podcast! In deze uitpluispodcast ontrafelen Daniel en Karlijn het mysterie rond Daniels onbekende opa. Podcastmaker Serin Utlu vervlecht dit met eigen ervaringen over moederschap en zoomt uit naar het spanningsveld tussen ouderschap en kunstenaarschap. \n45 Minuten voor aanvang wordt er een inleiding gegeven door Annette Embrechts\, dans- en theaterjournaliste voor de Volkskrant. Hiervoor kun je kosteloos een plekje reserveren tijdens het bestelproces.
URL:https://ikhouvanhelmond.nl/event/bram-kompagnie-kistemaker/
LOCATION:Theater het Speelhuis\, Speelhuisplein 2\, Helmond
CATEGORIES:Theater
ATTACH;FMTTYPE=image/jpeg:https://ikhouvanhelmond.nl/wp-content/uploads/2025/04/Bram.jpg
END:VEVENT
END:VCALENDAR