BEGIN:VCALENDAR
VERSION:2.0
PRODID:-//IK HOU VAN HELMOND - ECPv6.15.20//NONSGML v1.0//EN
CALSCALE:GREGORIAN
METHOD:PUBLISH
X-ORIGINAL-URL:https://ikhouvanhelmond.nl
X-WR-CALDESC:Evenementen voor IK HOU VAN HELMOND
REFRESH-INTERVAL;VALUE=DURATION:PT1H
X-Robots-Tag:noindex
X-PUBLISHED-TTL:PT1H
BEGIN:VTIMEZONE
TZID:UTC
BEGIN:STANDARD
TZOFFSETFROM:+0000
TZOFFSETTO:+0000
TZNAME:UTC
DTSTART:20240101T000000
END:STANDARD
END:VTIMEZONE
BEGIN:VEVENT
DTSTART;TZID=UTC:20250508T201500
DTEND;TZID=UTC:20250508T213000
DTSTAMP:20260423T222627
CREATED:20250411T140017Z
LAST-MODIFIED:20250411T140017Z
UID:1437-1746735300-1746739800@ikhouvanhelmond.nl
SUMMARY:Nesim el Ahmadi - Je verzint het niet
DESCRIPTION:Comedian Nesim El Ahmadi gaat het theater in met zijn tweede cabaretvoorstelling: ‘Je verzint het niet’! \n\n\n\n\n\nIn dit vervolg op zijn eerdere cabaretvoorstelling\, ‘TaBoe!’\, praat Nesim over zijn roots\, opvoeding\, relatie\, papa worden\, vreemde werkplekken en nog veel meer.  ‘Ik heb vaak het gevoel dat ik dingen meemaak die niemand anders zou kunnen meemaken…tot ik begin te praten met het publiek’\, vertelt Nesim. \n\n\nEn juist om dat gevoel aan te wakkeren kun je als toeschouwer de nodige interactie verwachten. Of je nou vooraan zit of helemaal achterin… ontkomen doet niemand. \n\n\nNesim el Ahmadi (1993) is voornamelijk bekend van zijn populaire stand-up crowd work videos\, het succesvolle YouTube kanaal Supergaande en zijn werk als host en presentator voor uiteenlopende televisie formats.
URL:https://ikhouvanhelmond.nl/event/nesim-el-ahmadi-je-verzint-het-niet/
LOCATION:Theater het Speelhuis\, Speelhuisplein 2\, Helmond
CATEGORIES:Theater
ATTACH;FMTTYPE=image/jpeg:https://ikhouvanhelmond.nl/wp-content/uploads/2025/04/Nesim.jpg
END:VEVENT
END:VCALENDAR