BEGIN:VCALENDAR
VERSION:2.0
PRODID:-//IK HOU VAN HELMOND - ECPv6.15.20//NONSGML v1.0//EN
CALSCALE:GREGORIAN
METHOD:PUBLISH
X-ORIGINAL-URL:https://ikhouvanhelmond.nl
X-WR-CALDESC:Evenementen voor IK HOU VAN HELMOND
REFRESH-INTERVAL;VALUE=DURATION:PT1H
X-Robots-Tag:noindex
X-PUBLISHED-TTL:PT1H
BEGIN:VTIMEZONE
TZID:UTC
BEGIN:STANDARD
TZOFFSETFROM:+0000
TZOFFSETTO:+0000
TZNAME:UTC
DTSTART:20240101T000000
END:STANDARD
END:VTIMEZONE
BEGIN:VEVENT
DTSTART;TZID=UTC:20250507T201500
DTEND;TZID=UTC:20250507T221500
DTSTAMP:20260423T222626
CREATED:20250411T132726Z
LAST-MODIFIED:20250411T135637Z
UID:1433-1746648900-1746656100@ikhouvanhelmond.nl
SUMMARY:Het Paradijs - Hel: heropvoeding van de zintuigen deel 1
DESCRIPTION:Vergeet Rutger Bregman\, vergeet Yuval Noah Harari en vergeet alle andere zelfhulpboeken voor de 21ste eeuw\, Collectief Het Paradijs gidst de misantropische mens naar de weg omhoog. Waar de gemiddelde hulpgoeroe met loze beloftes en mooie woorden schiet\, bieden wij échte houvast! Een theater-triptiek die je leven voorgoed zal veranderen. \n\n\n\n\n\nPart one. HEL – Door al het kwaad\, het leed\, de nachtmerries en de destructie te omarmen\, hoopt Collectief Het Paradijs in de ontbinding het licht weer te vinden. We kijken het vurige beest dat de mens heet in de bek en graven door de aardkorst heen op zoek naar de Hel. We betreden de kern die begint te rotten\, schimmelen\, stinken en verteren\, waarna uit de grauwste maar meest vruchtbare as een nieuw zaadje doet ontspruiten. Een rauwe beeldende filmische voorstelling die je meeneemt in de surrealistische wereld van duiveltjes\, vagevuur en epische rampspoed. \n\n\nDe rebirth Triptiek\nIn alle nederigheid neemt Collectief Het Paradijs de komende jaren de rol op zich van gids om de dwalende mens houvast te geven. De eenentwintigste-eeuwse mens is volgens het Collectief volledig het spoor bijster over goed en kwaad\, over hoe het leven te leven en hoe driften te beantwoorden. De trippende rebirth triptiek leidt u door de Hel (2025)\, door de Hemel (2026)\, om met richting voor het leven terug te keren op Aarde (2027). \n45 Minuten voor aanvang wordt er een inleiding gegeven door Annette Embrechts\, dans- en theaterjournaliste voor de Volkskrant. Hiervoor kun je kosteloos een plekje reserveren tijdens het bestelproces.
URL:https://ikhouvanhelmond.nl/event/het-paradijs-hel-heropvoeding-van-de-zintuigen-deel-1/
CATEGORIES:Theater
ATTACH;FMTTYPE=image/jpeg:https://ikhouvanhelmond.nl/wp-content/uploads/2025/04/paradijs.jpg
END:VEVENT
END:VCALENDAR