BEGIN:VCALENDAR
VERSION:2.0
PRODID:-//IK HOU VAN HELMOND - ECPv6.15.20//NONSGML v1.0//EN
CALSCALE:GREGORIAN
METHOD:PUBLISH
X-WR-CALNAME:IK HOU VAN HELMOND
X-ORIGINAL-URL:https://ikhouvanhelmond.nl
X-WR-CALDESC:Evenementen voor IK HOU VAN HELMOND
REFRESH-INTERVAL;VALUE=DURATION:PT1H
X-Robots-Tag:noindex
X-PUBLISHED-TTL:PT1H
BEGIN:VTIMEZONE
TZID:UTC
BEGIN:STANDARD
TZOFFSETFROM:+0000
TZOFFSETTO:+0000
TZNAME:UTC
DTSTART:20240101T000000
END:STANDARD
END:VTIMEZONE
BEGIN:VEVENT
DTSTART;TZID=UTC:20250227T201500
DTEND;TZID=UTC:20250227T214500
DTSTAMP:20260424T014528
CREATED:20250211T204009Z
LAST-MODIFIED:20250211T204024Z
UID:724-1740687300-1740692700@ikhouvanhelmond.nl
SUMMARY:Ashton Brothers - Brothers
DESCRIPTION:‘No man is an island’ (John Donne\, 1624) \n\n\n Met hun gloednieuwe\, bejubelde show BROTHERS brengen de Ashton Brothers een ode aan elkaar\, aan de tribe die ze samen vormen. Met onverschrokken “visuele poëzie en absurdistisch variété” (De Telegraaf) en “a splendid time guaranteed for all!” (Theaterkrant) nemen ze je mee in hun oneindige universum. Een eigen kosmos van magie en muzikaliteit\, met spectaculaire en hilarische halsbrekende toeren. Een verrassende kijk op de veerkracht van ons bestaan en van de planeet waarop we ronddolen.
URL:https://ikhouvanhelmond.nl/event/ashton-brothers-brothers/
LOCATION:Theater het Speelhuis\, Speelhuisplein 2\, Helmond
CATEGORIES:Theater
END:VEVENT
END:VCALENDAR