BEGIN:VCALENDAR
VERSION:2.0
PRODID:-//IK HOU VAN HELMOND - ECPv6.15.20//NONSGML v1.0//EN
CALSCALE:GREGORIAN
METHOD:PUBLISH
X-WR-CALNAME:IK HOU VAN HELMOND
X-ORIGINAL-URL:https://ikhouvanhelmond.nl
X-WR-CALDESC:Evenementen voor IK HOU VAN HELMOND
REFRESH-INTERVAL;VALUE=DURATION:PT1H
X-Robots-Tag:noindex
X-PUBLISHED-TTL:PT1H
BEGIN:VTIMEZONE
TZID:UTC
BEGIN:STANDARD
TZOFFSETFROM:+0000
TZOFFSETTO:+0000
TZNAME:UTC
DTSTART:20240101T000000
END:STANDARD
END:VTIMEZONE
BEGIN:VEVENT
DTSTART;TZID=UTC:20250704T203000
DTEND;TZID=UTC:20250704T203000
DTSTAMP:20260423T164535
CREATED:20250604T080158Z
LAST-MODIFIED:20250604T080158Z
UID:1834-1751661000-1751661000@ikhouvanhelmond.nl
SUMMARY:François van der Zanden - Ne Goeie Mens
DESCRIPTION:Franҫois van der Zanden\, onder andere bekend van zijn rol als Berry van Aerle in “Berry de Musical” (van Stichting de Helmondse Musical)\, speelt zijn eerste solo voorstelling ‘Ne Goeie Mens. \n‘Ne Goeie Mens is een cabaretvoorstelling met veel humor en zelfspot\, maar ook een voorstelling met een serieuze ondertoon. \nHoe neem je afscheid van iemand die er al 20 jaar niet meer is? Dat doe je door herinneringen op te halen en er achter te komen hoe jouw leven verweven is met die persoon. Vaak fijne herinneringen\, soms pijnlijk en confronterend\, vaak met een lach en soms met een traan. \nIn zijn voorstelling ‘Ne Goeie Mens neemt Franҫois je mee in de herinneringen aan een man die een belangrijke rol in zijn leven heeft gespeeld\, de momenten waarop hun levens zich hebben gekruist en hoe zijn eigen leven er nu uitziet. Gelijkenissen\, verschillen\, leermomenten\, liefde\, pijn\, worstelingen met het leven\, het komt allemaal voorbij.  Kortom\, een serieus verhaal dat wordt gepresenteerd met de nodige humor en veel zelfspot. \nOver François van der Zanden\nFranҫois van der Zanden speelde in het verleden in veel Helmondse voorstellingen. Zo speelde hij bij Toneelgroep Maskerade\, de Helmondse Musical\, Toneelgroep Vreemd Beest en voor het Genootschap Lucas Gassel. Daarnaast zou u François kunnen kennen van diverse tv opnames als Jan met de Pet (en Bets Klets) uit het TV programma Helmondig van Dit is Helmond.
URL:https://ikhouvanhelmond.nl/event/francois-van-der-zanden-ne-goeie-mens-3/
LOCATION:Annatheater\, Floreffestraat 21a\, Helmond
CATEGORIES:Theater
ATTACH;FMTTYPE=image/png:https://ikhouvanhelmond.nl/wp-content/uploads/2025/06/Francois-van-der-zanden.png
END:VEVENT
END:VCALENDAR