BEGIN:VCALENDAR
VERSION:2.0
PRODID:-//IK HOU VAN HELMOND - ECPv6.15.20//NONSGML v1.0//EN
CALSCALE:GREGORIAN
METHOD:PUBLISH
X-WR-CALNAME:IK HOU VAN HELMOND
X-ORIGINAL-URL:https://ikhouvanhelmond.nl
X-WR-CALDESC:Evenementen voor IK HOU VAN HELMOND
REFRESH-INTERVAL;VALUE=DURATION:PT1H
X-Robots-Tag:noindex
X-PUBLISHED-TTL:PT1H
BEGIN:VTIMEZONE
TZID:UTC
BEGIN:STANDARD
TZOFFSETFROM:+0000
TZOFFSETTO:+0000
TZNAME:UTC
DTSTART:20240101T000000
END:STANDARD
END:VTIMEZONE
BEGIN:VEVENT
DTSTART;TZID=UTC:20250407T200000
DTEND;TZID=UTC:20250407T230000
DTSTAMP:20260423T222231
CREATED:20250210T133252Z
LAST-MODIFIED:20250210T133252Z
UID:647-1744056000-1744066800@ikhouvanhelmond.nl
SUMMARY:Gevangen in mijn brein
DESCRIPTION:Een theatervoorstelling over de dramatische gevolgen die Niet Aangeboren Hersenletsel kan veroorzaken. \nDoor een verkeersongeval verandert Marks persoonlijkheid. Dat heeft een ingrijpend effect op zijn relatie met echgenote Eva. Echtgenote Eva zet alles aan de kant om voor Mark te kunnen zorgen. Haar leven staat ook op de kop. Spanningen escaleren\, de kijk op de werkelijkheid verandert en pijnlijke keuzes blijven onvermijdelijk. \nDeze voorstelling is gemaakt door de Helmondse trainingsacteur Ton Peeters\, Yvonne Hiddema en gedragsdeskundige Frank Wintraecken.
URL:https://ikhouvanhelmond.nl/event/gevangen-in-mijn-brein/
LOCATION:Annatheater\, Floreffestraat 21a\, Helmond
CATEGORIES:Theater
END:VEVENT
BEGIN:VEVENT
DTSTART;TZID=UTC:20250415T201500
DTEND;TZID=UTC:20250415T201500
DTSTAMP:20260423T222231
CREATED:20250314T122229Z
LAST-MODIFIED:20250407T080029Z
UID:1173-1744748100-1744748100@ikhouvanhelmond.nl
SUMMARY:My fair human
DESCRIPTION:Een ode aan vrouwen die niet in de mal passen en weigeren te zwijgen. \nZe is een van de bekendste personages uit de thea­ter­ge­schie­denis: Eliza Doolittle\, het ​‘bloe­men­meisje’ uit Pygmalion van George Bernard Shaw\, later onster­fe­lijk gemaakt in My Fair Lady. Maar weten we eigenlijk wel hoe háár stem écht klinkt? \n\n\n\nMy Fair Human is een scherpe\, tragi­ko­mi­sche muziek­the­a­ter­voor­stel­ling die ons een spiegel voorhoudt\, verpakt in het feestelijke kleurpallet van Club Lam. Met een sterke cast\, bestaande uit de gere­nom­meerde Oda Spelbos (bekend van Flikken Maastricht)\, de geta­len­teerde Ella Kamerbeek en de charis­ma­ti­sche Valérie van Erven Dorens. \nEindelijk krijgt Eliza Doolittle een eigen stem\, na decen­nia­lang figurant te zijn geweest in een thea­ter­we­reld die door strenge gender­normen werd geregeerd. Dit keer is het niet de mannelijke blik die haar beoordeelt\, maar haar eigen innerlijke criticus – én de vrouwen om haar heen. \nMaak ruimte\, patri­ar­chaat. My Fair Human neemt het podium. \nGeen lieve woorden of bescheiden glimlachjes hier – dit is het rauwe verhaal van vrouwen die niet langer de regels volgen. Drie stemmen – Elisa\, Lisa en Elizabeth – worstelen met een wereld die hen reduceert tot mooie gezichten en vruchtbare lichamen. Maar wanneer hun cyclus stopt\, begint hun verhaal pas echt. \nElizabeth zet de overgang in vuur en vlam. Lisa protesteert en probeert de wereld te redden. Elisa weigert haar lichaam aan andermans ideaal te verkopen. Ze vechten\, lachen en confron­teren elkaar in een wereld die vrouwen wil breken. \nDit is geen zoektocht naar zelf­ac­cep­tatie. Dit is rebellie in bloei. \nVan maagd tot moeder\, van wilde vrouw tot wijze vrouw – ze eisen de ruimte die hen toebehoort. \nTijd om niet alleen toe te kijken\, maar mee te leven. \n  \n45 Minuten voor aanvang wordt er een inleiding gegeven door Annette Embrechts\, dans- en theaterjournaliste voor de Volkskrant. Hiervoor kun je kosteloos een plekje reserveren tijdens het bestelproces.
URL:https://ikhouvanhelmond.nl/event/my-fair-human/
LOCATION:Theater het Speelhuis\, Speelhuisplein 2\, Helmond
CATEGORIES:Theater
ATTACH;FMTTYPE=image/jpeg:https://ikhouvanhelmond.nl/wp-content/uploads/2025/03/mfh-clublam-oda-2_3164081767.jpg
END:VEVENT
BEGIN:VEVENT
DTSTART;VALUE=DATE:20250416
DTEND;VALUE=DATE:20250418
DTSTAMP:20260423T222231
CREATED:20250210T133603Z
LAST-MODIFIED:20250210T133603Z
UID:649-1744761600-1744934399@ikhouvanhelmond.nl
SUMMARY:De Gestampte Meisjes - Bang
DESCRIPTION:Wat is jouw grootste nachtmerrie? \nKom erachter in de absurde en muzikale voorstelling van De Gestampte Meisjes. In BANG! nemen ze hun grootste angsten onder de loep. Van oorlog tot die ene puist op je voorhoofd. BANG! is een voorstelling over angsten en nachtmerries\, gebaseerd op de toenemende angstcultuur onder jongeren. De Gestampte Meisjes laat het publiek zien dat iedereen angsten kent\, ongeacht leeftijd en leert dat je je angsten moet omarmen. \nBeleef in een mix van cabaret meets House of Horror de gekste nachtmerries met vette beats\, onverwachte wendingen en angstaanjagend grappig: Een nachtmerrie waar je alleen maar van kunt dromen. \nEr zijn voorstellingen op:\n– Woensdag 16 april om 10.15 uur en om 14.15 uur.\n– Donderdag 17 april om 10.15 uur en om 14.15 uur.
URL:https://ikhouvanhelmond.nl/event/de-gestampte-meisjes-bang/
LOCATION:Annatheater\, Floreffestraat 21a\, Helmond
CATEGORIES:Theater
END:VEVENT
BEGIN:VEVENT
DTSTART;TZID=UTC:20250417T201500
DTEND;TZID=UTC:20250417T201500
DTSTAMP:20260423T222231
CREATED:20250314T122443Z
LAST-MODIFIED:20250407T080327Z
UID:1176-1744920900-1744920900@ikhouvanhelmond.nl
SUMMARY:Avond\, een tragikomedie over voltooid leven
DESCRIPTION:We willen allemaal het mooiste levenseinde voor onze ouders. Daar hebben we veel voor over\, maar lukt het ons? Over de dilemma’s rondom mantelzorg en voltooid leven heeft het Friese theatergezelschap Pier21 een bijzondere voorstelling gemaakt\, die al veel heeft losgemaakt. \n\n\n\n\n\nAnneke heeft op latere leeftijd in Theo een nieuwe liefde in haar leven gevonden. Samen proberen ze Annekes vader en moeder een waardige laatste levensfase te laten beleven. Maar Daniël en Wimmy hechten aan hun autonomie en hun levenslange band: zij kiezen ervoor samen vrijwillig hun voltooide leven te beëindigen. \n\n\n‘Avond’ is een tragikomedie over vier mensen vol liefde en onderlinge verbondenheid\, die hun goede bedoelingen zien smoren in de grillen van het leven. Een hartverwarmende voorstelling over mantelzorg en voltooid leven gespeeld door twee rasacteurs vol levenslust: Joke Tjalsma en Paul R. Kooij. Met teksten van Bouke Oldenhof en geregisseerd door Jos Thie. \n\n\nNa een bijzonder succesvolle tournee in 2019  met 12.000 bezoekers langs theaters\, dorpshuizen en instellingen van de gezondheidszorg\, keert ‘Avond’ in 2025 terug.
URL:https://ikhouvanhelmond.nl/event/avond-een-tragikomedie-over-voltooid-leven/
LOCATION:Theater het Speelhuis\, Speelhuisplein 2\, Helmond
CATEGORIES:Theater
ATTACH;FMTTYPE=image/jpeg:https://ikhouvanhelmond.nl/wp-content/uploads/2025/03/avond-een-tragikomedie-over-voltooid-leven-s1920x1080.jpg
END:VEVENT
BEGIN:VEVENT
DTSTART;TZID=UTC:20250422T201500
DTEND;TZID=UTC:20250422T201500
DTSTAMP:20260423T222231
CREATED:20250314T124624Z
LAST-MODIFIED:20250407T080545Z
UID:1189-1745352900-1745352900@ikhouvanhelmond.nl
SUMMARY:Toeac - Stiekem Hooglied
DESCRIPTION:‘Ik ga er niet vanuit dat wij samen gelukkig kunnen worden.  \nMaar als ik dan toch ongelukkig moet zijn met iemand\, dan het liefst met jou.’  \nStomtoevallig komen hij en zij tegenover elkaar te zitten op de veerboot naar Noorwegen. Tijdens de nachtelijke overtocht observeren ze de ander vanuit hun ooghoeken. \n\n\n\n\nIn hun hoofden tilt de fantasie hen over grenzen\, dromen ze groter dan ooit tevoren en raken ze gedurende deze slapeloze nacht in de ban van die mooie onbekende. Een bijna ondragelijk verlangen naar de ander die\, wie weet\, de verlossing zou kunnen betekenen voor hun beider kleine\, ongelukkige leventjes. Durven onze reizigers de stap te zetten deze hoog oplaaiende\, stille liefde met elkaar te delen? En waartoe zal dat leiden? \nAriane Schluter\, tweevoudig winnares van de Theo d’Or toneelprijs\, speelt bij diverse theatergezelschappen en oogstte lof voor haar rol in films als Lucia de B. en Een Goed Leven. Ze werkte onder andere met regisseurs Paula van der Oest en Alex van Warmerdam. \nAli Ben Horsting was onder meer te zien in films als Moordvrouw en Vlucht HS13. Hij kreeg erkenning voor de toneelvertolking van Eddie Carbone in Van de brug af gezien\, maakt zelf voorstellingen en speelt bij diverse theatergezelschappen. \nTOEAC accordeonduo laat stemmen klinken als blazers\, strijkers en zangers. De pers schrijft over ‘jaloersmakende vingervlugheid\, muzikaal inzicht en een flinke portie lef’. Met muziek van Grieg\, Lohse\, De Murashkin en eigen werk staat Stiekem Hooglied vol contrasten. \nRia Marks\, regie.\nPeer Wittenbols\, tekst. \nBloedkoraal\, de vorige productie van TOEAC met acteur Jack Wouterse\, werd door pers en publiek enthousiast ontvangen. ‘Heerlijk zinnelijk muziektheater’ (De Theaterkrant). ‘Peer Wittenbols is één van ’s lands beste toneelschrijvers’ (Cultureel Persbureau). ‘Ingetogen maar indringend’ (NRC ****). \n 
URL:https://ikhouvanhelmond.nl/event/toeac-stiekem-hooglied/
LOCATION:Theater het Speelhuis\, Speelhuisplein 2\, Helmond
CATEGORIES:Theater
ATTACH;FMTTYPE=image/png:https://ikhouvanhelmond.nl/wp-content/uploads/2025/03/stiekem-hooglied.png
END:VEVENT
END:VCALENDAR