BEGIN:VCALENDAR
VERSION:2.0
PRODID:-//IK HOU VAN HELMOND - ECPv6.15.20//NONSGML v1.0//EN
CALSCALE:GREGORIAN
METHOD:PUBLISH
X-WR-CALNAME:IK HOU VAN HELMOND
X-ORIGINAL-URL:https://ikhouvanhelmond.nl
X-WR-CALDESC:Evenementen voor IK HOU VAN HELMOND
REFRESH-INTERVAL;VALUE=DURATION:PT1H
X-Robots-Tag:noindex
X-PUBLISHED-TTL:PT1H
BEGIN:VTIMEZONE
TZID:UTC
BEGIN:STANDARD
TZOFFSETFROM:+0000
TZOFFSETTO:+0000
TZNAME:UTC
DTSTART:20240101T000000
END:STANDARD
END:VTIMEZONE
BEGIN:VEVENT
DTSTART;TZID=UTC:20250301T200000
DTEND;TZID=UTC:20250301T220000
DTSTAMP:20260424T000446
CREATED:20250224T102645Z
LAST-MODIFIED:20250224T102645Z
UID:831-1740859200-1740866400@ikhouvanhelmond.nl
SUMMARY:Carnavalsklucht - St. Genesius
DESCRIPTION:Traditiegetrouw brengt de Helmondse Toneelgroep St. Genesius een hilarische carnavalsklucht ten tonele. Net als voorgaande keren staat St. Genesius garant voor een verrassend stuk\, vol humor en met een Helmonds accent. Met inmiddels meer dan veertig edities op de teller is dit een veelbesproken theatertraditie in Helmond en omstreken
URL:https://ikhouvanhelmond.nl/event/carnavalsklucht-st-genesius/
LOCATION:Theater het Speelhuis\, Speelhuisplein 2\, Helmond
CATEGORIES:Theater
END:VEVENT
BEGIN:VEVENT
DTSTART;TZID=UTC:20250301T204500
DTEND;TZID=UTC:20250301T222500
DTSTAMP:20260424T000446
CREATED:20250225T070234Z
LAST-MODIFIED:20250225T070257Z
UID:917-1740861900-1740867900@ikhouvanhelmond.nl
SUMMARY:The Jeroen Leenders Experience
DESCRIPTION:Maak je klaar voor een bijzondere ervaring: De Jeroen Leenders Experience! Jeroen staat bekend om zijn unieke benadering van comedy\, waarbij hij zijn grappen ter plaatse improviseert en de grenzen tussen comedy\, filosofie en pure anarchie opzoekt. Als ‘comedian’s comedian’ is hij een legende in de comedywereld en zijn shows zijn altijd zeer gewild. Hoe gaaf is het dan ook dat hij nu naar De Cacaofabriek komt! Dat wordt lachen. \n\n\n\nThe Jeroen Leenders Experience’ is de beste manier om zijn genialiteit te ervaren. In tegenstelling tot de meeste van zijn collega’s werkt Jeroen in dit format niet met afgewerkte grappen die duizenden keren zijn getest. Nee\, hier presenteert deze geweldenaar alleen ideeën waarvan hij zelf denkt dat deze grappig zouden kunnen zijn (of worden). Een volstrekt onvoorspelbare en retespannende show dus. Mis deze kans niet om een van de meest innovatieve comedians van onze tijd te zien. Koop nu je tickets en laat je verrassen door de onvoorspelbare en originele humor van Jeroen Leenders.
URL:https://ikhouvanhelmond.nl/event/jeroen-leenders/
LOCATION:De Cacaofabriek\, Cacaokade 1\, Helmond
CATEGORIES:Theater
END:VEVENT
BEGIN:VEVENT
DTSTART;TZID=UTC:20250302T201500
DTEND;TZID=UTC:20250302T221500
DTSTAMP:20260424T000446
CREATED:20250224T102832Z
LAST-MODIFIED:20250224T102832Z
UID:833-1740946500-1740953700@ikhouvanhelmond.nl
SUMMARY:Carnavalklucht St. Genesius
DESCRIPTION:Traditiegetrouw brengt de Helmondse Toneelgroep St. Genesius een hilarische carnavalsklucht ten tonele. Net als voorgaande keren staat St. Genesius garant voor een verrassend stuk\, vol humor en met een Helmonds accent. Met inmiddels meer dan veertig edities op de teller is dit een veelbesproken theatertraditie in Helmond en omstreken
URL:https://ikhouvanhelmond.nl/event/carnavalklucht-st-genesius/
LOCATION:Theater het Speelhuis\, Speelhuisplein 2\, Helmond
CATEGORIES:Theater
END:VEVENT
BEGIN:VEVENT
DTSTART;TZID=UTC:20250303T201500
DTEND;TZID=UTC:20250303T221500
DTSTAMP:20260424T000446
CREATED:20250224T102932Z
LAST-MODIFIED:20250224T102932Z
UID:835-1741032900-1741040100@ikhouvanhelmond.nl
SUMMARY:Carnavalsklucht St. Genesius
DESCRIPTION:Traditiegetrouw brengt de Helmondse Toneelgroep St. Genesius een hilarische carnavalsklucht ten tonele. Net als voorgaande keren staat St. Genesius garant voor een verrassend stuk\, vol humor en met een Helmonds accent. Met inmiddels meer dan veertig edities op de teller is dit een veelbesproken theatertraditie in Helmond en omstreken
URL:https://ikhouvanhelmond.nl/event/carnavalsklucht-st-genesius-2/
LOCATION:Theater het Speelhuis\, Speelhuisplein 2\, Helmond
CATEGORIES:Theater
END:VEVENT
BEGIN:VEVENT
DTSTART;TZID=UTC:20250307T201500
DTEND;TZID=UTC:20250307T214500
DTSTAMP:20260424T000446
CREATED:20250224T103305Z
LAST-MODIFIED:20250224T103319Z
UID:839-1741378500-1741383900@ikhouvanhelmond.nl
SUMMARY:Ronald Snijders - Als mens
DESCRIPTION:Ronald Snijders komt met een nieuwe show: Als Mens. De warrig gekapte komiek van de talige nonsens gaat dit keer vertellen over zijn echte leven\, als mens. Wie is de man achter de absurdist? En hoe is-ie daar zo gekomen? Al zal hij waarschijnlijk toch ook gewoon weer met oneliners strooien\, vreemde liedjes zingen en over de randen van de logica heen banjeren. \n\n\n\nRonald Snijders maakte Verkeerde Benen\, One Man Show\, Welke Show\, Groot Succes 2 en Een avond met mij. ‘Groot feest van absurditeiten\, woordgrappen\, slapstick en maffe liedjes’\, oordeelde de Volkskrant eerder. ‘Krankzinnig grappig\, ik heb me kapot gelachen’\, schreef Theaterparadijs. ‘Grote Ronald is briljant’\, kopte Theaterkrant. Zijn specialisme: absurdisme verpakt in nieuwe woorden\, gestoorde voordracht\, tweespraken met zichzelf en halve terzijdes. \nRonald Snijders schreef o.a. De Alfabetweter en De Schrikkelkalender (met Fedor van Eldijk) en maakt samen met Pieter Jouke de televisietheatertalkshow De Staat van Verwarring. \nLet op! In deze voorstelling wordt gebruik gemaakt van een stroboscoop.
URL:https://ikhouvanhelmond.nl/event/ronald-snijders/
LOCATION:Theater het Speelhuis\, Speelhuisplein 2\, Helmond
CATEGORIES:Theater
END:VEVENT
BEGIN:VEVENT
DTSTART;TZID=UTC:20250308T201500
DTEND;TZID=UTC:20250308T214500
DTSTAMP:20260424T000446
CREATED:20250224T103423Z
LAST-MODIFIED:20250224T103423Z
UID:843-1741464900-1741470300@ikhouvanhelmond.nl
SUMMARY:Soundos - Witte Ruis
DESCRIPTION:Witte ruis. Een constante geluidsstroom waar baby’s heerlijk op kunnen slapen. Zo ook de baby van Soundos. Hij ontspant zich dan onmiddellijk. \n\n\n\n\n\nSoundos ervaart zelf hele andere soorten “witte ruis”. En die hebben zeker geen kalmerende werking. Mensen die haar tegenwerken\, vinden dat ze te veel ruimte inneemt of te luid is. Toetsenbordridders die online haat verspreiden. Maar Soundos heeft besloten zich te bevrijden van alle ruis. Die vrijheid maakt haar gelukkiger. Zorgt ervoor dat ze nóg meer schijt heeft aan de wereld en nóg zelfverzekerder wordt. Zoals de Theaterkrant al schreef over haar laatste voorstelling Comeback Kid: “Maak geen ruzie met Soundos\, want je staat tegenover een vleesgeworden stroomstootwapen\, honkbalknuppel en verbaal kanon.” \n\n\nDat egoïsme heeft een positieve invloed gegeven aan haar leven. Ze is gelukkig en haalt succes na succes. Wij kijken daarom met enthousiasme en een paar angstzweetpareltjes uit naar de nieuwe voorstelling van Soundos: Witte Ruis.
URL:https://ikhouvanhelmond.nl/event/soundos-witte-ruis/
LOCATION:Theater het Speelhuis\, Speelhuisplein 2\, Helmond
CATEGORIES:Theater
END:VEVENT
BEGIN:VEVENT
DTSTART;TZID=UTC:20250311T201500
DTEND;TZID=UTC:20250311T201500
DTSTAMP:20260424T000446
CREATED:20250224T120521Z
LAST-MODIFIED:20250224T120737Z
UID:860-1741724100-1741724100@ikhouvanhelmond.nl
SUMMARY:Trompettist in Auschwitz
DESCRIPTION:Trompettist in Auschwitz is een verhaal van overleven. Een verhaal van je vastklampen aan het kleinste sprankje schoonheid in een verder compleet duistere wereld. Een verhaal over één van de zwartste bladzijden uit onze wereldgeschiedenis. Een verhaal dat aantoont hoe belangrijk het is dat we het blijven vertellen. Dat we blijven herdenken. Dat we nooit vergeten. \n\n\n\n\n\nLex van Weren wordt geboren in 1920 en groeit op in Amsterdam. Het spelen op de trompet leert hij zichzelf aan. Als in de Tweede Wereldoorlog het hele gezin Van Weren wordt opgepakt en op transport wordt gezet naar vernietigingskamp Auschwitz\, is het juist de trompet die hem het leven redt. Als enige van het gezin weet hij\, als lid van het kamporkest\, de verschrikkelijke tijd in het kamp te overleven als gevangene 16848. In 1980 haalde schrijver Dick Walda hem\, na jaren van zwijgen\, over om zijn verhaal te vertellen. Dat schokkende en emotionele relaas vormt het hart van deze intieme productie. \n\n\nActeurs Thomas Cammaert en Soy Kroon vertellen en spelen in een regie van Eddy Habbema het bijzondere en aangrijpende verhaal van Lex van Weren\, de trompettist in Auschwitz. Het boek van Dick Walda wordt door Allard Blom bewerkt tot theatertekst.
URL:https://ikhouvanhelmond.nl/event/trompettist-in-auschwitz/
LOCATION:Theater het Speelhuis\, Speelhuisplein 2\, Helmond
CATEGORIES:Theater
END:VEVENT
BEGIN:VEVENT
DTSTART;TZID=UTC:20250313T173000
DTEND;TZID=UTC:20250313T173000
DTSTAMP:20260424T000446
CREATED:20250224T121005Z
LAST-MODIFIED:20250224T121005Z
UID:870-1741887000-1741887000@ikhouvanhelmond.nl
SUMMARY:Fawlty Towers - the dining experience
DESCRIPTION:Je gaat dineren in het hotel en laat je bedienen door Sybil\, Basil en Manuel\, vertolkt door ‘s werelds beste imitatoren van het illustere trio uit één van de beste televisiekomedies ooit: ‘Fawlty Towers’. Zij sleuren je mee in de hilarische wereld van het hotel- en restaurantwezen. Het publiek geniet van een fantastische komedie onder het genot van een heerlijk driegangendiner. \n\n\n\n\n\nGeniet van de chaos\, hilariteit en herkenbaarheid met Sybil\, Basil en Manuel! \n\n\n…please wait to be seated and don’t mention the war…!!! \n\n\n‘Senor Fawlty\, don’t git me! I know nothing! I am from Barcelona!’ \n\n\nNa het gigantische succes op het Melbourne Festival\, het Adelaide Festival en het Edinburgh Festival nu weer terug in Nederland. De nooit opgenomen dertiende aflevering voor televisie wordt werkelijkheid in het theater. \nLet op: deze voorstelling is in het Engels.
URL:https://ikhouvanhelmond.nl/event/fawlty-towers-the-dining-experience/
LOCATION:Theater het Speelhuis\, Speelhuisplein 2\, Helmond
CATEGORIES:Theater
END:VEVENT
BEGIN:VEVENT
DTSTART;TZID=UTC:20250314T201500
DTEND;TZID=UTC:20250314T214500
DTSTAMP:20260424T000446
CREATED:20250224T121138Z
LAST-MODIFIED:20250224T121138Z
UID:872-1741983300-1741988700@ikhouvanhelmond.nl
SUMMARY:Dai Carter - mentale kracht
DESCRIPTION:Op zijn zeventiende koos Dai Carter voor een leven als militair. Toen hij achttien was ging hij voor de eerste keer op missie naar Afghanistan. Het was zijn doel om commando te worden en op twintigjarige leeftijd rondde hij de loodzware commando opleiding af. Daar begon zijn carrière bij de Nederlandse Special Forces. \n\n\n\n\n\nHij diende tien jaar bij het Korps Commandotroepen en ging acht keer op missie naar verschillende conflictgebieden. Dai heeft als Special Forces Medic altijd een diepe interesse gehad in de fysiologie\, psychologie\, biologie en neurologie. Door de jaren heen heeft hij veel kennis opgebouwd op het gebied van Mentale Kracht. Hij wil deze kennis graag delen met een groter publiek en schreef er een boek over\, inmiddels een bestseller. Bovendien heeft Dai een model ontwikkeld waarmee organisaties en individuen hun Mentale Kracht kunnen versterken. In het voorjaar van 2023 verschijnt zijn tweede boek: Mentale Kracht. Dai traint als hoofdinstructeur al enkele seizoenen de mentale kracht van burgers in het succesvolle tv-programma Kamp van Koningsbrugge. \n\n\nIn zijn theatercollege neemt Dai het publiek mee langs de spannende verhalen van de avonturen die hij als commando heeft meegemaakt\, ondersteund met nooit eerder vertoond eigen beeldmateriaal. Deze verhalen koppelt hij aan mentale kracht\, weerbaarheid en veerkracht\, de thema’s die ook staan beschreven in zijn boeken. Het publiek heeft een actieve rol in de voorstelling tijdens enkele oefeningen zoals Tactical Breathing en de mogelijkheid om vragen te stellen aan het eind. Na een avond met Dai verlaat iedereen de zaal met concrete handvatten om zichzelf mentaal krachtiger te voelen en beter te weten hoe mentale kracht kan worden ingezet. Voor zichzelf maar ook voor anderen.
URL:https://ikhouvanhelmond.nl/event/dai-carter-mentale-kracht/
LOCATION:Theater het Speelhuis\, Speelhuisplein 2\, Helmond
CATEGORIES:Theater
END:VEVENT
BEGIN:VEVENT
DTSTART;TZID=UTC:20250316T143000
DTEND;TZID=UTC:20250316T143000
DTSTAMP:20260424T000446
CREATED:20250224T121433Z
LAST-MODIFIED:20250224T121433Z
UID:876-1742135400-1742135400@ikhouvanhelmond.nl
SUMMARY:Carnavalsklucht St. Genesius
DESCRIPTION:Traditiegetrouw brengt de Helmondse Toneelgroep St. Genesius een hilarische carnavalsklucht ten tonele. Net als voorgaande keren staat St. Genesius garant voor een verrassend stuk\, vol humor en met een Helmonds accent. Met inmiddels meer dan veertig edities op de teller is dit een veelbesproken theatertraditie in Helmond en omstreken.
URL:https://ikhouvanhelmond.nl/event/carnavalsklucht-st-genesius-4/
LOCATION:Theater het Speelhuis\, Speelhuisplein 2\, Helmond
CATEGORIES:Theater
END:VEVENT
BEGIN:VEVENT
DTSTART;TZID=UTC:20250319T201500
DTEND;TZID=UTC:20250319T214500
DTSTAMP:20260424T000446
CREATED:20250224T122048Z
LAST-MODIFIED:20250224T122048Z
UID:882-1742415300-1742420700@ikhouvanhelmond.nl
SUMMARY:Klaas van Eerden - Blijven drijven
DESCRIPTION:Na tien jaar is Klaas van der Eerden terug in het theater met Blijven drijven: een energieke comedyshow met sketches\, typetjes\, muziek en misschien wel dans… \n\n\nKlaas was de afgelopen jaren vooral te zien op tv\, onder meer in Foute Vrienden en CupCakeCup en te horen op de radio bij de ochtendshow van Radio 538. Iedere morgen om 4.15 uur op en dan vrolijk achter de microfoon kruipen\, Klaas kan dat. \n\n\n\n\n\nWaar komt toch die onbedaarlijke gedrevenheid vandaan om iedereen voortdurend te vermaken en aan het lachen te krijgen? En stond dit levenslot\, door een noodlottig ongeval in zijn familie\, eigenlijk niet al vanaf zijn geboorte vast? In dit theaterprogramma probeert Klaas antwoord te geven op deze vraag. Eén ding staat als een paal boven water: hij zal altijd blijven drijven. \n\n\nOver Klaas\nKlaas van der Eerden is cabaretier en presentator voor televisie en radio. In 1999 won hij zowel de jury als de publieksprijs op het Amsterdams Kleinkunstfestival\, waarna hij gedurende vijftien jaar maar liefst zeven avondvullende cabaretprogramma’s maakte waaronder Extreem!\, Wortels en Breedbeeld. \n\n\nIn 2014 besloot hij zich te focussen op zijn radio en televisiecarrière. Op televisie kreeg hij onder andere bekendheid als één van de Foute Vrienden en als presentator van de CupCakeCup. \n\n\nVanaf 2018 tot en met 2023 was hij veelvuldig te horen als sidekick op Radio 538. De laatste 2 jaar van deze periode presenteerde hij dagelijks samen met Wietze de Jager De ochtendshow.
URL:https://ikhouvanhelmond.nl/event/klaas-van-eerden-blijven-drijven/
LOCATION:Theater het Speelhuis\, Speelhuisplein 2\, Helmond
CATEGORIES:Theater
END:VEVENT
BEGIN:VEVENT
DTSTART;TZID=UTC:20250320T201500
DTEND;TZID=UTC:20250320T214500
DTSTAMP:20260424T000446
CREATED:20250224T122222Z
LAST-MODIFIED:20250224T122222Z
UID:884-1742501700-1742507100@ikhouvanhelmond.nl
SUMMARY:Diederik Jekel - De kunst van kunstmatige intelligentie
DESCRIPTION:Zal kunstmatige intelligentie (KI) de ondergang van de mensheid betekenen of gewoon de oplossing voor alle saaie klusjes op kantoor? Mails die geschreven en beantwoord worden door een programma\, dan doorgestuurd worden naar het programma van je collega dat dan weer die mails beantwoordt; er komt geen mens meer tussen. Nooit meer zelf een PowerPoint maken of een document samenvatten voor je baas of weten wanneer een video echt is of niet. Straks zijn journalisten\, kunstenaars en rechters ook gewoon vervangen door KI. Nooit meer nadenken en ploeteren op je werk\, want de computer kan uw werk beter dan uzelf. Hoe zijn we hier in vredesnaam in terecht gekomen en wat gaat dit betekenen voor de mensheid? Wat is leven? Wat is creativiteit? Bestaat evolutie nog en is dit het gevolg? \n\n\n\n\n\nDiederik Jekel gaat u in dit unieke theatrale voorstellingscollege meenemen in een heel bijzonder verhaal. Het grootste verhaal denkbaar. Dat over het leven zelf. Hoe kwam leven\, hoe kwam toen de mens en hoe kwam uiteindelijk de computer? Het belooft een prachtige avond met veel humor te worden en aan het einde van de voorstelling zult u nooit meer hetzelfde kijken naar welke bacterie\, mens of computer dan ook en een goed gevoel hebben bij hoe kunstmatige intelligentie onder de motorkap werkt. Bedoeld voor iedereen\, van jong tot oud en ook (juist) voor mensen die nauwelijks de aan-knop van hun telefoon kunnen vinden. \n\n\n  \n\n\nHet verandert je kijk voor altijd op datgene dat jouw leven meer beïnvloedt dan welk ander ding in ons leven: de computer. En dat in maar anderhalf uur! Wellicht de laatste voorstelling die u ooit zult zien die nog door een mens geschreven is.
URL:https://ikhouvanhelmond.nl/event/diederik-jekel-de-kunst-van-kunstmatige-intelligentie/
LOCATION:Theater het Speelhuis\, Speelhuisplein 2\, Helmond
CATEGORIES:Theater
END:VEVENT
BEGIN:VEVENT
DTSTART;TZID=UTC:20250321T201500
DTEND;TZID=UTC:20250321T215500
DTSTAMP:20260424T000446
CREATED:20250224T122444Z
LAST-MODIFIED:20250224T122444Z
UID:886-1742588100-1742594100@ikhouvanhelmond.nl
SUMMARY:Patrick Nederkoorn - Uit de klauwen
DESCRIPTION:Patrick is een natuurvriend. Denkt hij. Als hij woont in een flatje in de stad. Maar dan verhuist hij met vrouw en kind naar een hutje in het bos. Met wel heel veel bomen\, spinnen en teken. En als er dan ook nog een wolf door zijn straat loopt\, wordt het beest in hem wakker. Hij waagt zich de natuur in om duidelijk te maken dat er niks gaat boven de mens. \n\n\n\nNa de succesvolle voorstelling Hoogtij over klimaatverandering (nominatie Poelifinario\, 5 sterren in Dagblad Trouw) komt Patrick Nederkoorn met een nieuwe cabaretvoorstelling over menselijke hoogmoed. Een humoristische trip over eten of gegeten worden. En over hoe je verandert als je denkt dat er overal gevaar loert. \nPiano: Guido van de Meent\nRegie: Titus Tiel Groenstege
URL:https://ikhouvanhelmond.nl/event/patrick-nederkoorn-uit-de-klauwen/
LOCATION:Theater het Speelhuis\, Speelhuisplein 2\, Helmond
CATEGORIES:Theater
END:VEVENT
BEGIN:VEVENT
DTSTART;TZID=UTC:20250325T200000
DTEND;TZID=UTC:20250325T220000
DTSTAMP:20260424T000446
CREATED:20250225T064311Z
LAST-MODIFIED:20250225T064311Z
UID:897-1742932800-1742940000@ikhouvanhelmond.nl
SUMMARY:Literair café - Joris van Casteren
DESCRIPTION:Joris van Casteren (1976) stond als journalist al bekend om zijn meesterlijke reportages\, waarvoor hij het Gouden Pennetje ontving\, toen hij in 2008 doorbrak met Lelystad. Daarna publiceerde hij onder meer de eveneens goed ontvangen boeken Het been in de IJssel (2013)\, Mensen op Mars (2016)\, Moeders lichaam (2019) en Eenzaamheid (2021). \n\n\n\nVan Casteren is ook coördinator van de stichting De Eenzame Uitvaart in Amsterdam. Maandelijks schrijft hij in de Volkskrant over de levens van de eenzaam overledenen\, die met een persoonlijk gedicht door een bekende dichter worden geëerd. Voor zijn meest recente boek\, De mensheid zal nog van mij horen (2024)\, stortte hij zich vijf jaar lang op een merkwaardig archief\, gevuld met dagboeken van honderden onbekende mensen. Met verwondering en humor schrijft Van Casteren over de levens van de ‘gewone’ Nederlanders\, vol heimelijke verlangens en wonderbaarlijke wendingen. De tot dan toe ongehoorde verhalen werpen een nieuw licht op onze snel veranderende maatschappij. \nOp 25 maart wordt Joris van Casteren geïnterviewd door Linda Modderkolk. \nDonateurs van het Literair Café kunnen met hun code twee plaatsen reserveren. Ongeveer een week voor aanvang gaan de overgebleven plaatsen in de vrije verkoop. Een kaartje kost 12\,50 euro. Bezoekers tot 18 jaar betalen 5 euro. Voor 80 euro bent u donateur en kunt u twee kaarten per avond reserveren. \nMeer informatie vindt u op www.literaircafehelmond.nl.
URL:https://ikhouvanhelmond.nl/event/literair-cafe-joris-van-casteren/
LOCATION:Theater het Speelhuis\, Speelhuisplein 2\, Helmond
CATEGORIES:Theater
END:VEVENT
BEGIN:VEVENT
DTSTART;TZID=UTC:20250327T201500
DTEND;TZID=UTC:20250327T214500
DTSTAMP:20260424T000446
CREATED:20250225T064623Z
LAST-MODIFIED:20250225T064623Z
UID:901-1743106500-1743111900@ikhouvanhelmond.nl
SUMMARY:Het Sterrehuis
DESCRIPTION:Het Sterrehuis is een even aangrijpende als lichte voorstelling over vier kinderen die terugblikken op hun jeugd in een kindertehuis. Een actueel verhaal\, radicaal verteld vanuit het kinderperspectief. \nOntmoet vier Sterrehuis-kinderen: Mea wil niets liever dan naar een pleeggezin\, Frenkie zoekt zijn familie\, Peet mist zijn moeder en Summer wil nooit meer terug naar huis. In een dromerig niemandsland bloeit een verhaal op van grote eenzaamheid en voorzichtige vriendschap waarin de fantasie steeds wordt doorbroken door de harde werkelijkheid. Een verhaal over de moedige zoektocht naar geborgenheid en het vinden van je eigen plek. \n\n\n\nLaagland-huisschrijver Annet Bremen liet zich inspireren door het Heerlense Sterrehuis\, exemplarisch voor vele kindertehuizen uit de jaren ’70. Deze prijswinnende theatertekst\, gebaseerd op Bremens onderzoek en interviews met voormalig Sterrehuis-kinderen en -medewerkers\, is actueler dan ooit. Regietalent Silke van Kamp creëerde op basis van deze tekst – in 2023 bekroond met de internationale jeugdtheaterschrijfprijs Kaas & Kappes én genomineerd voor de Toneelschrijfprijs – een indringende voorstelling met een fantastische cast. \nHet Sterrehuis was eerder al dé festivalhit tijdens Cultura Nova 2022 en ontving lovende persreacties. De Volkskrant (4 sterren): “Een even grappig en speels alsook grimmig en aangrijpend relaas over de loyaliteit aan falende ouders\, het verlangen naar een thuis en het moeten auditeren voor pleeggezinnen.” Theaterkrant bestempelde Het Sterrehuis als ‘Keuze van de criticus’: “Heel speels en krachtig brengen de vier spelers hun personages tot leven\, geloofwaardig\, naturel en tegelijkertijd treffend subtiel en suggestief laten ze twijfels\, woede\, drift\, eenzaamheid overgaan in vriendschap\, in troost bij elkaar\, steun\, samen plezier hebben\, moed.” Het juryrapport van de Toneelschrijfprijs looft Bremens ‘zinderende taal’: “Bremens poëtische pen zalft de eenzaamheid en het verdriet niet weg. De poëzie triggert de verbeelding en\, daardoor\, de emoties van de lezer. Deze toegankelijke tekst snijdt in je hart.” \nEen voorstelling voor volwassenen\, ook geschikt voor kinderen vanaf 10 jaar. Speciaal aanbevolen voor ervaringsdeskundigen en medewerkers uit de jeugdzorg. \n45 Minuten voor aanvang wordt er een inleiding gegeven door Annette Embrechts\, dans- en theaterjournaliste voor de Volkskrant. Hiervoor kun je kosteloos een plekje reserveren tijdens het bestelproces.
URL:https://ikhouvanhelmond.nl/event/het-sterrehuis/
LOCATION:Theater het Speelhuis\, Speelhuisplein 2\, Helmond
CATEGORIES:Theater
END:VEVENT
BEGIN:VEVENT
DTSTART;TZID=UTC:20250328T201500
DTEND;TZID=UTC:20250328T214000
DTSTAMP:20260424T000446
CREATED:20250225T064817Z
LAST-MODIFIED:20250225T064817Z
UID:903-1743192900-1743198000@ikhouvanhelmond.nl
SUMMARY:Sezgin Güleç - Wild\, Barbaars en Bloeddorstig
DESCRIPTION:Ik heet Sezgin en ik ben de minst bekende gast die zit in de race om de definiërende stand-up comedian van deze tijd te worden. Na het zien van de show zul je zien dat ik het in me heb om te winnen. Het was een lange weg van de diepste krochten van dit land tot aan het podium en het wordt een nog langer pad van het podium naar de top. Ik deel dat pad graag met je. Tot in het theater. \n\n\n\n\n\nDaniël Arends over Sezgin: \n\n\n“Eindelijk weer eens iemand die niet op het podium staat alsof ie een 10 voor stand-up comedy probeert te halen\, maar er gewoon als dier staat dat doet wat het moet doen. Namelijk onvoorspelbaar\, uniek\, en vooral grappig zijn.” \n\n\nSezgin werd door de Volkskrant uitgeroepen tot hét comedytalent van 2024. Eerder tourde hij twee seizoenen door het land in het voorprogramma van Patrick Laureij.
URL:https://ikhouvanhelmond.nl/event/sezgin-gulec-wild-barbaars-en-bloeddorstig/
LOCATION:Theater het Speelhuis\, Speelhuisplein 2\, Helmond
CATEGORIES:Theater
END:VEVENT
END:VCALENDAR