BEGIN:VCALENDAR
VERSION:2.0
PRODID:-//IK HOU VAN HELMOND - ECPv6.15.20//NONSGML v1.0//EN
CALSCALE:GREGORIAN
METHOD:PUBLISH
X-WR-CALNAME:IK HOU VAN HELMOND
X-ORIGINAL-URL:https://ikhouvanhelmond.nl
X-WR-CALDESC:Evenementen voor IK HOU VAN HELMOND
REFRESH-INTERVAL;VALUE=DURATION:PT1H
X-Robots-Tag:noindex
X-PUBLISHED-TTL:PT1H
BEGIN:VTIMEZONE
TZID:UTC
BEGIN:STANDARD
TZOFFSETFROM:+0000
TZOFFSETTO:+0000
TZNAME:UTC
DTSTART:20240101T000000
END:STANDARD
END:VTIMEZONE
BEGIN:VEVENT
DTSTART;TZID=UTC:20250525T150000
DTEND;TZID=UTC:20250525T150000
DTSTAMP:20260421T131335
CREATED:20250411T143100Z
LAST-MODIFIED:20250411T144216Z
UID:1470-1748185200-1748185200@ikhouvanhelmond.nl
SUMMARY:BarokOpera Amsterdam - Mozarts Ontvoering uit de Harem
DESCRIPTION:BarokOpera Amsterdam\, in 2000 opgericht door fluitiste en dirigent Frédérique Chauvet\, maakt hedendaags muziektheater. Het ensemble laat je kennismaken met populaire opera’s uit de 17e\, 18e en 19e eeuw die de tand des tijds glansrijk hebben doorstaan\, zoals dit keer Mozarts prachtige ‘Die Entführung aus dem Serail’ uit 1782. \n\n\n\nDe Spaanse edelman Belmonte bevrijdt zijn geliefde Konstanze uit het Turkse paleis van de pasja Bassa Selim. Maar ze worden gepakt en voorgeleid aan de pasja\, die hen in eerste instantie terecht wil stellen. Ondanks zijn gevoelens voor Konstanze laat Bassa Selim\, als verlicht heerser\, de geliefden en hun bedienden vrijuit gaan. \nDe jeugdige Mozart en zijn tijdgenoten waren gefascineerd door het Ottomaanse rijk\, maar hadden weinig echte kennis over dit cultureel zeer ontwikkelde gebied. BarokOpera Amsterdam slaat daarom de handen ineen met makers met een Turkse achtergrond en laat componist en muziektheatermaker Selim Doğru nieuwe muziek maken bij de opera. Zo wordt ‘Ontvoering uit de Harem’ een dialoog tussen westerse en oosterse cultuur. \n 
URL:https://ikhouvanhelmond.nl/event/barokopera-amsterdam-mozarts-ontvoering-uit-de-harem/
LOCATION:Theater het Speelhuis\, Speelhuisplein 2\, Helmond
CATEGORIES:Muziek
ATTACH;FMTTYPE=image/jpeg:https://ikhouvanhelmond.nl/wp-content/uploads/2025/04/1173x640_De-ontvoering-uit-de-Harem_cr.-Lennart-Monaster.jpg
END:VEVENT
END:VCALENDAR