BEGIN:VCALENDAR
VERSION:2.0
PRODID:-//IK HOU VAN HELMOND - ECPv6.15.20//NONSGML v1.0//EN
CALSCALE:GREGORIAN
METHOD:PUBLISH
X-WR-CALNAME:IK HOU VAN HELMOND
X-ORIGINAL-URL:https://ikhouvanhelmond.nl
X-WR-CALDESC:Evenementen voor IK HOU VAN HELMOND
REFRESH-INTERVAL;VALUE=DURATION:PT1H
X-Robots-Tag:noindex
X-PUBLISHED-TTL:PT1H
BEGIN:VTIMEZONE
TZID:UTC
BEGIN:STANDARD
TZOFFSETFROM:+0000
TZOFFSETTO:+0000
TZNAME:UTC
DTSTART:20240101T000000
END:STANDARD
END:VTIMEZONE
BEGIN:VEVENT
DTSTART;TZID=UTC:20250524T201500
DTEND;TZID=UTC:20250524T214000
DTSTAMP:20260423T090551
CREATED:20250411T142529Z
LAST-MODIFIED:20250411T142529Z
UID:1464-1748117700-1748122800@ikhouvanhelmond.nl
SUMMARY:Fuse - Studio Fuse
DESCRIPTION:Als huisband van het tv-programma Podium Klassiek heeft Fuse de afgelopen tien jaar een snoepwinkel met bijzonder repertoire opgebouwd. Van beroemde en verborgen parels uit de klassieke muziek en jazz tot splinternieuwe noten van de spannendste componisten van nu. \n\n\n\n\n\nIn hun theaterconcert Studio Fuse komen de beste stukken en leukste verhalen uit de tv-studio samen met persoonlijke favorieten van het zestal. Zet je oren open voor een onvoorspelbare muzikale wereldreis met de winnaars van de Edison Klassiek Publieksprijs aan het roer. \n\n\nStudio Fuse is een symfonisch grens verkennende avond waarin zes vrienden hun uiteenlopende muzikale smaken onder één dak verenigen. \n 
URL:https://ikhouvanhelmond.nl/event/fuse-studio-fuse/
LOCATION:Theater het Speelhuis\, Speelhuisplein 2\, Helmond
CATEGORIES:Muziek
ATTACH;FMTTYPE=image/jpeg:https://ikhouvanhelmond.nl/wp-content/uploads/2025/04/fuse.jpg
END:VEVENT
BEGIN:VEVENT
DTSTART;TZID=UTC:20250524T204500
DTEND;TZID=UTC:20250524T222500
DTSTAMP:20260423T090551
CREATED:20250325T122640Z
LAST-MODIFIED:20250325T122640Z
UID:1270-1748119500-1748125500@ikhouvanhelmond.nl
SUMMARY:Her Majesty - San Francisco City Trip
DESCRIPTION:Gaaf! Her Majesty gaat ook weer in de clubs spelen en doet gelukkig ook De Cacaofabriek aan. De band reist in zijn nieuwe programma naar het San Francisco van eind jaren zestig\, begin jaren zeventig. De stad werkte in die tijd als een magneet voor muzikanten uit de hele wereld. Dat wordt dus een heerlijke avond met muziek van onder meer Grateful Dead\, Jefferson Airplane\, CCR\, Steve Miller en David Crosby. \n\n\n\nNa het succesvolle ‘Are You Ready For The Country’\, waarin de countryrock centraal stond\, gaat de reis dit keer dus naar San Francisco. Wat de pers schreef over Her Majesty: \n“Samenzang van bijna angstaanjagende perfectie. De grote kracht van Her Majesty is dat ze tekeergaan als een echt bandje.” – de Volkskrant. “Muzikale klasse\, spelplezier en geweldige zang. Alles messcherp. Bloedstollend mooi.” – Dagblad van het Noorden. \nGitaar en zang: Jelle Paulusma en Theo Sieben | Gitaar\, toetsen en zang: Paul Bond | Bas en zang: Dirk Schreuders | Drums en zang: Bauke Bakker.
URL:https://ikhouvanhelmond.nl/event/her-majesty-san-francisco-city-trip/
LOCATION:De Cacaofabriek\, Cacaokade 1\, Helmond
CATEGORIES:Muziek
ATTACH;FMTTYPE=image/png:https://ikhouvanhelmond.nl/wp-content/uploads/2025/03/Her-Majesty.png
END:VEVENT
BEGIN:VEVENT
DTSTART;TZID=UTC:20250524T220000
DTEND;TZID=UTC:20250524T220000
DTSTAMP:20260423T090551
CREATED:20250305T135425Z
LAST-MODIFIED:20250411T183358Z
UID:995-1748124000-1748124000@ikhouvanhelmond.nl
SUMMARY:Saturday Night Basement Beatz
DESCRIPTION:Traveller Keyz bekend als toetsenist van Kenny B en mede organisator van de jamsessies\, gaat vanavond los achter de draaitafel! \nMet een mix van Hiphop\, Reggae\, Pop\, Dance\, Dubstep en Drum and Bass\, zal hij Muziekcafé omtoveren tot een dancehall! \nCU on the dance floor!
URL:https://ikhouvanhelmond.nl/event/friday-night-basement-beatz/
LOCATION:Muziekcafe\, Zuid Koninginnewal 39\, Helmond
CATEGORIES:Muziek
ATTACH;FMTTYPE=image/png:https://ikhouvanhelmond.nl/wp-content/uploads/2025/03/keyz.png
END:VEVENT
END:VCALENDAR