BEGIN:VCALENDAR
VERSION:2.0
PRODID:-//IK HOU VAN HELMOND - ECPv6.15.20//NONSGML v1.0//EN
CALSCALE:GREGORIAN
METHOD:PUBLISH
X-WR-CALNAME:IK HOU VAN HELMOND
X-ORIGINAL-URL:https://ikhouvanhelmond.nl
X-WR-CALDESC:Evenementen voor IK HOU VAN HELMOND
REFRESH-INTERVAL;VALUE=DURATION:PT1H
X-Robots-Tag:noindex
X-PUBLISHED-TTL:PT1H
BEGIN:VTIMEZONE
TZID:UTC
BEGIN:STANDARD
TZOFFSETFROM:+0000
TZOFFSETTO:+0000
TZNAME:UTC
DTSTART:20240101T000000
END:STANDARD
END:VTIMEZONE
BEGIN:VEVENT
DTSTART;TZID=UTC:20250523T220000
DTEND;TZID=UTC:20250523T220000
DTSTAMP:20260423T090549
CREATED:20250411T183847Z
LAST-MODIFIED:20250411T185251Z
UID:1511-1748037600-1748037600@ikhouvanhelmond.nl
SUMMARY:Nothing Beats the 80s!
DESCRIPTION:Je 80s wensen komen uit!! Maak je klaar voor een avond vol nostalgie!\nDe ene na de andere 80s knaller en vergeten hit\, zal nonstop door de speakers schallen.\nStof je zweetbandjes\, been warmers en neon lichtjes af en ga los op de muziek uit deze geweldige periode!\n80s Hits All Night Long \nPure Nostalgie\nNothing But 80s Legends\nU2\, A-Ha\, David Bowie\, Blondie\, Boy George\, Doe Maar\, George Michael\, Culture Club\, Soft Cell\, Madonna\, Prince\, Depeche Mode\, The Clash\, Pet Shop Boys\, Wham\, ABBA\, Toontje Lager\, Spandau Ballet\, Duran Duran\, The Smiths\, Tears For fears\, Echo and The Bunnymen\, Talking Heads\, New Order\, Joy Division\, Frankie Goes To Hollywood\, The Human League\, Madness & nog veel meer!\nDJ Frogson is de 80s DJ bij uitstek en dat zul je merken ook!!
URL:https://ikhouvanhelmond.nl/event/nothing-beats-the-80s/
LOCATION:Muziekcafe\, Zuid Koninginnewal 39\, Helmond
CATEGORIES:Muziek
ATTACH;FMTTYPE=image/png:https://ikhouvanhelmond.nl/wp-content/uploads/2025/03/Scherm­afbeelding-2025-04-11-om-20.28.36.png
END:VEVENT
END:VCALENDAR