BEGIN:VCALENDAR
VERSION:2.0
PRODID:-//IK HOU VAN HELMOND - ECPv6.15.20//NONSGML v1.0//EN
CALSCALE:GREGORIAN
METHOD:PUBLISH
X-WR-CALNAME:IK HOU VAN HELMOND
X-ORIGINAL-URL:https://ikhouvanhelmond.nl
X-WR-CALDESC:Evenementen voor IK HOU VAN HELMOND
REFRESH-INTERVAL;VALUE=DURATION:PT1H
X-Robots-Tag:noindex
X-PUBLISHED-TTL:PT1H
BEGIN:VTIMEZONE
TZID:UTC
BEGIN:STANDARD
TZOFFSETFROM:+0000
TZOFFSETTO:+0000
TZNAME:UTC
DTSTART:20240101T000000
END:STANDARD
END:VTIMEZONE
BEGIN:VEVENT
DTSTART;TZID=UTC:20250513T193000
DTEND;TZID=UTC:20250513T230000
DTSTAMP:20260423T090545
CREATED:20250428T105205Z
LAST-MODIFIED:20250428T105607Z
UID:1611-1747164600-1747177200@ikhouvanhelmond.nl
SUMMARY:Eurovision Viewing Party
DESCRIPTION:Hello Europe! Ben jij klaar voor een avond vol spektakel\, glitter en muzikale verrassingen? Kijk de halve finale – met Nederlandse deelname – van het 69ste Eurovisie Songfestival. Krijgt Claude de felbegeerde Douze Points? \n\n\n\nOp dinsdag 13 mei kijken we samen de halve finale. We gaan genieten van alle optredens\, meezingen met de beste (en misschien ook de slechtste) nummers en natuurlijk onze eigen scores geven. \nWat kun je verwachten? \n\nLive-uitzending op groot scherm – mis geen enkel optreden!\nGezellige Eurovisie-sfeer – met vlaggetjes\, snacks en misschien een glittertje hier en daar.\nPunten uitdelen – wie verdient jouw douze points?\nFeestelijke vibes – trek je mooiste Eurovisie-outfit aan en leef je uit!\n\nDragshow\nDe avond begint met een Eurovisie Drag Show! Crow en House of Salvia slaan de handen ineen om jou een uur lang te vermaken met de grootste Eurovisie hits! \nProgramma\n19.30 uur | Inloop\n20.00 uur | Eurovisie Drag Show\n21.00 uur | Viewing Eurovisie\n23.00 uur | Einde
URL:https://ikhouvanhelmond.nl/event/eurovision-viewing-party/
LOCATION:De Cacaofabriek\, Cacaokade 1\, Helmond
CATEGORIES:Muziek
ATTACH;FMTTYPE=image/png:https://ikhouvanhelmond.nl/wp-content/uploads/2025/04/songfestival-viewing-party.png
END:VEVENT
END:VCALENDAR