BEGIN:VCALENDAR
VERSION:2.0
PRODID:-//IK HOU VAN HELMOND - ECPv6.15.20//NONSGML v1.0//EN
CALSCALE:GREGORIAN
METHOD:PUBLISH
X-ORIGINAL-URL:https://ikhouvanhelmond.nl
X-WR-CALDESC:Evenementen voor IK HOU VAN HELMOND
REFRESH-INTERVAL;VALUE=DURATION:PT1H
X-Robots-Tag:noindex
X-PUBLISHED-TTL:PT1H
BEGIN:VTIMEZONE
TZID:UTC
BEGIN:STANDARD
TZOFFSETFROM:+0000
TZOFFSETTO:+0000
TZNAME:UTC
DTSTART:20240101T000000
END:STANDARD
END:VTIMEZONE
BEGIN:VEVENT
DTSTART;TZID=UTC:20250511T143000
DTEND;TZID=UTC:20250511T163000
DTSTAMP:20260423T090846
CREATED:20250208T163402Z
LAST-MODIFIED:20250210T110510Z
UID:612-1746973800-1746981000@ikhouvanhelmond.nl
SUMMARY:Jazz at the castle
DESCRIPTION:Heb je zin in een ontspannen en muzikale zondagmiddag? Kom dan gezellig langs en geniet van live muziek in de prachtige Ridderzaal van Kasteel Helmond! \nAllerlei stijlen komen voorbij\, van swing en cool jazz tot boogiewoogie en dixieland waarbij de nodige improvisatie solo’s niet ontbreken. Er mag uiteraard ook gedanst worden. Elke keer is er een andere band of combo aanwezig. De zaal is sfeervol ingericht\, de ober staat voor je klaar en de muzikanten staan te popelen om te spelen. Kortom: Jazz at the Castle heeft alle ingrediënten voor een gezellige zondagmiddag! \nJazz at the Castle vindt in 2025 plaats in Kasteel Helmond op de volgende data: 12 januari\, 9 februari\, 16 maart\, 13 april\, 11 mei\, 7 september  en 5 oktober van 14.30 uur tot 16.30 uur met een pauze. Op 12 januari speelt Het Zaltbommels Jazzcombo\, op 9 februari Two Way Strech\, op 16 maart Tipiko Den Haag Caraïbische Jazz\, op 13 april Blue Jacket Jazzband\, op 11 mei Mellowtones\, op 7 september Hands up 4 Jazz en op 5 oktober Take 8. \nEen kaartje koop je (alleen) online voor €9\,50 per persoon. Dit is inclusief 1 drankje: koffie of thee. Wil je van tevoren ook het museum bezoeken? Dan heb je met aanschaf van een Jazz at the Castle ticket 50% korting op de entreeprijs\, je kan je keuze aangeven op de ticketpagina. Met een Museumkaart of Vriendenloterij VIP kaart heb je gratis entree\, je betaalt natuurlijk wel voor het kaartje om Jazz at the Castle bij te wonen.
URL:https://ikhouvanhelmond.nl/event/jazz-at-the-castle/
LOCATION:Museum Helmond locatie kasteel\, Kasteelplein 1\, Helmond\, 5701PP
CATEGORIES:Muziek
ATTACH;FMTTYPE=image/jpeg:https://ikhouvanhelmond.nl/wp-content/uploads/2025/02/Jazz_at_the_Castle_07042024_foto_Josanne_van_der_Heijden-5162-1203x800-1.jpg
END:VEVENT
BEGIN:VEVENT
DTSTART;TZID=UTC:20250511T150000
DTEND;TZID=UTC:20250511T150000
DTSTAMP:20260423T090846
CREATED:20250306T093236Z
LAST-MODIFIED:20250407T074420Z
UID:1045-1746975600-1746975600@ikhouvanhelmond.nl
SUMMARY:Live: The Flaming Sambuccas
DESCRIPTION:Elke 1e zondag van de maand (met uitzondering van juni\, juli en augustus)\, organiseert Café ’t Huys live muziek.\nEen gezellige middag\, met livemuziek uit de jaren ’60/70/80. \nDe deuren openen om 15:00 en de toegang is gratis.
URL:https://ikhouvanhelmond.nl/event/live-the-flaming-sambuccas/
LOCATION:Café ’t Huys\, Mierloseweg 11\, Helmond
CATEGORIES:Muziek
ATTACH;FMTTYPE=image/png:https://ikhouvanhelmond.nl/wp-content/uploads/2025/03/Sixties-Sunday-Helmond.png
END:VEVENT
BEGIN:VEVENT
DTSTART;TZID=UTC:20250511T150000
DTEND;TZID=UTC:20250511T150000
DTSTAMP:20260423T090846
CREATED:20250411T140814Z
LAST-MODIFIED:20250411T141453Z
UID:1446-1746975600-1746975600@ikhouvanhelmond.nl
SUMMARY:Nederlands Blazers Ensemble - De 9e
DESCRIPTION:De ultieme symfonie van vrede en vrijheid: de Negende van Beethoven. Met een geheel eigen blazersversie\, een koor met zangers uit alle werelddelen en solisten van heinde en verre\, klinken Beethovens even dramatische als universele noten eindelijk echt broederlijk\, verbindend en als noten van ons allemaal. Vandaar dat ook het publiek uit volle borst mee mag zingen met die beroemde Ode an der Freude. \n\n\n\n45 Minuten voor aanvang wordt er een inleiding gegeven door het gezelschap. Hiervoor kun je kosteloos een plekje reserveren tijdens het bestelproces. Na de voorstelling vindt er een afterconcert plaats in de foyer.
URL:https://ikhouvanhelmond.nl/event/nederlands-blazers-ensemble-de-9e/
LOCATION:Theater het Speelhuis\, Speelhuisplein 2\, Helmond
CATEGORIES:Muziek
ATTACH;FMTTYPE=image/jpeg:https://ikhouvanhelmond.nl/wp-content/uploads/2025/04/img40080_orig.jpg
END:VEVENT
END:VCALENDAR