BEGIN:VCALENDAR
VERSION:2.0
PRODID:-//IK HOU VAN HELMOND - ECPv6.15.20//NONSGML v1.0//EN
CALSCALE:GREGORIAN
METHOD:PUBLISH
X-ORIGINAL-URL:https://ikhouvanhelmond.nl
X-WR-CALDESC:Evenementen voor IK HOU VAN HELMOND
REFRESH-INTERVAL;VALUE=DURATION:PT1H
X-Robots-Tag:noindex
X-PUBLISHED-TTL:PT1H
BEGIN:VTIMEZONE
TZID:UTC
BEGIN:STANDARD
TZOFFSETFROM:+0000
TZOFFSETTO:+0000
TZNAME:UTC
DTSTART:20240101T000000
END:STANDARD
END:VTIMEZONE
BEGIN:VEVENT
DTSTART;TZID=UTC:20250510T200000
DTEND;TZID=UTC:20250510T223000
DTSTAMP:20260423T090805
CREATED:20250325T121123Z
LAST-MODIFIED:20250325T121123Z
UID:1253-1746907200-1746916200@ikhouvanhelmond.nl
SUMMARY:Mass Deception en Bulldozer Breed
DESCRIPTION:Onder de noemer ‘Hard in Helmond’ staan deze dag twee vètte metalbands op het podium van De Cacaofabriek\, die beide een verleden hebben met Imitallica. Gitarist Willem Verachtert met zijn Bulldozer Breed en zanger John Klaus als nieuweling van Mass Deception. Dit is de eerste try-out show met John achter de microfoon in aanloop naar het festivalseizoen. Schud die nekspieren los en geniet mee van deze streling van je trommelvliezen aan muzikaal gitaargeweld. \n\n\n\nMass Deception\nDe Limburgse thrash metalband Mass Deception is ontstaan in 2015. Vooral geïnspireerd door de Old Skool Bay Area thrashbands als Death Angel\, Testament en natuurlijk Slayer. De band wilde een trilogie uitbrengen waarvan de eerste twee delen Revelations en Redemption al enige tijd geleden zijn uitgebracht. In 2022 is er – als inleiding voor het derde deel Resurrections – een EP uitgebracht onder de titel Halls of Amenti. Afgelopen jaar kwam het nieuws naar buiten dat Mass Deception in stage animal en power voice John Klaus – bekend van Imitallica – een nieuwe zanger heeft gevonden. Met hem zijn ze eindelijk begonnen aan het derde deel van de trilogie die later dit jaar uitkomt. \nJohn Klaus – zang\nSanders– drums\nVan den Beuken – bas\nBänziger – gitaar\nWaltmans – gitaar \nBulldozer Breed\nBulldozer Breed (opgericht in 2004) is een driekoppig monster uit de regio aangetast door het drugs en alcohol aangelengde drinkwater uit Eindhoven Rock City en verminkt door de moerasgassen aan de andere kant van de Peel. Dit monster draagt nog zichtbaar sporen mee van andere muzikale avonturen als Chronic Noise\, Elegy\, RATcoM en Imitallica. Bulldozer Breed is een band uit één stuk: geen franje of onnodig gedoe\, gewoon lompe METAL die ook goed is te verteren na de nodige alcoholinname. \nBart Bisseling – drums\nJorik Arts – bas/zang\nWillem Verachtert – gitaar/zang
URL:https://ikhouvanhelmond.nl/event/mass-deception-en-bulldozer-breed/
LOCATION:De Cacaofabriek\, Cacaokade 1\, Helmond
CATEGORIES:Muziek
ATTACH;FMTTYPE=image/png:https://ikhouvanhelmond.nl/wp-content/uploads/2025/03/mass-deception-bulldozer-breed.png
END:VEVENT
BEGIN:VEVENT
DTSTART;TZID=UTC:20250510T210000
DTEND;TZID=UTC:20250510T210000
DTSTAMP:20260423T090805
CREATED:20250411T182533Z
LAST-MODIFIED:20250411T184947Z
UID:1499-1746910800-1746910800@ikhouvanhelmond.nl
SUMMARY:LIVE: The Red Baron & his Flying Circus + Bonebay Alley + Killed by Martians
DESCRIPTION:Een stevigere avond met 3 zeer vermakelijke bands die hard aan de weg timmeren. \nThe Red Baron & his Flying Circus\nEen vierkoppige formatie met als thuisbasis Deerd. Hier gaan de gitaren nog hard en de bas dreunt door de straat. Ze nemen je mee in een veldslag van kei zware stoner\, riff-based hard rock met dikke blues solo’s en een tikje psychedelia. \nBonebag Alley\nDrie-koppige metalband uit Schijndel met dikke grooves en vette riffs om op te headbangen. \nKilled by Martians\nEen Nederlandse staccato rocktrio met een voorliefde voor een bak herrie. \nShowtime: 21:00 \nTickets:\nVoorverkoop: € 4\,-\nDeurverkoop: € 6\,-\n(https://poppodiummuziekcafe.weticket.io/live-the-red-baron-his-flying-circus-bonebay-alley-killed-by-martians/shop) \nMeer info:\nhttps://www.facebook.com/people/The-Red-Baron-His-Flying-Circus/61551831403501/\nhttps://www.facebook.com/BonebagAlley/\nhttps://www.facebook.com/Killedbymartians/
URL:https://ikhouvanhelmond.nl/event/live-the-red-baron-his-flying-circus-bonebay-alley-killed-by-martians/
LOCATION:Muziekcafe\, Zuid Koninginnewal 39\, Helmond
CATEGORIES:Muziek
ATTACH;FMTTYPE=image/png:https://ikhouvanhelmond.nl/wp-content/uploads/2025/04/red-baron.png
END:VEVENT
END:VCALENDAR