BEGIN:VCALENDAR
VERSION:2.0
PRODID:-//IK HOU VAN HELMOND - ECPv6.15.20//NONSGML v1.0//EN
CALSCALE:GREGORIAN
METHOD:PUBLISH
X-WR-CALNAME:IK HOU VAN HELMOND
X-ORIGINAL-URL:https://ikhouvanhelmond.nl
X-WR-CALDESC:Evenementen voor IK HOU VAN HELMOND
REFRESH-INTERVAL;VALUE=DURATION:PT1H
X-Robots-Tag:noindex
X-PUBLISHED-TTL:PT1H
BEGIN:VTIMEZONE
TZID:UTC
BEGIN:STANDARD
TZOFFSETFROM:+0000
TZOFFSETTO:+0000
TZNAME:UTC
DTSTART:20240101T000000
END:STANDARD
END:VTIMEZONE
BEGIN:VEVENT
DTSTART;TZID=UTC:20250504T160000
DTEND;TZID=UTC:20250504T190000
DTSTAMP:20260423T090509
CREATED:20250411T181542Z
LAST-MODIFIED:20250411T181542Z
UID:1493-1746374400-1746385200@ikhouvanhelmond.nl
SUMMARY:Streekvijver: No Decision & Altered Playground
DESCRIPTION:Elke 1e zondag van de maand kunnen bands uit de regio zich aanmelden voor Streekvijver.\nStreekvijver is een activiteit waarbij bands uit regio Helmond /Eindhoven en omgeving na een optreden van 30/45 minuten feedback ontvangen waardoor ze zich verder kunnen ontwikkelen.\nVandaag: \nAltered Playground: \nAltered Playground is een energieke coverband met zijn roots in\nEindhoven en omgeving.\nZe richten zich op het coveren van\npop/rockmuziek met vaak een onverwachte twist! Wil je\nmeezingen maar toch knallen? Wil je pop en rock classics on\nsteroids? Je bent op de juiste plek! De band probeert hiermee af\nte wijken van de gemiddelde coverband maar wil toch dat\nmensen herkenbare muziek horen.\nBon Jovi\, Nena\, Aerosmith\, The Police\, En Vougue\, Billy Eilish\, Guns ‘n Roses.\nAllemaal nummers van artiesten die je kent\, maar soms\nnet even anders!\nVoetjes van de vloer\, stembanden los en laat je verassen door\nhet eigenzinnige repertoire van Altered Playground \nBandmembers \nKris Baens – Lead vocals\nMoon Dekkers – Bass & backing\nJeroen van Kessel – Drums\nMark Groenen – Guitar & backing\nJohn van de Pol – Guitar & backing \nhttps://www.facebook.com/profile.php?id=100070726364800\nhttps://www.instagram.com/altered.playground/\nhttp://www.youtube.com/@AlteredPlayground \nNo Decision: \nUit de as ontstaan van Midnight Breeze \, is No Decision de volgende stap vppr deze groep muzikanten.\nNa 2 repetities hebben ze meegedaan aan een open podium om te kijken hoe het voelde om samen muziek te gaan maken. Het voelde direct goed\, het klikt onder elkaar\, en daarom zijn ze nu klaar voor de volgende stap.\nMet een setlist van normaliter een uur zetten ze de boel op zijn kop met een mix aan rockers en misschien zelfs ska.\nNo DecisioN bestaat uit 5 leden\, 2 gitaristen\, bassist\, drummer en zangeres.\nZe zijn allemaal vrij ervaren muzikanten met leeftijden tussen begin 40 en begin 60. Nu gaan we nummers spelen die je niet vaak hoort\, maar zeker wel kent\, nummers uit het gitaar rock genre. \nStreekvijver vindt plaats op elke eerste zondag van de maand\, vanaf 16u tot 19u.\nDe backline van Muziekcafé staat al opgesteld\, maar het gebruik van een eigen versterker is toegestaan.\nVanaf April 2025 weer elke 1e zondagmiddag van de maand.\nDus aarzel niet en meld je band nu aan.\nEr is plek voor 2 bands op een Streekvijver avond\, dus pak je gitaar uit de kast\, stof je drumstel af en doe de nodige podium ervaring op!!\nLijkt het je leuk\, en wil je weer het podium op?? Stuur een mail naar tegenland@hotmail.com ovv Bands streekvijver
URL:https://ikhouvanhelmond.nl/event/streekvijver-no-decision-altered-playground/
LOCATION:Muziekcafe\, Zuid Koninginnewal 39\, Helmond
CATEGORIES:Muziek
ATTACH;FMTTYPE=image/webp:https://ikhouvanhelmond.nl/wp-content/uploads/2025/04/SV052023.jpg.webp
END:VEVENT
END:VCALENDAR