BEGIN:VCALENDAR
VERSION:2.0
PRODID:-//IK HOU VAN HELMOND - ECPv6.15.20//NONSGML v1.0//EN
CALSCALE:GREGORIAN
METHOD:PUBLISH
X-WR-CALNAME:IK HOU VAN HELMOND
X-ORIGINAL-URL:https://ikhouvanhelmond.nl
X-WR-CALDESC:Evenementen voor IK HOU VAN HELMOND
REFRESH-INTERVAL;VALUE=DURATION:PT1H
X-Robots-Tag:noindex
X-PUBLISHED-TTL:PT1H
BEGIN:VTIMEZONE
TZID:UTC
BEGIN:STANDARD
TZOFFSETFROM:+0000
TZOFFSETTO:+0000
TZNAME:UTC
DTSTART:20240101T000000
END:STANDARD
END:VTIMEZONE
BEGIN:VEVENT
DTSTART;TZID=UTC:20250503T220000
DTEND;TZID=UTC:20250503T220000
DTSTAMP:20260423T090546
CREATED:20250208T154043Z
LAST-MODIFIED:20250411T184607Z
UID:575-1746309600-1746309600@ikhouvanhelmond.nl
SUMMARY:DJ Fanatic goes wild
DESCRIPTION:DJ Fanatic\, ook wel bekend als Jos van de Heuvel had dit te melden:\n“Al 49 jaar een groot muziek liefhebber. Ik luister naar bijna alles behalve gabber house en slechte Nederlandstalige muziek. Maar mijn passie ligt bij hip hop\, soul\, funk\, disco en r’n’b muziek. Met hip hop ben ik in mijn jeugd in aanraking gekomen en al snel volgden de platen en de draaitafels. Ik draai onder de naam DJ Fanatic en heb ook feesten georganiseerd onder de naam Return of the Boombap”. \nKortom een gevarieerde avond waarin je de dansvloer niet kunt vermijden!!
URL:https://ikhouvanhelmond.nl/event/dj-fanatic-goes-wild/
LOCATION:Muziekcafe\, Zuid Koninginnewal 39\, Helmond
CATEGORIES:Muziek
ATTACH;FMTTYPE=image/webp:https://ikhouvanhelmond.nl/wp-content/uploads/2025/02/2024-03-30-DJFanatic.jpg.webp
END:VEVENT
END:VCALENDAR