BEGIN:VCALENDAR
VERSION:2.0
PRODID:-//IK HOU VAN HELMOND - ECPv6.15.20//NONSGML v1.0//EN
CALSCALE:GREGORIAN
METHOD:PUBLISH
X-ORIGINAL-URL:https://ikhouvanhelmond.nl
X-WR-CALDESC:Evenementen voor IK HOU VAN HELMOND
REFRESH-INTERVAL;VALUE=DURATION:PT1H
X-Robots-Tag:noindex
X-PUBLISHED-TTL:PT1H
BEGIN:VTIMEZONE
TZID:UTC
BEGIN:STANDARD
TZOFFSETFROM:+0000
TZOFFSETTO:+0000
TZNAME:UTC
DTSTART:20240101T000000
END:STANDARD
END:VTIMEZONE
BEGIN:VEVENT
DTSTART;TZID=UTC:20250427T140000
DTEND;TZID=UTC:20250427T230000
DTSTAMP:20260423T104759
CREATED:20250305T141258Z
LAST-MODIFIED:20250305T141258Z
UID:1024-1745762400-1745794800@ikhouvanhelmond.nl
SUMMARY:FemME X
DESCRIPTION:Female Metal Event\, the 10the Edition. \nAgain a great line up of 6 metal bands gathered from various places of the earth. \nLine up: \n\nFireborn (DE)\nFabulae Dramatis (BE/CO)\nBeyond Frequencies (CH)\nDying Phoenix (DE)\nSkeptical Minds (BE)\nIsabeau (NL/BE)\n\nDoors open: 13:00\nShowtime: 14:00 (until appr. 22:45h) \nTickets:\nPresale: € 30\,-\nDoor: € 35\,-\nBuy your tickets here: https://poppodiummuziekcafe.weticket.io/female-metal-event-femme-10th-edition \nMore info:\nhttps://femalemetalevent.nl/home
URL:https://ikhouvanhelmond.nl/event/femme-x/
LOCATION:Muziekcafe\, Zuid Koninginnewal 39\, Helmond
CATEGORIES:Muziek
END:VEVENT
END:VCALENDAR