BEGIN:VCALENDAR
VERSION:2.0
PRODID:-//IK HOU VAN HELMOND - ECPv6.15.20//NONSGML v1.0//EN
CALSCALE:GREGORIAN
METHOD:PUBLISH
X-ORIGINAL-URL:https://ikhouvanhelmond.nl
X-WR-CALDESC:Evenementen voor IK HOU VAN HELMOND
REFRESH-INTERVAL;VALUE=DURATION:PT1H
X-Robots-Tag:noindex
X-PUBLISHED-TTL:PT1H
BEGIN:VTIMEZONE
TZID:UTC
BEGIN:STANDARD
TZOFFSETFROM:+0000
TZOFFSETTO:+0000
TZNAME:UTC
DTSTART:20240101T000000
END:STANDARD
END:VTIMEZONE
BEGIN:VEVENT
DTSTART;TZID=UTC:20250420T150000
DTEND;TZID=UTC:20250420T190000
DTSTAMP:20260423T104729
CREATED:20250305T140300Z
LAST-MODIFIED:20250305T140300Z
UID:1008-1745161200-1745175600@ikhouvanhelmond.nl
SUMMARY:Join & Jam on stage
DESCRIPTION:Poppodium Muziekcafé stelt elke 3e zondag van de maand haar podium beschikbaar voor elke muzikant (beginner\, gevorderd\, pro) om gezellig te komen jammen. \nDJ Frogson en Traveller Keys zullen afwisselend de jam in goede banen leiden zodat iedere deelnemer de kans krijgt om zijn of haar muzikale kunsten te komen vertonen! \nTijdens de jam kunnen allerlei genres de revue passeren: van blues tot pop en van rock tot soul en van reggae tot funk! Het mag allemaal. \nDus aarzel niet en roep al je vrienden op om gezellig te komen jammen en/of te komen genieten van de muziek en het samenspel. \n(Wil je met al je bandleden komen spelen? Dan is wellicht de maandelijkse Streekvijver passender. Dat is elke 1e zondag van de maand vanaf 16:00u.) \nDoors open en opbouw om 14:00u en vanaf 15:00u kan er gejamd worden. \nRond een uur of 17:00 is er gratis verse soep\, zoals elke week. \nDe entree / deelname is gratis. \nWat is er beschikbaar: \n\nDrumkit met koperwerk\nBasversterker\nBasgitaar (Ibanez ATX)\n2 Gitaarversterkers\nKeys: Yamaha MH88\nDiverse microfoons\nEnkele monitors
URL:https://ikhouvanhelmond.nl/event/join-jam-on-stage-3/
LOCATION:Muziekcafe\, Zuid Koninginnewal 39\, Helmond
CATEGORIES:Muziek
ATTACH;FMTTYPE=image/webp:https://ikhouvanhelmond.nl/wp-content/uploads/2025/03/JJOSv3-scaled.jpg.webp
END:VEVENT
BEGIN:VEVENT
DTSTART;TZID=UTC:20250420T190000
DTEND;TZID=UTC:20250420T230000
DTSTAMP:20260423T104729
CREATED:20250206T145957Z
LAST-MODIFIED:20250206T145957Z
UID:475-1745175600-1745190000@ikhouvanhelmond.nl
SUMMARY:Live: Tony Holiday
DESCRIPTION:Tony Holiday toert al een flink aantal jaren met zijn band door de VS.\nSinds zijn verhuizing van Salt Lake City naar Memphis in 2017 staat Holiday in het middelpunt van een soulbluesrevival in Memphis.\nDe goede sfeer terugbrengen\, dat kan hij als de beste.\n“Bluesgoedheid met een vleugje southern rock” is de enige juiste omschrijving van zijn stijl. \nZodra Tony en zijn band beginnen\, is het vrijwel onmogelijk om te blijven zitten…\nZe weten precies wat mensen willen en leveren dat met 100% overtuiging.\nRippende mondharmonica’s\, bloed\, zweet en blues…\nDat is een Tony Holiday-concert!
URL:https://ikhouvanhelmond.nl/event/live-tony-holiday/
LOCATION:Lokaal 42\, Markt 42\, Helmond
CATEGORIES:Muziek
ATTACH;FMTTYPE=image/jpeg:https://ikhouvanhelmond.nl/wp-content/uploads/2025/02/tony-holiday.jpg
END:VEVENT
END:VCALENDAR