BEGIN:VCALENDAR
VERSION:2.0
PRODID:-//IK HOU VAN HELMOND - ECPv6.15.20//NONSGML v1.0//EN
CALSCALE:GREGORIAN
METHOD:PUBLISH
X-ORIGINAL-URL:https://ikhouvanhelmond.nl
X-WR-CALDESC:Evenementen voor IK HOU VAN HELMOND
REFRESH-INTERVAL;VALUE=DURATION:PT1H
X-Robots-Tag:noindex
X-PUBLISHED-TTL:PT1H
BEGIN:VTIMEZONE
TZID:UTC
BEGIN:STANDARD
TZOFFSETFROM:+0000
TZOFFSETTO:+0000
TZNAME:UTC
DTSTART:20240101T000000
END:STANDARD
END:VTIMEZONE
BEGIN:VEVENT
DTSTART;TZID=UTC:20250411T203000
DTEND;TZID=UTC:20250411T230000
DTSTAMP:20260423T104727
CREATED:20250310T121001Z
LAST-MODIFIED:20250310T122223Z
UID:1086-1744403400-1744412400@ikhouvanhelmond.nl
SUMMARY:Winterfylleth
DESCRIPTION:Altijd mooi als we exclusieve Nederlandse shows kunnen neerzetten van internationale acts. Wat te denken van Winterfylleth. Ze komen naar Helmond! \n\n\n\nDe band uit Manchester rondom zanger/gitarist/componist en bandleider Chris Naughton draait al een tijdje mee in de internationale black metalscene. De Engelsen spelen een andere variant van black metal dan hun Noorse genre-genoten. Bij Winterfylleth (wat ‘oktober’ betekent in Oud Engelse/Gaelic taal) draait het naast snelheid ook om sfeer. Lange\, soms akoestische stukken waarin een prachtige sfeer wordt gecreëerd die past bij het Engelse landschap en de Britse folklore. \nHun laatste album The Imperious Horizon is hier het levende bewijs van: een dijk van een album. Opvallend is vooral de track In Silent Grace waarin zanger Alan Averill van Primordial te horen is: 11 minuten lang genieten geblazen. En nu komen ze dus naar De Cacaofabriek v
URL:https://ikhouvanhelmond.nl/event/winterfylleth/
LOCATION:De Cacaofabriek\, Cacaokade 1\, Helmond
CATEGORIES:Muziek
ATTACH;FMTTYPE=image/png:https://ikhouvanhelmond.nl/wp-content/uploads/2025/03/Winterfyletth.png
END:VEVENT
END:VCALENDAR