BEGIN:VCALENDAR
VERSION:2.0
PRODID:-//IK HOU VAN HELMOND - ECPv6.15.20//NONSGML v1.0//EN
CALSCALE:GREGORIAN
METHOD:PUBLISH
X-ORIGINAL-URL:https://ikhouvanhelmond.nl
X-WR-CALDESC:Evenementen voor IK HOU VAN HELMOND
REFRESH-INTERVAL;VALUE=DURATION:PT1H
X-Robots-Tag:noindex
X-PUBLISHED-TTL:PT1H
BEGIN:VTIMEZONE
TZID:UTC
BEGIN:STANDARD
TZOFFSETFROM:+0000
TZOFFSETTO:+0000
TZNAME:UTC
DTSTART:20240101T000000
END:STANDARD
END:VTIMEZONE
BEGIN:VEVENT
DTSTART;TZID=UTC:20250221T203000
DTEND;TZID=UTC:20250221T234500
DTSTAMP:20260423T152436
CREATED:20250211T201125Z
LAST-MODIFIED:20250211T201125Z
UID:694-1740169800-1740181500@ikhouvanhelmond.nl
SUMMARY:Kvaen
DESCRIPTION:Een avondje onvervalste black metal uit Zweden van het allerhoogste niveau: Kvaen komt naar Helmond! \nTijdschema:\n20.00 uur: deuren open\n20.30 uur: Vrøde\n21.15 uur: Morgarten\n22.20 uur: Kvaen\n23.15 uur: Verwacht einde \n\n\n\nDe band komt uit het dunbevolkte grensgebied van Zweden en Finland\, aan de Baltische Zee. Met het debuutalbum ‘The Funeral Pyre’ uit 2020 zette de band zich direct op de kaart van de black metal-scene. In 2022 werd de opvolger ‘The Great Below’ uitgebracht met daarop bijdragen van niemand minder dan Jeff Loomis (Arch Enemy\, Nevermore) en Mike Wead (Mercyful Fate\, King Diamond). \nDe band wist haar stijl – black metal met de nodige invloeden uit de death metal\, folk metal en speed metal – hierop verder te perfectioneren. Halverwege dit jaar verscheen ‘The Formless Fires’\, een album dat de band tijdens dit concert komt presenteren. Liefhebbers van de muziek van bands als In Aphelion\, Thron\, The Spirit en Nordjevel kunnen hier niet onderuit! \nMorgarten\nSupport wordt verzorgd door Morgarten: een band uit het Franstalige deel van Zwitserland die een vrij eigenzinnige mix van folk -en black metal speelt. De band bracht tot nu toe één full length album uit\, ‘Cry Of The Lost’. Een tweede support wordt later toegevoegd. Houd daarvoor deze pagina in de gaten. \nVrøde\nVrøde is een Eindhovense metalband die de rauwe expressie van black metal en extreme vocalen combineert met oudere Noordse folk-instrumenten\, prachtige vocale harmonieën en lyrics over folklore en natuur. De band omschrijft de muziek als blackened pagan-folk. Door al deze muzikale aspecten te combineren streven ze naar het creëeren van iets verwonderends met een duister randje\, terwijl ze een eerbetoon brengen aan het verleden\, de Noorse mythologie en de bron van alles wat leeft; de natuur.
URL:https://ikhouvanhelmond.nl/event/kvaen/
LOCATION:De Cacaofabriek\, Cacaokade 1\, Helmond
CATEGORIES:Muziek
END:VEVENT
BEGIN:VEVENT
DTSTART;TZID=UTC:20250221T210000
DTEND;TZID=UTC:20250222T030000
DTSTAMP:20260423T152436
CREATED:20250208T154421Z
LAST-MODIFIED:20250208T155128Z
UID:581-1740171600-1740193200@ikhouvanhelmond.nl
SUMMARY:Stricktly Stephanie
DESCRIPTION:Strictly Stephanie: een 80’s kenner in al haar vezels\, maar ook lekkere nummers uit de 90’s zal ze niet nalaten te draaien. New Order\, Claw Boys Claw\, The Cult\, The Cure\, Simple Minds\, U2\, Beasty Boys\, ze zullen zeker de revue passeren. En dan voornamelijk op V!nyl. \nPoets je dansschoenen en kom!
URL:https://ikhouvanhelmond.nl/event/stricktly-stephanie/
LOCATION:Muziekcafe\, Zuid Koninginnewal 39\, Helmond
CATEGORIES:Muziek
ATTACH;FMTTYPE=image/webp:https://ikhouvanhelmond.nl/wp-content/uploads/2025/02/SS1.jpg.webp
END:VEVENT
END:VCALENDAR