BEGIN:VCALENDAR
VERSION:2.0
PRODID:-//IK HOU VAN HELMOND - ECPv6.15.20//NONSGML v1.0//EN
CALSCALE:GREGORIAN
METHOD:PUBLISH
X-ORIGINAL-URL:https://ikhouvanhelmond.nl
X-WR-CALDESC:Evenementen voor IK HOU VAN HELMOND
REFRESH-INTERVAL;VALUE=DURATION:PT1H
X-Robots-Tag:noindex
X-PUBLISHED-TTL:PT1H
BEGIN:VTIMEZONE
TZID:UTC
BEGIN:STANDARD
TZOFFSETFROM:+0000
TZOFFSETTO:+0000
TZNAME:UTC
DTSTART:20240101T000000
END:STANDARD
END:VTIMEZONE
BEGIN:VEVENT
DTSTART;TZID=UTC:20250214T220000
DTEND;TZID=UTC:20250215T030000
DTSTAMP:20260423T152444
CREATED:20250208T153919Z
LAST-MODIFIED:20250208T153919Z
UID:573-1739570400-1739588400@ikhouvanhelmond.nl
SUMMARY:Rock the night
DESCRIPTION:Op Valentijnsdag wordt het een avond voor échte muziekfans! 💥 DJ Frogson neemt je mee op een onvergetelijke reis door de beste rock\, indie en metal tracks. Verwacht een mix van klassiekers en moderne bangers waar je hoofd en hart sneller van gaan kloppen! 🤘
URL:https://ikhouvanhelmond.nl/event/rock-the-night/
LOCATION:Muziekcafe\, Zuid Koninginnewal 39\, Helmond
CATEGORIES:Muziek
END:VEVENT
END:VCALENDAR