BEGIN:VCALENDAR
VERSION:2.0
PRODID:-//IK HOU VAN HELMOND - ECPv6.15.20//NONSGML v1.0//EN
CALSCALE:GREGORIAN
METHOD:PUBLISH
X-ORIGINAL-URL:https://ikhouvanhelmond.nl
X-WR-CALDESC:Evenementen voor IK HOU VAN HELMOND
REFRESH-INTERVAL;VALUE=DURATION:PT1H
X-Robots-Tag:noindex
X-PUBLISHED-TTL:PT1H
BEGIN:VTIMEZONE
TZID:UTC
BEGIN:STANDARD
TZOFFSETFROM:+0000
TZOFFSETTO:+0000
TZNAME:UTC
DTSTART:20240101T000000
END:STANDARD
END:VTIMEZONE
BEGIN:VEVENT
DTSTART;TZID=UTC:20250228T210000
DTEND;TZID=UTC:20250301T030000
DTSTAMP:20260423T113457
CREATED:20250208T154959Z
LAST-MODIFIED:20250208T154959Z
UID:591-1740776400-1740798000@ikhouvanhelmond.nl
SUMMARY:Foute avond
DESCRIPTION:Al jaren een begrip in het Muziekcafé.\nOnze eigen FOUTE AVOND\, Carnaval-editie met DJ C0C0nuts!! \nDe beste\, foutste en raarste plaatjes komen voorbij. Wat eigenlijk net niet kan\, kan vanavond wel. Van stoffige smartlap naar 90’s house en van Barby Girl naar de Spice Girls…dokter Bernard is er ook bij…schlagertje hier en daar….Why tell me why\, fout 80’s deuntje\, Dansen\, feesten en losgaan op de foutste plaatjes van de afgelopen 50 jaar. \nTrek je mafste pak aan en kom geniet van een avond vol nummers die je niet vaak in Muziekcafé zal horen.
URL:https://ikhouvanhelmond.nl/event/foute-avond/
LOCATION:Muziekcafe\, Zuid Koninginnewal 39\, Helmond
CATEGORIES:Muziek
ATTACH;FMTTYPE=image/webp:https://ikhouvanhelmond.nl/wp-content/uploads/2025/02/FA1.jpg.webp
END:VEVENT
BEGIN:VEVENT
DTSTART;TZID=UTC:20250307T210000
DTEND;TZID=UTC:20250307T230000
DTSTAMP:20260423T113458
CREATED:20250225T070416Z
LAST-MODIFIED:20250225T070416Z
UID:920-1741381200-1741388400@ikhouvanhelmond.nl
SUMMARY:Rush Tribute - The Rushians
DESCRIPTION:The RUSHians is de enige Nederlandse Rush-tributeband en behoort in Europa en ver daarbuiten tot de absolute top. De band bestaat uit een viertal vakkundige en zeer ervaren topmuzikanten met een passie voor de muziek van Rush. \n\n\n\nIn hun setlist putten ze uit het complete oeuvre van Rush. Concertgangers worden getrakteerd op een aaneenschakeling van muzikale hoogtepunten waarbij men niet enkel op bekende stukken wordt getrakteerd\, maar ook verrast wordt met juweeltjes die zelden tot nooit in Nederland live te horen zijn geweest. Gaat dat zien\, gaat dat horen\, gaat dat beleven! \nRush\nHet Canadese progrocktrio Rush is meer dan 45 jaar actief geweest. In die periode werden twintig studioalbums opgenomen en meer dan 2.000 shows gespeeld over de hele wereld. De band heeft wereldwijd nog altijd een trouwe aanhang en geldt als voorbeeld voor veel reeds lang bekende\, maar ook hedendaagse artiesten. Van Dream Theater tot Opeth en van Jack Black tot Metallica\, maar ook jongere acts als Crown Lands laten zich graag inspireren door de vele (technische) hoogstandjes die het trio door de jaren heen produceerde. In 2016 besloot Rush te stoppen en met het overlijden van drummer en tekstschrijver Neil Peart in 2020 is een doorstart uitgesloten. The Rushians laten je vanavond op onnavolgbare wijze weer eens genieten van de muziek van Rush.
URL:https://ikhouvanhelmond.nl/event/rush-tribute-the-rushians/
LOCATION:De Cacaofabriek\, Cacaokade 1\, Helmond
CATEGORIES:Muziek
END:VEVENT
BEGIN:VEVENT
DTSTART;TZID=UTC:20250308T150000
DTEND;TZID=UTC:20250308T151500
DTSTAMP:20260423T113458
CREATED:20250208T161313Z
LAST-MODIFIED:20250208T163845Z
UID:603-1741446000-1741446900@ikhouvanhelmond.nl
SUMMARY:CIRCE
DESCRIPTION:Op internationale vrouwendag op zaterdag 8 maart van 15.00-15.15 uur bieden we jou iets extra’s en bijzonders om bij aanwezig te zijn. De groep CIRCE treedt dan op in de Kunsthal in Helmond. Je kan dit optreden bijwonen middels een geldig entreeticket voor ons museum.
URL:https://ikhouvanhelmond.nl/event/circe/
LOCATION:Museum Helmond locatie kunsthal\, Frans Jozeph van Thielpark 7\, Helmond
CATEGORIES:Muziek
END:VEVENT
BEGIN:VEVENT
DTSTART;TZID=UTC:20250309T153000
DTEND;TZID=UTC:20250309T173000
DTSTAMP:20260423T113458
CREATED:20250225T070915Z
LAST-MODIFIED:20250225T070915Z
UID:927-1741534200-1741541400@ikhouvanhelmond.nl
SUMMARY:De Niemanders
DESCRIPTION:De Niemanders. Niet zomaar een band. Ze geven een stem aan de nobodies\, de verschoppelingen\, mensen in moeilijke posities. Eerder maakten De Niemanders een album met gedetineerden in Nederlandse gevangenissen. Op het nieuwe album – afgelopen 6 september uitgekomen bij V2 Records – en in de bijbehorende liveshows geven ze dit keer asielzoekers letterlijk een podium. \n\n\n\nDe bezwerende en opzwepende mix van zangers\, zangeressen\, muziekstijlen en vele talen is het komende jaar op de Nederlandse podia en festivals te zien en te horen. In de eerste clubshows (september 2024) danste het publiek op een band met een onweerstaanbare groove en veroorzaakten de vele unieke zangers\, zangeressen en musici – waarvan sommigen in asielzoekerscentra wonen of hebben gewoond – kippenvel. Van een Arabische floorkiller tot opera en alternatieve rock. Het cliché ‘muziek is een universele taal’ was waarschijnlijk nog nooit zo van toepassing. Natuurlijk wil De Cacaofabriek het Helmondse publiek dit muziekfeest voorschotelen. Dat doen we mede in het kader van onze expo World Press Photo\, te zien in onze expo van 17 januari tot en met 16 februari 2025. \nTussen december 2022 en januari 2024 bezocht collectief De Niemanders met een mobiele studio asielzoekerscentra in Nederland op zoek naar zangers\, muzikanten met muziek en verhalen. Koersend op gevoel maakten ze een nieuw album dat een oprechte samenwerking werd tussen de mensen die ze ontmoetten en henzelf. Een belangrijk verschil met het eerste album van De Niemanders (geschreven in Nederlandse gevangenissen) was dat de zangers en muzikanten deze keer wel mochten worden opgenomen en dus te horen zijn op De Niemanders II. \nHet nieuwe album is daardoor een mix van vele zangers\, muzikanten en talen. Het vertelt de verhalen van hun heftige reizen\, dromen\, familie\, vorige levens ‘thuis’ en hun huidige situatie als vluchteling. De nieuwe verzameling songs is een creatieve wonderstamppot van veelkleurige muziek die laveert tussen swingende afrobeat\, high life\, desert rock\, rootsy psychedelica\, maar ook de alternatieve rock van het eerste album sijpelt er doorheen. Je zou kunnen zeggen dat bijna elk nummer een film-soundtrack is voor de tekst. \nEén van de initiatiefnemers – Rocco Ostermann (Donnerwetter) – stelt ‘’Heb je jezelf wel eens achter de oren gekrabd en afgevraagd: Wat zou er met me gebeurd zijn als ik in een oorlogsgebied\, dictatuur of in een land waar hongersnood is\, ter wereld zou zijn gekomen? Welke kantelpunten\, sleutelmomenten\, zou ik aan hebben gegrepen om te vluchten? Mensen zijn al eeuwenlang op de vlucht voor van alles\, oorlogen\, dictators\, goden en potentaten\, die aan het vals spelen zijn met hun lotskaarten. Het heft zelf in de hand nemen is iets wat goed te begrijpen is\, want voor hen die aan de verkeerde kant van het geluk\, door puur toeval\, het levenslicht zagen\, is er vaak geen andere optie. Denk ook eens aan Amerika\, hoe dat is opgebouwd door zogenaamde ‘gelukszoekers’. Het is van alle tijden.”
URL:https://ikhouvanhelmond.nl/event/de-niemanders/
LOCATION:De Cacaofabriek\, Cacaokade 1\, Helmond
CATEGORIES:Muziek
END:VEVENT
BEGIN:VEVENT
DTSTART;TZID=UTC:20250312T080000
DTEND;TZID=UTC:20250312T223500
DTSTAMP:20260423T113458
CREATED:20250224T120717Z
LAST-MODIFIED:20250224T120825Z
UID:862-1741766400-1741818900@ikhouvanhelmond.nl
SUMMARY:The Sons of CCR - Tribute to Creedence Clearwater Revival
DESCRIPTION:Eind jaren 60 was Creedence Clearwater Revival één van de populairste rockgroepen wereldwijd met hits als ‘Bad Moon Rising’\, ‘Proud Mary’\, ‘Have You Ever Seen The Rain’ en ‘Down On The Corner’. De Amerikaanse band The Sons of CCR uit Chicago zet in de theaters een zeer authentiek\, bijna niet van echt te onderscheiden eerbetoon neer aan het legendarische C.C.R. \n\n\n\n\nNa een regen van hits en gouden platen viel de groep in 1972 uit elkaar\, maar de heimwee naar hun magische muziekstijl blijft. Ook in ons land. Hoewel fans ooit hoopten op een reünie\, zal die er niet meer komen daar bandlid Tom Fogerty is overleden. Gelukkig is er deze Amerikaanse band\, genoemd naar een politiek geladen C.C.R.-nummer. De gelijkenis is als twee druppels water en een jonge John Fogerty\, leadzanger van C.C.R.\, zal weer voor u staan alsof het 1969 is. Deze formatie brengt het legendarische geluid van hun idolen terug naar de theaters en staat garant voor een echte ‘trip down memory lane’.
URL:https://ikhouvanhelmond.nl/event/the-sons-of-ccr-tribute-to-creedence-clearwater-revival/
LOCATION:Theater het Speelhuis\, Speelhuisplein 2\, Helmond
CATEGORIES:Muziek
END:VEVENT
BEGIN:VEVENT
DTSTART;TZID=UTC:20250314T204500
DTEND;TZID=UTC:20250314T224500
DTSTAMP:20260423T113458
CREATED:20250225T071020Z
LAST-MODIFIED:20250225T071052Z
UID:929-1741985100-1741992300@ikhouvanhelmond.nl
SUMMARY:Von Hertzen Brothers - Support Kristoffer Gildenlöw
DESCRIPTION:De band Von Hertzen Brothers hoort bij de meest belangrijke muzikale exportproducten van Finland. De muziek van het trio schiet werkelijk alle kanten op: van Black Sabbath tot The Beach Boys. Ze weten in puntige composities verhalen te vertellen\, muzikaal omlijst door zowel landscapes als krachtige én gevoelige melodieën. \n\n\n\nDe broers Mikko\, Jonne and Kie Von Hertzen speelden voorheen allemaal in verschillende bands\, maar uiteindelijk kwamen ze toch in dezelfde band terecht. In 2006 verscheen hun tweede album Approach waarmee ze in eigen land hoog in de hitlijst kwamen. Het album was gevuld met die kenmerkende progressieve gitaren\, stuwende rock/pop en gelaagde vocal harmonies. \nSindsdien hebben ze steeds top 5-albums uitgebracht\, waaronder nummer 1-hits in eigen land met Love Remains The Same (2008)\, Stars Aligned (2011)\, Nine Lives (2013)\, New Day Rising (2015)\, War Is Over (2017) en Red Alert in the Blue Forest (2022). Het vermogen van de broers om complexe arrangementen om te vormen tot levendige muzikale landscapes leverde hen een Emma Award (de Finse Grammy) en een Progressive Music ‘Anthem of the Year’-prijs op\, evenals nominaties en lofbetuigingen op. \nDe rest van de wereld ontdekte hun eigenzinnigheid en unieke sound vervolgens ook. Door deze successen is de band een van de meest invloedrijke en belangrijke rockacts uit Finland van de afgelopen jaren. In het kader van de release van hun nieuwste album In Murmuration komen de heren nu ook naar Helmond om het publiek kennis te laten maken met hun volstrekt unieke muziek! \nKristoffer Gildenlöw\nSupport wordt verzorgd door niemand minder dan Kristoffer Gildenlöw! Kristoffer Gildenlöw is een Zweedse muzikant en componist\, vooral bekend als voormalig bassist van de progressieve metalband Pain of Salvation. Na zijn vertrek uit de band in 2006 heeft hij een succesvolle solocarrière opgebouwd met introspectieve albums. Deze avond treedt hij solo op.
URL:https://ikhouvanhelmond.nl/event/von-hertzen-brothers-support-kristoffer-gildenlow/
LOCATION:De Cacaofabriek\, Cacaokade 1\, Helmond
CATEGORIES:Muziek
END:VEVENT
BEGIN:VEVENT
DTSTART;TZID=UTC:20250315T210000
DTEND;TZID=UTC:20250315T230000
DTSTAMP:20260423T113458
CREATED:20250305T135915Z
LAST-MODIFIED:20250305T161906Z
UID:1003-1742072400-1742079600@ikhouvanhelmond.nl
SUMMARY:Live: Stonewall
DESCRIPTION:Stonewall uit Eindhoven\, ontdekt op één van onze Streekvijvers\, zorgt voor een avondvullend programma met stevige (classic) rockmuziek. \nDe setlijst bestaat uit bekende en sommige minder bekende rockcovers van bijvoorbeeld AC/DC\, Black Sabbath\, Guns n’ Roses\, Limp Bizkit and Dolly Parton (met een kleine rock-twist natuurlijk). Ook worden all time classics van Cyndi Lauper tot Michael Jackson in een rock jasje gegoten. \nStonewall bestaat uit Karin van Gompel (zang)\, Koen Meijer (lead gitaar)\, Andre van Knippenbergh (rythm guitar/backing vocals)\, Joris Groenen (bass-guitar/backing vocals) en Maurice van Baar (drums). \nTickets\nVoorverkoop: € 6\,-\nDeurverkoop: € 8-\n(https://www.ticketview.nl/shop/muziekcafehelmond?eventID=6135) \nMeer info:\nhttps://www.stonewallband.nl/\nhttps://www.facebook.com/uniekegebruikersnaam
URL:https://ikhouvanhelmond.nl/event/live-stonewall/
LOCATION:Muziekcafe\, Zuid Koninginnewal 39\, Helmond
CATEGORIES:Muziek
END:VEVENT
BEGIN:VEVENT
DTSTART;TZID=UTC:20250315T213000
DTEND;TZID=UTC:20250317T030000
DTSTAMP:20260423T113458
CREATED:20250211T112940Z
LAST-MODIFIED:20250211T112940Z
UID:656-1742074200-1742180400@ikhouvanhelmond.nl
SUMMARY:NR Street Musicians
DESCRIPTION:Vier St. Paddy’s bij Beer & Sports Bar de Bascule ☘️\nMet op zaterdagavond live muziek van NR Street Musicians 🎶\nEn het hele weekend. Guinness actie: 1/2 pint €3\,50 pint €6\,50 🍻
URL:https://ikhouvanhelmond.nl/event/nr-street-musicians/
LOCATION:Beer & Sports Bar de Bascule\, Havenweg 8-12\, Helmond
CATEGORIES:Muziek
ATTACH;FMTTYPE=image/jpeg:https://ikhouvanhelmond.nl/wp-content/uploads/2025/02/476608756_1408492940358602_5919709542722167302_n.jpg
END:VEVENT
BEGIN:VEVENT
DTSTART;TZID=UTC:20250316T120000
DTEND;TZID=UTC:20250316T130000
DTSTAMP:20260423T113458
CREATED:20250306T095018Z
LAST-MODIFIED:20250306T095018Z
UID:1047-1742126400-1742130000@ikhouvanhelmond.nl
SUMMARY:Fabrique Classique: Dialogo Antico
DESCRIPTION:Composities over water bij het water. Dit top ensemble brengt werken van Antonio Vivaldi\, Georg Philip Telemann en George Friedrich Händel in de mooie ambiance van de Expo aan het water. \nHet Barokensemble Dialogo Antico werd oorspronkelijk gevormd door de countertenor\, Toshiharu Nakajima en barokviollist Chiharu Shimano. Inmiddels treed het ensemble op in verschillende samenstellingen\, afhankelijk van het repertoire\n​\nOok al heeft ieder een andere achtergrond\, allen hebben oude muziek gestudeerd. Dit heeft ertoe geleid dat ze een succesvolle combinatie vormen die ervan geniet om samen muziek te maken. Ze waren finalisten tijdens de Göttingen Händel Competition in mei 2019\, en werden uitgekozen om tijdens het Bachfest in Dordrecht op te treden in juni 2020.
URL:https://ikhouvanhelmond.nl/event/fabrique-classique-dialogo-antico/
LOCATION:De Cacaofabriek\, Cacaokade 1\, Helmond
CATEGORIES:Muziek
ATTACH;FMTTYPE=image/webp:https://ikhouvanhelmond.nl/wp-content/uploads/2025/03/Dialogo.jpg.webp
END:VEVENT
BEGIN:VEVENT
DTSTART;TZID=UTC:20250316T140000
DTEND;TZID=UTC:20250316T163000
DTSTAMP:20260423T113458
CREATED:20250211T175728Z
LAST-MODIFIED:20250211T180505Z
UID:314-1742133600-1742142600@ikhouvanhelmond.nl
SUMMARY:Concert de Aalander Muzikanten
DESCRIPTION:Stichting Draaiorgels Helmond verzorgt ook in 2025 een aantal concerten op zondagmiddag. De volgende optredens staan gepland in Zaal Bocken: \n\n16 februari: Concert Ambiance ensemble\n16 maart: Concert de Aalander Muzikanten uit Bakel\n23 Maart: Concert Blazerij De Molshoop\n21 april: Concert Helmondse Mondharmonica Vereniging\n\nDanszaal Bocken is gevestigd in het Draaiorgelmuseum dat weer is gevestigd in Loods20 waar ook het EDAH-Museum en de Helmondse accordeoncollectie gevestigd zijn. \nZaal gaat open om 13.30 uur.\nEntree bedraagt €5\, inclusief 1 consumptie.
URL:https://ikhouvanhelmond.nl/event/concert-de-aalander-muzikanten/
LOCATION:Zaal Bocken\, Binnen-parallelweg 2\, Helmond
CATEGORIES:Muziek
ATTACH;FMTTYPE=image/jpeg:https://ikhouvanhelmond.nl/wp-content/uploads/2025/02/frontfoto.jpg
END:VEVENT
BEGIN:VEVENT
DTSTART;TZID=UTC:20250316T150000
DTEND;TZID=UTC:20250316T170000
DTSTAMP:20260423T113458
CREATED:20250225T071201Z
LAST-MODIFIED:20250307T085125Z
UID:932-1742137200-1742144400@ikhouvanhelmond.nl
SUMMARY:Swinging Sundays feat. O Double Seven
DESCRIPTION:Wie zegt dat je vanaf je 60ste niet meer kan of mag dansen op goede muziek? Wij niet! Speciaal voor alle 60-plussers zijn er de Swinging Sundays! Een aantal zondagen per jaar bieden wij de kans om lekker te bewegen op de tonen van een fantastische live-act. Voor deze nieuwe\, vierde editie hebben we de 10-koppige coverband O Double Seven weten te strikken. \n\n\nEen swingende blazerssectie\, scheurende gitaarsolo’s en een middag vol meezingers! Dat kun je verwachten van O Double Seven. Deze band met muzikanten uit regio Venlo repeteert met veel plezier\, maar op het podium komen ze pas écht tot hun recht! Vol energie brengen ze een funky repertoire van popmuziek uit de jaren 70 tot nu. Dus: zing mee met Proud Mary\, swing de pan uit op Stevie Wonder en laat je verrassen door hits van Harry Styles\, Anouk en Robbie Williams. Tickets kosten slechts 5 euro!
URL:https://ikhouvanhelmond.nl/event/swinging-sundays-feat-o-double-seven/
LOCATION:De Cacaofabriek\, Cacaokade 1\, Helmond
CATEGORIES:Muziek
END:VEVENT
BEGIN:VEVENT
DTSTART;TZID=UTC:20250320T190000
DTEND;TZID=UTC:20250320T230000
DTSTAMP:20260423T113458
CREATED:20250206T124325Z
LAST-MODIFIED:20250206T124325Z
UID:459-1742497200-1742511600@ikhouvanhelmond.nl
SUMMARY:Live: Red Cat Running
DESCRIPTION:Folky-roots en singer-songwriter muziek op akoestische instrumenten\, guitar\, mandoline\, akkordeon en\, niet te vergeten\, een solide basis op bass en drums.
URL:https://ikhouvanhelmond.nl/event/live-red-cat-running/
LOCATION:Lokaal 42\, Markt 42\, Helmond
CATEGORIES:Muziek
ATTACH;FMTTYPE=image/jpeg:https://ikhouvanhelmond.nl/wp-content/uploads/2025/02/9ed8c1af-e060-4a22-899f-5f7636cb25f2.jpeg
END:VEVENT
BEGIN:VEVENT
DTSTART;TZID=UTC:20250321T200000
DTEND;TZID=UTC:20250321T230000
DTSTAMP:20260423T113458
CREATED:20250210T133053Z
LAST-MODIFIED:20250210T133053Z
UID:643-1742587200-1742598000@ikhouvanhelmond.nl
SUMMARY:Social Grooves
DESCRIPTION:Social Grooves is sinds 2019 HET talentontwikkelingsplatform voor jonge en opkomende urban artiesten. We zijn een divers en inclusief hiphop platform waar iedereen van binnen en buiten de community welkom is. Meer dan 600 rappers\, DJ’s\, spoken word artiesten\, beatmakers\, schrijvers en producers stonden al op het podium in Tilburg. Op 21-03-2025 test social grooves een nieuwe locatie: Het Annatheater in Helmond. \nSocial Grooves organiseert een maandelijkse showcase waarin jong talent uit het hele land wordt samengebracht. Podiumtijd is noodzakelijk voor de ontwikkeling van een jonge artiest. We bieden de kans om nieuw materiaal te testen\, zelfvertrouwen op te bouwen en te werken aan je persoonlijke stijl. Artiesten worden uitgenodigd om op te treden voor een publiek van leeftijdsgenoten\, professionals en het grote publiek. \nVrede\, liefde\, eenheid en plezier voor iedereen – dat is hiphop! \nWat kun je verwachten?\nEen DJ\, twee hosts en 6-10 opkomende artiesten die in hun eigen taal optreden en een krachtige boodschap brengen! \nDoors open: 20.00\nStart performers: 20.30\nDoors close: 23.00 \nDe show is GRATIS toegankelijk voor publiek. \nPhoto credit: Konstantin Mosunov
URL:https://ikhouvanhelmond.nl/event/social-grooves/
LOCATION:Annatheater\, Floreffestraat 21a\, Helmond
CATEGORIES:Muziek
ATTACH;FMTTYPE=image/jpeg:https://ikhouvanhelmond.nl/wp-content/uploads/2025/02/3446_2024_0903_20573200.jpg
END:VEVENT
BEGIN:VEVENT
DTSTART;TZID=UTC:20250321T210000
DTEND;TZID=UTC:20250321T230000
DTSTAMP:20260423T113458
CREATED:20250225T071448Z
LAST-MODIFIED:20250225T071448Z
UID:936-1742590800-1742598000@ikhouvanhelmond.nl
SUMMARY:Mostly Autumn
DESCRIPTION:Het Engelse Mostly Autumn komt alweer voor de derde keer naar Helmond! Daar zijn wij – en jullie natuurlijk ook – erg blij mee. Deze geweldige liveband mag je als liefhebber van de betere symfonische progrock gewoon niet missen. \n\n\n\nMostly Autumn\, een band die niet meer is weg te denken uit het Europese progressieve rocklandschap. Het pure\, emotionele gitaarwerk van Bryan Josh doet sterk denken aan gitaarhelden als David Gilmour en Steve Hackett. Mostly Autumn is afkomstig uit het Engelse York en werd in 1996 opgericht door Bryan Josh. Geïnspireerd door groepen als Genesis en Pink Floyd weet de band in de loop der jaren een eigen sound te ontwikkelen. Kenmerkend voor Mostly Autumn is het prog-folkgeluid. Keltische invloeden worden gecombineerd met symfonische\, melodieuze passages en heavy elementen. Naast Bryan Josh bestaat de band uit zangeres Olivia Sparnenn\, gitarist/zanger/toetsenist Chris Johnson\, op dwarsfluit/zang/toetsen Angela Gordon\, bassist Andy Smith en drummer Henry Rogers. \nDe band bracht onlangs een live-cd op de markt met verrassende nieuwe versies van oud werk\, opgenomen in de beroemde Abbey Road studio’s. Momenteel wordt de laatste hand gelegd aan een nieuw Mostly Autumn-album Seawater. Daarnaast kom er een vervolg op Bryan’s soloalbum Transylvania (Part 1 – The Count Demands It). Seawater de Limited Editon wordt in januari 2025 ge-released en komt in dit concert ruimschoots aan bod.
URL:https://ikhouvanhelmond.nl/event/mostly-autumn/
LOCATION:De Cacaofabriek\, Cacaokade 1\, Helmond
CATEGORIES:Muziek
END:VEVENT
BEGIN:VEVENT
DTSTART;TZID=UTC:20250322T203000
DTEND;TZID=UTC:20250322T223000
DTSTAMP:20260423T113458
CREATED:20250225T071612Z
LAST-MODIFIED:20250225T071612Z
UID:938-1742675400-1742682600@ikhouvanhelmond.nl
SUMMARY:U2Two
DESCRIPTION:Na hun uitverkochte show van maart 2024 komt U2Two ook in 2025 weer naar De Cacaofabriek. U2two is zowel visueel als qua muziek een kloon van de Ierse rockband U2. Sinds 2008 vormen drie sessiemuzikanten – rondom Sam Kramer als Bono – een tribute van de Ierse grootmacht. \n\n\n\nNaast dat de band exact het U2-bandgeluid laat horen\, is Sam Kramer de belangrijkste troef en publiekstrekker van de band. Met zijn stem die als twee druppels water op die van Bono lijkt\, wordt dezelfde sfeer neergezet als door U2 zelf. Sam is als Bono-imitator door zijn uiterlijk en charismatische persoonlijkheid wereldwijd onovertroffen! Dat hij in Ierland ‘Bono’s younger twin brother’ wordt genoemd\, onderschrijft dat nog eens. \nU2two bemachtigde in 2023 tijdens de SBS6 TV-show ‘The Tribute – Battle of the Bands’ een finaleplaats. Uiteindelijk werden ze één van de vier bands die speeltijd kregen in de ZiggoDome. De show duurt 120 minuten!
URL:https://ikhouvanhelmond.nl/event/u2two/
LOCATION:De Cacaofabriek\, Cacaokade 1\, Helmond
CATEGORIES:Muziek
END:VEVENT
BEGIN:VEVENT
DTSTART;TZID=UTC:20250322T220000
DTEND;TZID=UTC:20250322T220000
DTSTAMP:20260423T113458
CREATED:20250305T140629Z
LAST-MODIFIED:20250307T090930Z
UID:1012-1742680800-1742680800@ikhouvanhelmond.nl
SUMMARY:Shake Discotheque by Nick & Simon
DESCRIPTION:Ze zijn geen zangeressen\, ze zijn geen DJs maar ze weten heel goed hoe je een feestje moet maken! \nDe catwalk is uiteraard ook weer van de partij 🙂 \nDe dansvloer zal vol staan en je hoort muziek van de jaren 80 tot nu\, zolang er maar gedanst kan worden. \nTrek je dansoutfit aan en ga los met de vriendinnen Nick & Simon!
URL:https://ikhouvanhelmond.nl/event/shake-discotheque-by-nick-simon/
LOCATION:Muziekcafe\, Zuid Koninginnewal 39\, Helmond
CATEGORIES:Muziek
END:VEVENT
BEGIN:VEVENT
DTSTART;TZID=UTC:20250323T140000
DTEND;TZID=UTC:20250323T163000
DTSTAMP:20260423T113458
CREATED:20250211T180112Z
LAST-MODIFIED:20250211T180435Z
UID:675-1742738400-1742747400@ikhouvanhelmond.nl
SUMMARY:Concert Blazerij De Molshoop
DESCRIPTION:Stichting Draaiorgels Helmond verzorgt ook in 2025 een aantal concerten op zondagmiddag. De volgende optredens staan gepland in Zaal Bocken: \n\n16 februari: Concert Ambiance ensemble\n16 maart: Concert de Aalander Muzikanten uit Bakel\n23 Maart: Concert Blazerij De Molshoop\n21 april: Concert Helmondse Mondharmonica Vereniging\n\nDanszaal Bocken is gevestigd in het Draaiorgelmuseum dat weer is gevestigd in Loods20 waar ook het EDAH-Museum en de Helmondse accordeoncollectie gevestigd zijn. \nZaal gaat open om 13.30 uur.\nEntree bedraagt €5\, inclusief 1 consumptie.
URL:https://ikhouvanhelmond.nl/event/concert-blazerij-de-molshoop/
LOCATION:Zaal Bocken\, Binnen-parallelweg 2\, Helmond
CATEGORIES:Muziek
END:VEVENT
BEGIN:VEVENT
DTSTART;TZID=UTC:20250323T190000
DTEND;TZID=UTC:20250323T230000
DTSTAMP:20260423T113458
CREATED:20250206T124723Z
LAST-MODIFIED:20250206T124723Z
UID:464-1742756400-1742770800@ikhouvanhelmond.nl
SUMMARY:Live: Jo Carley and The Old Dry Skulls
DESCRIPTION:Jo Carley en The Old Dry Skulls combineren Blues\, Skiffle\, Calypso en Rockabilly met een griezelige vaudeville-twist. Het is muziek waar mensen hun botten van willen schudden! Laat je meevoeren naar een vervlogen tijdperk waarin heksen en zwarte magie welig tierden. Hun liedjes vertellen verhalen over deals met de duivel\, verliefde demonen\, toverdokters\, zombies\, spoken\, ghouls\, reizen naar de diepste jungles en andere exotische avonturen die worden verteld met behulp van zoete melodieën en gesyncopeerde geluiden.
URL:https://ikhouvanhelmond.nl/event/live-jo-carley-and-the-old-dry-skulls/
LOCATION:Lokaal 42\, Markt 42\, Helmond
CATEGORIES:Muziek
ATTACH;FMTTYPE=image/webp:https://ikhouvanhelmond.nl/wp-content/uploads/2025/02/Jo-Carley-.webp
END:VEVENT
BEGIN:VEVENT
DTSTART;TZID=UTC:20250327T210000
DTEND;TZID=UTC:20250327T230000
DTSTAMP:20260423T113458
CREATED:20250205T175208Z
LAST-MODIFIED:20250310T100658Z
UID:435-1743109200-1743116400@ikhouvanhelmond.nl
SUMMARY:Rootsclub keukentafelsessie
DESCRIPTION:Elke laatste donderdag van de maand is er een keukentafelsessie bij Lokaal 42.Tijdens de keukentafelsessie wordt er akoestisch gespeeld en liederen uitgewisseld en/of samen gespeeld. Wie kent ’t niet aan de keukentafel of zoals de Ieren het doen in de kroeg\, je lied laten horen\, samen zingen\, spelen of luisteren met een goed glas op tafel.Kortom trek je instrument van de plank\, schraap je keel en schuif aan.
URL:https://ikhouvanhelmond.nl/event/rootsclub-keukentafelsessie-2/
LOCATION:Lokaal 42\, Markt 42\, Helmond
CATEGORIES:Muziek
ATTACH;FMTTYPE=image/jpeg:https://ikhouvanhelmond.nl/wp-content/uploads/2025/03/rootsclub-keukentafelsessie-lokaal42-helmond-scaled.jpg
END:VEVENT
BEGIN:VEVENT
DTSTART;TZID=UTC:20250330T190000
DTEND;TZID=UTC:20250330T230000
DTSTAMP:20260423T113458
CREATED:20250206T124912Z
LAST-MODIFIED:20250206T124912Z
UID:467-1743361200-1743375600@ikhouvanhelmond.nl
SUMMARY:Live: Steve Leon & The Accusations
DESCRIPTION:Steve Leon & The Accusations: indie/new wave-nummers in een country-folk-vermomming. De band werd opgericht door songwriter en gitarist Steve Leon Michielsen. Na jaren als sideman in punk- en indiebands te hebben gespeeld\, besloot Steve eindelijk iets te doen met zijn liefde voor traditionele Amerikaanse muziek. Steve Leon & The Accusation gaven hun eigen draai aan dit recept door een vleugje troostende duisternis toe te voegen. De “Louche” EP van Steve Leon & The Accusations presenteert 5 krachtige nummers die bekende invloeden vermengen tot een uniek en fris geluid.
URL:https://ikhouvanhelmond.nl/event/live-steve-leon-the-accusations/
LOCATION:Lokaal 42\, Markt 42\, Helmond
CATEGORIES:Muziek
ATTACH;FMTTYPE=image/webp:https://ikhouvanhelmond.nl/wp-content/uploads/2025/02/steve-leon-and-the-accusations_1-08-2022-_lowres.webp
END:VEVENT
END:VCALENDAR