BEGIN:VCALENDAR
VERSION:2.0
PRODID:-//IK HOU VAN HELMOND - ECPv6.15.20//NONSGML v1.0//EN
CALSCALE:GREGORIAN
METHOD:PUBLISH
X-ORIGINAL-URL:https://ikhouvanhelmond.nl
X-WR-CALDESC:Evenementen voor IK HOU VAN HELMOND
REFRESH-INTERVAL;VALUE=DURATION:PT1H
X-Robots-Tag:noindex
X-PUBLISHED-TTL:PT1H
BEGIN:VTIMEZONE
TZID:UTC
BEGIN:STANDARD
TZOFFSETFROM:+0000
TZOFFSETTO:+0000
TZNAME:UTC
DTSTART:20240101T000000
END:STANDARD
END:VTIMEZONE
BEGIN:VEVENT
DTSTART;TZID=UTC:20250605T150000
DTEND;TZID=UTC:20250605T170000
DTSTAMP:20260420T013918
CREATED:20250530T075848Z
LAST-MODIFIED:20250530T075848Z
UID:1804-1749135600-1749142800@ikhouvanhelmond.nl
SUMMARY:Lezing positieve gezondheid
DESCRIPTION:Gezond zijn… wat is dat eigenlijk? En nog belangrijker: wat betekent het voor jóe? \nIn 1948 omschreef de Wereldgezondheidsorganisatie gezondheid als “een toestand van volledig lichamelijk\, geestelijk en sociaal welzijn”. Maar inmiddels kijken we daar anders naar. Gezondheid draait niet alleen om ‘niet ziek zijn’\, maar ook om hoe je je voelt en wat voor jou belangrijk is. \nArts Machteld Huber ontdekte dat zelf toen ze in het ziekenhuis lag. Ze merkte hoe belangrijk het is om aandacht te hebben voor wat je wél kunt\, voor eigen regie\, veerkracht en kwaliteit van leven. Ze ontwikkelde het concept ‘positieve gezondheid’ – een brede kijk op gezond zijn. \nTijdens deze lezing vertelt een vrijwilliger van de GGD\, gespecialiseerd in voorlichting aan senioren\, meer over deze visie. En we gaan met elkaar in gesprek: wat betekent gezondheid voor jou? Wat heb jíj nodig om je goed te voelen? \nExtra informatie + aanmelden: Lezing Positieve Gezondheid
URL:https://ikhouvanhelmond.nl/event/lezing-positieve-gezondheid/
LOCATION:Bibliotheek Helmond-Peel\, Watermolenwal 11\, Helmond
CATEGORIES:Lezing
ATTACH;FMTTYPE=image/jpeg:https://ikhouvanhelmond.nl/wp-content/uploads/2025/05/Bibliotheek-Helmond-DePeel-lezing-Positieve-Gezondheid-1.jpg
END:VEVENT
BEGIN:VEVENT
DTSTART;TZID=UTC:20250714T193000
DTEND;TZID=UTC:20250714T210000
DTSTAMP:20260420T013918
CREATED:20250617T123111Z
LAST-MODIFIED:20250617T123111Z
UID:1966-1752521400-1752526800@ikhouvanhelmond.nl
SUMMARY:Café Brein - slaap en rust
DESCRIPTION:Café Brein houdt op maandag 14 juli een avond voor mensen met niet aangeboren hersenletsel. Het thema is ‘Slaap en rust’. \nCafé Brein is een ontmoetingsavond voor mensen met hersenletsel\, mantelzorgers en andere betrokkenen. Het combineert informatie met gezelligheid. \n\n\n\n\n\nVermoeidheid is volgens Café Brein een veelvoorkomende klacht bij mensen met hersenletsel. Meer dan vijftig procent van de mensen met een herseninfarct of hersenbloeding heeft drie jaar later nog klachten. \n\n\nTijdens de avond op 14 juli geeft ergotherapeut Lonneke Bax praktische tips. Bax werkt bij Zorgboog in Balans en legt uit hoe structuur en rust kunnen helpen.
URL:https://ikhouvanhelmond.nl/event/cafe-brein-slaap-en-rust/
LOCATION:Lunchroom de Keyser\, Torenstraat 17\, Helmond
CATEGORIES:Lezing
END:VEVENT
BEGIN:VEVENT
DTSTART;TZID=UTC:20250908T193000
DTEND;TZID=UTC:20250908T210000
DTSTAMP:20260420T013918
CREATED:20250829T111328Z
LAST-MODIFIED:20250829T111328Z
UID:2287-1757359800-1757365200@ikhouvanhelmond.nl
SUMMARY:Café Brein: daginvulling met nah
DESCRIPTION:Café Brein organiseert op maandag 8 september een informatieavond voor mensen met Niet Aangeboren Hersenletsel (NAH). Het thema is ‘Daginvulling met NAH’. \n\n\n\n\nMensen met NAH hebben vaak te maken met vermoeidheid en een beperkte energiecapaciteit. Dit maakt een goede verdeling van energie belangrijk voor het dagelijks functioneren. \n\n\nDe avond richt zich op het begrijpen van je energieniveau\, het vinden van balans in activiteiten en het stellen van realistische verwachtingen. Rony Daamen\, maatschappelijk werkster\, zal praktische tips geven voor een zinvolle daginvulling bij overbelasting of overprikkeling. \n\n\nCafé Brein is een tweemaandelijkse bijeenkomst in Helmond voor mensen met NAH\, mantelzorgers en andere betrokkenen.
URL:https://ikhouvanhelmond.nl/event/cafe-brein-daginvulling-met-nah/
LOCATION:Lunchroom de Keyser\, Torenstraat 17\, Helmond
CATEGORIES:Lezing
ATTACH;FMTTYPE=image/jpeg:https://ikhouvanhelmond.nl/wp-content/uploads/2025/08/nah-brein.jpg
END:VEVENT
END:VCALENDAR