BEGIN:VCALENDAR
VERSION:2.0
PRODID:-//IK HOU VAN HELMOND - ECPv6.15.20//NONSGML v1.0//EN
CALSCALE:GREGORIAN
METHOD:PUBLISH
X-ORIGINAL-URL:https://ikhouvanhelmond.nl
X-WR-CALDESC:Evenementen voor IK HOU VAN HELMOND
REFRESH-INTERVAL;VALUE=DURATION:PT1H
X-Robots-Tag:noindex
X-PUBLISHED-TTL:PT1H
BEGIN:VTIMEZONE
TZID:UTC
BEGIN:STANDARD
TZOFFSETFROM:+0000
TZOFFSETTO:+0000
TZNAME:UTC
DTSTART:20240101T000000
END:STANDARD
END:VTIMEZONE
BEGIN:VEVENT
DTSTART;TZID=UTC:20250605T150000
DTEND;TZID=UTC:20250605T170000
DTSTAMP:20260419T143430
CREATED:20250530T075848Z
LAST-MODIFIED:20250530T075848Z
UID:1804-1749135600-1749142800@ikhouvanhelmond.nl
SUMMARY:Lezing positieve gezondheid
DESCRIPTION:Gezond zijn… wat is dat eigenlijk? En nog belangrijker: wat betekent het voor jóe? \nIn 1948 omschreef de Wereldgezondheidsorganisatie gezondheid als “een toestand van volledig lichamelijk\, geestelijk en sociaal welzijn”. Maar inmiddels kijken we daar anders naar. Gezondheid draait niet alleen om ‘niet ziek zijn’\, maar ook om hoe je je voelt en wat voor jou belangrijk is. \nArts Machteld Huber ontdekte dat zelf toen ze in het ziekenhuis lag. Ze merkte hoe belangrijk het is om aandacht te hebben voor wat je wél kunt\, voor eigen regie\, veerkracht en kwaliteit van leven. Ze ontwikkelde het concept ‘positieve gezondheid’ – een brede kijk op gezond zijn. \nTijdens deze lezing vertelt een vrijwilliger van de GGD\, gespecialiseerd in voorlichting aan senioren\, meer over deze visie. En we gaan met elkaar in gesprek: wat betekent gezondheid voor jou? Wat heb jíj nodig om je goed te voelen? \nExtra informatie + aanmelden: Lezing Positieve Gezondheid
URL:https://ikhouvanhelmond.nl/event/lezing-positieve-gezondheid/
LOCATION:Bibliotheek Helmond-Peel\, Watermolenwal 11\, Helmond
CATEGORIES:Lezing
ATTACH;FMTTYPE=image/jpeg:https://ikhouvanhelmond.nl/wp-content/uploads/2025/05/Bibliotheek-Helmond-DePeel-lezing-Positieve-Gezondheid-1.jpg
END:VEVENT
END:VCALENDAR