BEGIN:VCALENDAR
VERSION:2.0
PRODID:-//IK HOU VAN HELMOND - ECPv6.15.20//NONSGML v1.0//EN
CALSCALE:GREGORIAN
METHOD:PUBLISH
X-WR-CALNAME:IK HOU VAN HELMOND
X-ORIGINAL-URL:https://ikhouvanhelmond.nl
X-WR-CALDESC:Evenementen voor IK HOU VAN HELMOND
REFRESH-INTERVAL;VALUE=DURATION:PT1H
X-Robots-Tag:noindex
X-PUBLISHED-TTL:PT1H
BEGIN:VTIMEZONE
TZID:UTC
BEGIN:STANDARD
TZOFFSETFROM:+0000
TZOFFSETTO:+0000
TZNAME:UTC
DTSTART:20240101T000000
END:STANDARD
END:VTIMEZONE
BEGIN:VEVENT
DTSTART;TZID=UTC:20250512T193000
DTEND;TZID=UTC:20250512T210000
DTSTAMP:20260419T143250
CREATED:20250430T093928Z
LAST-MODIFIED:20250430T093928Z
UID:1650-1747078200-1747083600@ikhouvanhelmond.nl
SUMMARY:Café Brein - Hoe geef ik invulling aan mijn vakantie?
DESCRIPTION:Café Brein Helmond organiseert elke twee maanden een ontmoetings- en informatieavond voor mensen met Niet Aangeboren Hersenletsel (NAH). Thema van deze avond is ‘Hoe geef ik invulling aan mijn vakantie?’ \nDe zomer komt eraan en mensen gaan dan genieten van hun welverdiende vakantie. Maar hoe doe je dat als je hersenletsel hebt? Is op vakantie gaan dan wel zo ontspannend? \nBedenken waar je naartoe gaat\, het plannen van de reis en het wennen aan een nieuwe omgeving zijn onderdelen van de vakantie die voor het hersenletsel als een leuke periode werd gezien en ervaren. Maar dan is daar je hersenletsel… \nMensen met hersenletsel hebben vaak last van overprikkeling en het verdelen van hun energie over de dag of over meerdere dagen is een flinke uitdaging. Hoe ga je hiermee om als je op vakantie gaat\, als de structuur van een gewone dag/week wegvalt? Hoe maak je de vakantieperiode een fijne tijd voor jezelf\, maar ook voor je partner/familie? \nDeze avond komt Angelique van www.breingelique.nl haar ervaring delen en vertelt ze hoe zij\, met haar hersenletsel\,  haar vakanties invult. Ze neemt je mee in een persoonlijk verhaal over hoe ze de draad weer heeft opgepakt na haar val in 2018. Ze hoopt met haar verhaal te kunnen ondersteunen in (h)erkenning en met humor en hersenletsel-handigheidjes tips en adviezen te bieden voor een fijne vakantie.
URL:https://ikhouvanhelmond.nl/event/cafe-brein-hoe-geef-ik-invulling-aan-mijn-vakantie/
LOCATION:Lunchroom de Keyser\, Torenstraat 17\, Helmond
CATEGORIES:Lezing
ATTACH;FMTTYPE=image/jpeg:https://ikhouvanhelmond.nl/wp-content/uploads/2025/04/flyer-2025.jpg
END:VEVENT
END:VCALENDAR