BEGIN:VCALENDAR
VERSION:2.0
PRODID:-//IK HOU VAN HELMOND - ECPv6.15.20//NONSGML v1.0//EN
CALSCALE:GREGORIAN
METHOD:PUBLISH
X-ORIGINAL-URL:https://ikhouvanhelmond.nl
X-WR-CALDESC:Evenementen voor IK HOU VAN HELMOND
REFRESH-INTERVAL;VALUE=DURATION:PT1H
X-Robots-Tag:noindex
X-PUBLISHED-TTL:PT1H
BEGIN:VTIMEZONE
TZID:UTC
BEGIN:STANDARD
TZOFFSETFROM:+0000
TZOFFSETTO:+0000
TZNAME:UTC
DTSTART:20240101T000000
END:STANDARD
END:VTIMEZONE
BEGIN:VEVENT
DTSTART;TZID=UTC:20250621T183000
DTEND;TZID=UTC:20250621T223000
DTSTAMP:20260423T203932
CREATED:20250526T115131Z
LAST-MODIFIED:20250526T115131Z
UID:1752-1750530600-1750545000@ikhouvanhelmond.nl
SUMMARY:Hunted: Sint Jan
DESCRIPTION:Lukt het je om uit de handen te blijven van achtervolgers die je steeds op je hielen zitten? Kun je op tijd de locatie van de eindzone bereiken om het Sint Jans-vuur aan te steken? \nZorg voor goede kleding en schoeisel\, vergeet je jas niet! Voor eten en drinken wordt gezorgd. \nMeedoen? Aanmelden kan tot 17 juni via jongerendamiaanhelmond@gmail.com.
URL:https://ikhouvanhelmond.nl/event/hunted-sint-jan/
LOCATION:Sint Trudokerk\, Dorpsstraat 41\, Helmond
CATEGORIES:Jeugd
END:VEVENT
END:VCALENDAR