BEGIN:VCALENDAR
VERSION:2.0
PRODID:-//IK HOU VAN HELMOND - ECPv6.15.20//NONSGML v1.0//EN
CALSCALE:GREGORIAN
METHOD:PUBLISH
X-WR-CALNAME:IK HOU VAN HELMOND
X-ORIGINAL-URL:https://ikhouvanhelmond.nl
X-WR-CALDESC:Evenementen voor IK HOU VAN HELMOND
REFRESH-INTERVAL;VALUE=DURATION:PT1H
X-Robots-Tag:noindex
X-PUBLISHED-TTL:PT1H
BEGIN:VTIMEZONE
TZID:UTC
BEGIN:STANDARD
TZOFFSETFROM:+0000
TZOFFSETTO:+0000
TZNAME:UTC
DTSTART:20240101T000000
END:STANDARD
END:VTIMEZONE
BEGIN:VEVENT
DTSTART;TZID=UTC:20250308T103000
DTEND;TZID=UTC:20250308T110000
DTSTAMP:20260424T014522
CREATED:20250225T070545Z
LAST-MODIFIED:20250225T070606Z
UID:922-1741429800-1741431600@ikhouvanhelmond.nl
SUMMARY:Poppentheater - Flappie is jarig
DESCRIPTION:Flappie (het konijn) is jarig\nFlappie is jarig. Hij wordt uitgenodigd om bij Jan Klaassen en Katrijn het verjaardagsfeestje te vieren. \n\n\n\nKatrijn gaat een verjaardagstaart bakken en Jan Klaassen zorgt voor het kadootje. Maar dan moet ook nog de poppenkast versierd worden en Flappie gaat voor de  kinderen. Een traktatie maken. Maar of dat lukt? \nVoor kinderen van 2 tot 4 jaar.
URL:https://ikhouvanhelmond.nl/event/poppentheater-flappie-is-jarig-2/
LOCATION:De Cacaofabriek\, Cacaokade 1\, Helmond
CATEGORIES:Jeugd
END:VEVENT
BEGIN:VEVENT
DTSTART;TZID=UTC:20250308T130000
DTEND;TZID=UTC:20250308T133000
DTSTAMP:20260424T014522
CREATED:20250225T070733Z
LAST-MODIFIED:20250225T070733Z
UID:925-1741438800-1741440600@ikhouvanhelmond.nl
SUMMARY:Poppentheater - Jan Klaassen vangt de boef
DESCRIPTION:Er is een grote zak met geld gestolen in het kasteel van de Koning. De dader is Pikkepak de boef. De politieagent is op zoek\, maar kan hem niet vinden. De politieagent roept de hulp in van Jan Klaassen. Samen maken ze er een wedstrijdje van wie het eerst de boef te pakken heeft. Wil je weten wie er gaat winnen? Kom dan kijken.\n\n\n\nVoor kinderen van 4 tot 8 jaar.
URL:https://ikhouvanhelmond.nl/event/poppentheater-jan-klaassen-vangt-de-boef/
LOCATION:De Cacaofabriek\, Cacaokade 1\, Helmond
CATEGORIES:Jeugd
END:VEVENT
END:VCALENDAR