BEGIN:VCALENDAR
VERSION:2.0
PRODID:-//IK HOU VAN HELMOND - ECPv6.15.20//NONSGML v1.0//EN
CALSCALE:GREGORIAN
METHOD:PUBLISH
X-ORIGINAL-URL:https://ikhouvanhelmond.nl
X-WR-CALDESC:Evenementen voor IK HOU VAN HELMOND
REFRESH-INTERVAL;VALUE=DURATION:PT1H
X-Robots-Tag:noindex
X-PUBLISHED-TTL:PT1H
BEGIN:VTIMEZONE
TZID:UTC
BEGIN:STANDARD
TZOFFSETFROM:+0000
TZOFFSETTO:+0000
TZNAME:UTC
DTSTART:20240101T000000
END:STANDARD
END:VTIMEZONE
BEGIN:VEVENT
DTSTART;TZID=UTC:20250502T133000
DTEND;TZID=UTC:20250502T143000
DTSTAMP:20260423T203740
CREATED:20250411T130830Z
LAST-MODIFIED:20250411T130830Z
UID:1420-1746192600-1746196200@ikhouvanhelmond.nl
SUMMARY:Meneer Monster - speelgoed (8-14 jaar)
DESCRIPTION:Speelgoed is een nieuw – niet te missen – theateravontuur van Meneer Monster. \n\n\nWelkom op de speelvloer van een 8-jarig kind: autootjes\, een dinosaurus\, een berg groene soldaatjes\, een verliefde furby en een glitter-regenboog-eenhoornballon in nood. \n\n\n\n\n\nEen ufo maakt een ruige landing in een onbekend universum. Uit de smeulende resten stapt onze onverschrokken held Captain Spaceman. Hij heeft een belangrijke missie: het verkennen van de nieuwe wereld waar hij met zijn speelgoedvrienden binnenkort zal komen wonen. De chaos die hij daar aantreft\, probeert hij met man en macht te ordenen. Maar daar zit het oorspronkelijke speelgoed helemaal niet op te wachten… \n\n\nMeneer Monster nodigt je uit in een wereld waar speelgoed tot leven komt. Een avontuurlijke familievoorstelling over toys die ontdekken uit welk hout ze gesneden zijn. \n\n\nOVER MENEER MONSTER \n\n\nMeneer Monster maakt cartoonesk\, eigenzinnig en beeldend actietheater en is bekend van hitvoorstellingen als Lucky Luuk\, De Gruffalo\, Over een kleine Mol… en De Waanzinnige Boomhut van 13 Verdiepingen. Met hun werk wonnen ze een Zilveren Krekel en de ZAPP theaterprijs.
URL:https://ikhouvanhelmond.nl/event/meneer-monster-speelgoed-8-14-jaar/
LOCATION:Theater het Speelhuis\, Speelhuisplein 2\, Helmond
CATEGORIES:Jeugd
ATTACH;FMTTYPE=image/jpeg:https://ikhouvanhelmond.nl/wp-content/uploads/2025/04/speelgoed.jpg
END:VEVENT
BEGIN:VEVENT
DTSTART;TZID=UTC:20250503T150000
DTEND;TZID=UTC:20250503T155000
DTSTAMP:20260423T203740
CREATED:20250411T131125Z
LAST-MODIFIED:20250411T131125Z
UID:1423-1746284400-1746287400@ikhouvanhelmond.nl
SUMMARY:De magische kast (4-12 jaar)
DESCRIPTION:Een familievoorstelling vol magische trucs\, grappige twists\, jongleerkunsten en verrassende effecten. Huub heeft een oude kast op de kop weten te tikken via Marktplaats. Gratis af te halen\, wat een topdeal! \n\n\n\nMaar de kast heeft iets geks: hij zit op slot met een grote ketting en de sleutel is kwijt… Lukt het Huub en zijn publiek om samen de magische kast open te krijgen? Wat zou er in de kast zitten en wat doe je als blijkt dat ‘ie betoverd lijkt te zijn?
URL:https://ikhouvanhelmond.nl/event/de-magische-kast-4-12-jaar/
LOCATION:Theater het Speelhuis\, Speelhuisplein 2\, Helmond
CATEGORIES:Jeugd
ATTACH;FMTTYPE=image/jpeg:https://ikhouvanhelmond.nl/wp-content/uploads/2025/04/De-Magische-Kast.jpg
END:VEVENT
BEGIN:VEVENT
DTSTART;TZID=UTC:20250525T101500
DTEND;TZID=UTC:20250525T113000
DTSTAMP:20260423T203740
CREATED:20250411T142845Z
LAST-MODIFIED:20250411T142845Z
UID:1467-1748168100-1748172600@ikhouvanhelmond.nl
SUMMARY:Poppenkast Alda Loeffen
DESCRIPTION:Tante Alda is bijna jarig en wil haar grote kater in bad doen.\nAlles moet schoon!\nVoorstelling geschikt vanaf 3 jaar
URL:https://ikhouvanhelmond.nl/event/poppenkast-alda-loeffen/
LOCATION:Theater het Speelhuis\, Speelhuisplein 2\, Helmond
CATEGORIES:Jeugd
ATTACH;FMTTYPE=image/jpeg:https://ikhouvanhelmond.nl/wp-content/uploads/2025/04/info_5547_01.jpg
END:VEVENT
BEGIN:VEVENT
DTSTART;TZID=UTC:20250525T110000
DTEND;TZID=UTC:20250525T160000
DTSTAMP:20260423T203740
CREATED:20250224T094053Z
LAST-MODIFIED:20250224T094053Z
UID:822-1748170800-1748188800@ikhouvanhelmond.nl
SUMMARY:Pretmakers Festival
DESCRIPTION:Karnavalsvereniging de Olietrappers en buurtvereniging de Oliemolen organiseren samen het Pretmakers Festival. Dit evenement wordt gehouden op zondag 25 mei a.s. op het speelveld op het Montgomeryplein. Het Pretmakers Festival wordt georganiseerd voor leden en alle kinderen uit de Annawijk ( Suytkade\, Annabuurt\, Overspoor en het Stationskwartier).\nVoor leden begint deze dag al om 11.00 uur. Kinderen uit de wijk zijn vanaf 13.30 uur welkom. Om 16.00 uur is de middag afgelopen. Met het organiseren van het Pretmakers Festival proberen we voor alle kinderen een leuke middag te organiseren. Mama’s\, papa’s\, oma’s en opa’s zijn deze middag ook van harte welkom! Voor jullie hebben we gezellige zitjes tussen alle spelletjes ingericht.
URL:https://ikhouvanhelmond.nl/event/pretmakers-festival/
LOCATION:Montgomeryplein\, Helmond
CATEGORIES:Jeugd
ATTACH;FMTTYPE=image/png:https://ikhouvanhelmond.nl/wp-content/uploads/2025/02/Pretmakersfestival-Helmond.png
END:VEVENT
END:VCALENDAR