BEGIN:VCALENDAR
VERSION:2.0
PRODID:-//IK HOU VAN HELMOND - ECPv6.15.20//NONSGML v1.0//EN
CALSCALE:GREGORIAN
METHOD:PUBLISH
X-ORIGINAL-URL:https://ikhouvanhelmond.nl
X-WR-CALDESC:Evenementen voor IK HOU VAN HELMOND
REFRESH-INTERVAL;VALUE=DURATION:PT1H
X-Robots-Tag:noindex
X-PUBLISHED-TTL:PT1H
BEGIN:VTIMEZONE
TZID:UTC
BEGIN:STANDARD
TZOFFSETFROM:+0000
TZOFFSETTO:+0000
TZNAME:UTC
DTSTART:20240101T000000
END:STANDARD
END:VTIMEZONE
BEGIN:VEVENT
DTSTART;TZID=UTC:20250413T150000
DTEND;TZID=UTC:20250413T161500
DTSTAMP:20260423T222255
CREATED:20250314T121925Z
LAST-MODIFIED:20250314T121925Z
UID:1170-1744556400-1744560900@ikhouvanhelmond.nl
SUMMARY:De Dansers - Binnenbeest (6+)
DESCRIPTION:De aanstekelijke familievoorstelling Binnenbeest (2017) staat met een gloednieuwe castterug op de planken voor een nieuwe generatie kinderen\, “serieuze” volwassenen en allebinnenbeesten. \nSoms lijkt het alsof er een wolf binnen in me zit. Dan wil ik grommen\, rennen of heel hard huilen. Soms\, als ik op m’n stoel wiebel of aan lantarenpalen slinger\, voel ik me meer een aapje. En soms\, zie ik dat ook bij anderen om me heen. Herken je dat? Je buurman heeft wel iets weg van een brommende beer. En je nichtje is net een huppelende pony. Maar bij de meeste mensen is hun Binnenbeest weggestopt\, tam gemaakt en opgesloten. Dat is toch zielig? \n\n\n\nIn de vrolijke familie dansvoorstelling Binnenbeest verwelkomen vijf wetenschappers je in hun laboratorium. Ze volgen een vaste routine en zijn druk in de weer met glazen\, tellen en noteren. Maar dan steken hun binnenbeesten de kop op en ze vallen steeds vaker uit de pas. Machinale bewegingen veranderen in acrobatische sprongen\, deftige muziek barst los in swingende flamenco en de zorgvuldig opgestapelde glazen vliegen door de lucht. Binnenbeest is een voorstelling over orde en chaos\, en de lol die in beide te vinden is. Een voorstelling over je impulsen. Volg je die blind of worden ze je dan teveel?
URL:https://ikhouvanhelmond.nl/event/de-dansers-binnenbeest-6/
LOCATION:Theater het Speelhuis\, Speelhuisplein 2\, Helmond
CATEGORIES:Jeugd
ATTACH;FMTTYPE=image/jpeg:https://ikhouvanhelmond.nl/wp-content/uploads/2025/03/de-dansers-s500x500.jpg
END:VEVENT
BEGIN:VEVENT
DTSTART;TZID=UTC:20250420T150000
DTEND;TZID=UTC:20250420T153500
DTSTAMP:20260423T222255
CREATED:20250314T122940Z
LAST-MODIFIED:20250314T122940Z
UID:1182-1745161200-1745163300@ikhouvanhelmond.nl
SUMMARY:Eitje - grote mensen (3+)
DESCRIPTION:Stel je voor: een actiefilm\, maar dan in het echt. Met één van de saaiste actiefiguren ooooit. Een eitje waar niemand aan mag komen\, we herhalen\, niemand. Een saai eitje dus. \n\n\n\nEen saai eitje bewaakt door twee oersaaie suppoosten in een museum. (Suppoosten zijn saaie bewakers van kunstobjecten\, en kunst is…. Ehm nou ja\, dat vertellen we nog wel een keer.) En net als het zo saai begint te worden dat je in slaap valt\, zitten we midden in een achtervolging. Twee droogkomische\, saaie mimers bewaken de actieheld: Eitje. Met minimale middelen en veel huis-\, tuin- en keukenmagie toveren ze zichzelf\, elkaar en het eitje weg. Gevaarlijk wordt het zeker\, dus probeer dit ook thuis.
URL:https://ikhouvanhelmond.nl/event/eitje-grote-mensen-3/
LOCATION:Theater het Speelhuis\, Speelhuisplein 2\, Helmond
CATEGORIES:Jeugd
ATTACH;FMTTYPE=image/jpeg:https://ikhouvanhelmond.nl/wp-content/uploads/2025/03/grote_mensen_-_eitje_3_.jpg
END:VEVENT
BEGIN:VEVENT
DTSTART;TZID=UTC:20250421T143000
DTEND;TZID=UTC:20250421T154500
DTSTAMP:20260423T222255
CREATED:20250314T124357Z
LAST-MODIFIED:20250314T124357Z
UID:1185-1745245800-1745250300@ikhouvanhelmond.nl
SUMMARY:De Neehoorn (7-12 jaar)
DESCRIPTION:Stap binnen in het kleurrijke Heerlijke Hartenwoud\, het thuis van de eigenwijze NEEhoorn. Deze brutale en stoere familiemusical is gebaseerd op het populaire kinderboek De NEEhoorn\, bewerkt door cabaretier Peter Heerschop\, geregisseerd door Naomi van der Linden. \n\n\n\n\n\nIedereen voelt zich weleens niet op zijn plek\, maar als je je zelfs in het paradijs niet thuis voelt\, waar moet je dan nog naartoe? Laat je meevoeren in het betoverende universum van de NEEhoorn en zijn vrienden. De WATbeer die soms niet hoort en soms niet luistert\, de brutale KUS-m’n-KONT-hond en de WELLES-prinses die altijd gelijk wil hebben. Samen gaan ze op zoek naar het mysterieuze NERGENS. \nDe NEEhoorn is een brutale musical voor kinderen die durven te dromen\, maar ook een feest der herkenning voor (groot)ouders met een kleine eigenwijze NEEhoorn thuis. Bovendien valt er voor een grote broer en/of zus ook veel te lachen. \nLaat je verrassen door de ondeugende humor van De NEEhoorn en Peter Heerschop in dit filosofische avontuur over chagrijn\, vriendschap en erbij horen. \nNaar het gelijknamige boek van Marc-Uwe Kling en Astrid Henn\, vertaald door Jaap Robben
URL:https://ikhouvanhelmond.nl/event/de-neehoorn-7-12-jaar/
LOCATION:Theater het Speelhuis\, Speelhuisplein 2\, Helmond
CATEGORIES:Jeugd
ATTACH;FMTTYPE=image/png:https://ikhouvanhelmond.nl/wp-content/uploads/2025/03/neehoorn-en-watbeer.png
END:VEVENT
END:VCALENDAR