BEGIN:VCALENDAR
VERSION:2.0
PRODID:-//IK HOU VAN HELMOND - ECPv6.15.20//NONSGML v1.0//EN
CALSCALE:GREGORIAN
METHOD:PUBLISH
X-ORIGINAL-URL:https://ikhouvanhelmond.nl
X-WR-CALDESC:Evenementen voor IK HOU VAN HELMOND
REFRESH-INTERVAL;VALUE=DURATION:PT1H
X-Robots-Tag:noindex
X-PUBLISHED-TTL:PT1H
BEGIN:VTIMEZONE
TZID:UTC
BEGIN:STANDARD
TZOFFSETFROM:+0000
TZOFFSETTO:+0000
TZNAME:UTC
DTSTART:20240101T000000
END:STANDARD
END:VTIMEZONE
BEGIN:VEVENT
DTSTART;TZID=UTC:20250913T210000
DTEND;TZID=UTC:20250913T223000
DTSTAMP:20260423T183644
CREATED:20250801T084433Z
LAST-MODIFIED:20250801T084433Z
UID:2206-1757797200-1757802600@ikhouvanhelmond.nl
SUMMARY:Buitenbioscoop: Little miss sunshine
DESCRIPTION:Een tragikomische roadmovie over familie\, falen en de schoonheid van imperfectie. \n\n\n\nWanneer de jonge en eigenzinnige Olive onverwacht wordt uitgenodigd om mee te doen aan de Little Miss Sunshine-verkiezing\, stapt haar excentrieke familie in een gammel busje voor een hilarische en ontroerende reis naar Californië. Onderweg botsen karakters\, geheimen komen aan het licht en de familie wordt op de proef gesteld. \n* Breng je eigen stoeltje mee | Drankjes en snacks verkrijgbaar aan onze buitenbar | Reserveer je gratis ticket\, want vol = vol
URL:https://ikhouvanhelmond.nl/event/buitenbioscoop-little-miss-sunshine/
LOCATION:De Cacaofabriek\, Cacaokade 1\, Helmond
CATEGORIES:Film
ATTACH;FMTTYPE=image/jpeg:https://ikhouvanhelmond.nl/wp-content/uploads/2025/08/buitenbioscoop-little-miss-sunshine-s500x500.jpg
END:VEVENT
END:VCALENDAR