BEGIN:VCALENDAR
VERSION:2.0
PRODID:-//IK HOU VAN HELMOND - ECPv6.15.20//NONSGML v1.0//EN
CALSCALE:GREGORIAN
METHOD:PUBLISH
X-WR-CALNAME:IK HOU VAN HELMOND
X-ORIGINAL-URL:https://ikhouvanhelmond.nl
X-WR-CALDESC:Evenementen voor IK HOU VAN HELMOND
REFRESH-INTERVAL;VALUE=DURATION:PT1H
X-Robots-Tag:noindex
X-PUBLISHED-TTL:PT1H
BEGIN:VTIMEZONE
TZID:UTC
BEGIN:STANDARD
TZOFFSETFROM:+0000
TZOFFSETTO:+0000
TZNAME:UTC
DTSTART:20240101T000000
END:STANDARD
END:VTIMEZONE
BEGIN:VEVENT
DTSTART;TZID=UTC:20250816T211500
DTEND;TZID=UTC:20250816T211500
DTSTAMP:20260423T182504
CREATED:20250716T090807Z
LAST-MODIFIED:20250716T090807Z
UID:2120-1755378900-1755378900@ikhouvanhelmond.nl
SUMMARY:Buitenbioscoop: Mean Girls
DESCRIPTION:Tienerklassieker\, cultfilm en scherpe satire in één: Mean Girls is hét schoolplein-epos over populariteit\, roddel en zelfontdekking. \n\n\n\nAls de naïeve Cady van het Afrikaanse thuisonderwijs overstapt naar een Amerikaanse high school\, raakt ze verstrikt in de hiërarchie van de beruchte ‘Plastics’. Wat begint als een undercovermissie om de queen bee ten val te brengen\, ontaardt al snel in een chaotische strijd om macht\, status en identiteit. \n* Breng je eigen stoeltje mee | Drankjes en snacks verkrijgbaar aan onze buitenbar | Reserveer je gratis ticket\, want vol = vol
URL:https://ikhouvanhelmond.nl/event/buitenbioscoop-mean-girls/
LOCATION:De Cacaofabriek\, Cacaokade 1\, Helmond
CATEGORIES:Film
ATTACH;FMTTYPE=image/png:https://ikhouvanhelmond.nl/wp-content/uploads/2025/07/Buitenbioscoop-helmond-Mean-Girls.png
END:VEVENT
END:VCALENDAR