BEGIN:VCALENDAR
VERSION:2.0
PRODID:-//IK HOU VAN HELMOND - ECPv6.15.20//NONSGML v1.0//EN
CALSCALE:GREGORIAN
METHOD:PUBLISH
X-WR-CALNAME:IK HOU VAN HELMOND
X-ORIGINAL-URL:https://ikhouvanhelmond.nl
X-WR-CALDESC:Evenementen voor IK HOU VAN HELMOND
REFRESH-INTERVAL;VALUE=DURATION:PT1H
X-Robots-Tag:noindex
X-PUBLISHED-TTL:PT1H
BEGIN:VTIMEZONE
TZID:UTC
BEGIN:STANDARD
TZOFFSETFROM:+0000
TZOFFSETTO:+0000
TZNAME:UTC
DTSTART:20240101T000000
END:STANDARD
END:VTIMEZONE
BEGIN:VEVENT
DTSTART;TZID=UTC:20250402T143000
DTEND;TZID=UTC:20250402T161000
DTSTAMP:20260424T014012
CREATED:20250310T120548Z
LAST-MODIFIED:20250310T122354Z
UID:1080-1743604200-1743610200@ikhouvanhelmond.nl
SUMMARY:Film: Kleine Dommel\, levensader voor Oost-Brabant
DESCRIPTION:In deze documentaire worden natuur\, cultuur en waterbeheer in het stroomgebied van de Kleine Dommel\, dat loopt van Kasteel Heeze in Heeze tot Kasteel Eckart in Eindhoven\, in beeld gebracht. De film is gemaakt door 4 leden van een Videogroep uit Helmond\, hetzelfde team dat de succesvolle film Landschap zonder Grenzen heeft samengesteld. \n\n\n\nOnderdelen van de documentaire zijn: \n\nKasteel Heeze met Herbertusbossen\nStrabrechtse Heide met De Plaetse\, heideschapen\, paddentrek en fraaie natuur op de heide\nWaterbuffer met specifieke natuur tussen de Plaetse en snelweg A67 met waterkunstwerk\nGebied Geldrop tussen Snelweg A67 en Weverijmuseum\nWeverijmuseum\nKasteel Geldrop\nVan Kasteel Geldrop tot en met Eindhovens Kanaal en ontwikkelingen rond het kanaal\nUrkhovense Zeggen met haar specifieke natuur\nCollse watermolen met uitgebreid de oliemolen\nOpwettense watermolen\nKasteel Eckart met de fraaie natuur van het omliggend landgoed
URL:https://ikhouvanhelmond.nl/event/film-kleine-dommel-levensader-voor-oost-brabant/
LOCATION:De Cacaofabriek\, Cacaokade 1\, Helmond
CATEGORIES:Film
ATTACH;FMTTYPE=image/png:https://ikhouvanhelmond.nl/wp-content/uploads/2025/03/Scherm­afbeelding-2025-03-10-om-13.11.27.png
END:VEVENT
END:VCALENDAR