BEGIN:VCALENDAR
VERSION:2.0
PRODID:-//IK HOU VAN HELMOND - ECPv6.15.20//NONSGML v1.0//EN
CALSCALE:GREGORIAN
METHOD:PUBLISH
X-ORIGINAL-URL:https://ikhouvanhelmond.nl
X-WR-CALDESC:Evenementen voor IK HOU VAN HELMOND
REFRESH-INTERVAL;VALUE=DURATION:PT1H
X-Robots-Tag:noindex
X-PUBLISHED-TTL:PT1H
BEGIN:VTIMEZONE
TZID:UTC
BEGIN:STANDARD
TZOFFSETFROM:+0000
TZOFFSETTO:+0000
TZNAME:UTC
DTSTART:20240101T000000
END:STANDARD
END:VTIMEZONE
BEGIN:VEVENT
DTSTART;TZID=UTC:20250401T201500
DTEND;TZID=UTC:20250401T234000
DTSTAMP:20260424T014718
CREATED:20250310T120222Z
LAST-MODIFIED:20250310T122100Z
UID:1076-1743538500-1743550800@ikhouvanhelmond.nl
SUMMARY:Royal Ballet & Opera: Turandot
DESCRIPTION:Speciaal voor alle opera-en balletliefhebbers\, worden de meest beroemde en spectaculaire voorstellingen van het Royal Opera House live vanuit Londen uitgezonden in De Cacaofabriek. Geniet van grandioze arias en betoverend ballet\, laat je meevoeren en waan je op de eerste rang in het Royal Opera House. \nDe beeldschone maar ijskoude prinses Turandot wil alleen met de man trouwen die drie raadsels correct kan beantwoorden. Wie daarin faalt\, wordt op brute wijze onthoofd. \n\n\n\nMaar als er een onbekende prins komt\, wordt de machtsbalans in het hof van Turandot voorgoed verstoord\, wanneer de mysterieuze vreemdeling doet wat niemand anders tot nu toe is gelukt
URL:https://ikhouvanhelmond.nl/event/royal-ballet-opera-turandot/
LOCATION:De Cacaofabriek\, Cacaokade 1\, Helmond
CATEGORIES:Film
ATTACH;FMTTYPE=image/png:https://ikhouvanhelmond.nl/wp-content/uploads/2025/03/Turandot.png
END:VEVENT
END:VCALENDAR