BEGIN:VCALENDAR
VERSION:2.0
PRODID:-//IK HOU VAN HELMOND - ECPv6.15.20//NONSGML v1.0//EN
CALSCALE:GREGORIAN
METHOD:PUBLISH
X-WR-CALNAME:IK HOU VAN HELMOND
X-ORIGINAL-URL:https://ikhouvanhelmond.nl
X-WR-CALDESC:Evenementen voor IK HOU VAN HELMOND
REFRESH-INTERVAL;VALUE=DURATION:PT1H
X-Robots-Tag:noindex
X-PUBLISHED-TTL:PT1H
BEGIN:VTIMEZONE
TZID:UTC
BEGIN:STANDARD
TZOFFSETFROM:+0000
TZOFFSETTO:+0000
TZNAME:UTC
DTSTART:20240101T000000
END:STANDARD
END:VTIMEZONE
BEGIN:VEVENT
DTSTART;TZID=UTC:20250512T140000
DTEND;TZID=UTC:20250512T160000
DTSTAMP:20260423T220821
CREATED:20250310T115725Z
LAST-MODIFIED:20250325T123209Z
UID:1074-1747058400-1747065600@ikhouvanhelmond.nl
SUMMARY:Historische film Helmond
DESCRIPTION:We gaan weer starten met de Historsche Filmcyclus Helmond! Met prachtige\, oude filmbeelden van onze prachtige stad\, elke keer rondom een bepaald thema. In mei kan dat natuurlijk niet anders zijn dan de Tweede Wereldoorlog en dan met name de bevrijding van Zuid Oost Brabant. \n\n\nZuid-Oost Brabant in het algemeen en Helmond in het bijzonder hebben een rijke geschiedenis\, een geschiedenis die het waard is om meer bekendheid te krijgen. Deze editie zal vooral in het teken staan van de tweede wereldoorlog en dan met name ook inzoomen op de bevrijding. Natuurlijk is Helmond-kenner Jan van Bussel van de partij om de beelden (samengesteld door Henk Wasser) van deskundig commentaar te voorzien. De middag start om 14.00 uur\, Entree bedraagt 5 euro.
URL:https://ikhouvanhelmond.nl/event/historische-film-helmond/
LOCATION:De Cacaofabriek\, Cacaokade 1\, Helmond
CATEGORIES:Film
ATTACH;FMTTYPE=image/png:https://ikhouvanhelmond.nl/wp-content/uploads/2025/03/historische-film-helmond.png
END:VEVENT
BEGIN:VEVENT
DTSTART;TZID=UTC:20250514T180000
DTEND;TZID=UTC:20250514T180000
DTSTAMP:20260423T220821
CREATED:20250325T123642Z
LAST-MODIFIED:20250428T104720Z
UID:1276-1747245600-1747245600@ikhouvanhelmond.nl
SUMMARY:Royal Ballet & Opera: Die Walküre
DESCRIPTION:Op een stormachtige avond brengt het lot twee vreemdelingen bijeen\, wat tot een liefde leidt die de kracht heeft om een eind aan de wereld te maken. Ondertussen ontwikkelt zich in het rijk der goden een epische strijd tussen de oppergod Wodan en zijn opstandige dochter\, Brünnhilde. \nDuur: 365 minuten
URL:https://ikhouvanhelmond.nl/event/royal-ballet-opera-die-walkure/
LOCATION:De Cacaofabriek\, Cacaokade 1\, Helmond
CATEGORIES:Film
ATTACH;FMTTYPE=image/png:https://ikhouvanhelmond.nl/wp-content/uploads/2025/03/Walkure.png
END:VEVENT
BEGIN:VEVENT
DTSTART;TZID=UTC:20250514T190000
DTEND;TZID=UTC:20250514T205100
DTSTAMP:20260423T220821
CREATED:20250325T124221Z
LAST-MODIFIED:20250325T124221Z
UID:1281-1747249200-1747255860@ikhouvanhelmond.nl
SUMMARY:Literair café - het Smelt
DESCRIPTION:Één woensdagavond per maand kun je nationale en/of internationale films gebaseerd op literaire werken in onze filmzalen zien\, welke worden ingeleid door kenner Jan Salden. Kom kijken en bepaal zelf wat je beter vindt: het boek of de film? Meer info en aanmelden kan hier. \nOp woensdag 14 mei is het tijd voor het vijfde Literair Café met de film Het Smelt van regisseur Veerle Baetens\, gebaseerd op het gelijknamige boek van Lize Spit. Zoals gezegd is Jan Salden van de partij om de film(s) van deskundig commentaar te voorzien. Jan zal jouw filmblik zeker verruimen. \n\n\n\nVele jaren na een snikhete zomer die volledig uit de hand liep\, keert Eva terug naar haar geboortedorp om af te rekenen met haar verleden en een beklijvende boodschap achter te laten. Gebaseerd op de gelijknamige bestseller van Lize Spit. \nEva worstelt met menselijke connectie. Ze is vervreemd van haar ouders en nu haar jongere zus gaat verhuizen\, is ze al helemaal eenzaam. Wanneer ze een bericht op social media ziet waarin de herdenking van een lang geleden overleden vriend wordt aangekondigd\, brengt dat haar terug naar de zomer waarin ze dertien jaar oud was. Die zomervakantie bracht ze door als derde musketier met twee wat oudere jongens. Ze speelden een raadselspel met plaatselijke meisjes\, met een schokkende afloop. Eva besluit terug te keren naar haar geboortedorp om de zomer die haar leven voor altijd veranderde achter zich te laten.
URL:https://ikhouvanhelmond.nl/event/literair-cafe-het-smelt/
LOCATION:De Cacaofabriek\, Cacaokade 1\, Helmond
CATEGORIES:Film
ATTACH;FMTTYPE=image/png:https://ikhouvanhelmond.nl/wp-content/uploads/2025/03/het-smelt.png
END:VEVENT
BEGIN:VEVENT
DTSTART;TZID=UTC:20250518T143000
DTEND;TZID=UTC:20250518T203500
DTSTAMP:20260423T220821
CREATED:20250325T123834Z
LAST-MODIFIED:20250428T104751Z
UID:1279-1747578600-1747600500@ikhouvanhelmond.nl
SUMMARY:Royal Ballet & Opera: Die Walküre
DESCRIPTION:Op een stormachtige avond brengt het lot twee vreemdelingen bijeen\, wat tot een liefde leidt die de kracht heeft om een eind aan de wereld te maken. Ondertussen ontwikkelt zich in het rijk der goden een epische strijd tussen de oppergod Wodan en zijn opstandige dochter\, Brünnhilde. \nDuur: 365 minuten
URL:https://ikhouvanhelmond.nl/event/royal-ballet-opera-die-walkure-2/
LOCATION:De Cacaofabriek\, Cacaokade 1\, Helmond
CATEGORIES:Film
ATTACH;FMTTYPE=image/png:https://ikhouvanhelmond.nl/wp-content/uploads/2025/03/Walkure.png
END:VEVENT
END:VCALENDAR