BEGIN:VCALENDAR
VERSION:2.0
PRODID:-//IK HOU VAN HELMOND - ECPv6.15.20//NONSGML v1.0//EN
CALSCALE:GREGORIAN
METHOD:PUBLISH
X-WR-CALNAME:IK HOU VAN HELMOND
X-ORIGINAL-URL:https://ikhouvanhelmond.nl
X-WR-CALDESC:Evenementen voor IK HOU VAN HELMOND
REFRESH-INTERVAL;VALUE=DURATION:PT1H
X-Robots-Tag:noindex
X-PUBLISHED-TTL:PT1H
BEGIN:VTIMEZONE
TZID:UTC
BEGIN:STANDARD
TZOFFSETFROM:+0000
TZOFFSETTO:+0000
TZNAME:UTC
DTSTART:20240101T000000
END:STANDARD
END:VTIMEZONE
BEGIN:VEVENT
DTSTART;TZID=UTC:20250310T174500
DTEND;TZID=UTC:20250310T201500
DTSTAMP:20260419T145038
CREATED:20250224T120347Z
LAST-MODIFIED:20250224T120347Z
UID:858-1741628700-1741637700@ikhouvanhelmond.nl
SUMMARY:Iftar 2025
DESCRIPTION:Ook dit jaar organiseert We Care Helmond weer een Iftar op 10 maart 2025\, ditmaal samen met Het Speelhuis. De Iftar is een bijzondere gelegenheid\, toegankelijk voor zowel moslims als niet-moslims\, om inwoners en professionals uit Helmond samen te brengen. In de sfeervolle ambiance van Het Speelhuis kunnen bezoekers genieten van een heerlijke maaltijd\, waarbij verbroedering en verbinding centraal staan. \n\n\n\nHet evenement biedt een moment om stil te staan bij het belang van saamhorigheid en verbinding\, vooral in een tijd waarin polarisatie steeds meer toeneemt in onze samenleving. De avond brengt mensen met diverse achtergronden samen om te genieten van een gezamenlijke maaltijd. De ongedwongen sfeer en culinaire hoogstandjes zorgen voor waardevolle ontmoetingen en inspirerende gesprekken. Dit evenement draagt bij aan onderling contact\, saamhorigheid\, tolerantie\, respect en wederzijds begrip voor elkaars cultuur en religie.\n\nAanmelden kan tot 1 maart 2025 via deze webpagina. Let op! Er zijn 300 plekken beschikbaar en vol is vol.\n\nDe avond wordt u gratis aangeboden. Wilt u iets doneren? Dat kan! Wij willen aan het einde van de Ramadan zoveel mogelijk kinderen uit gezinnen die het niet breed hebben een goed gevulde rugzak geven. U kunt hiervoor vrijblijvend een donatie doen op de avond zelf.
URL:https://ikhouvanhelmond.nl/event/iftar-2025/
LOCATION:Theater het Speelhuis\, Speelhuisplein 2\, Helmond
CATEGORIES:Eten & drinken
END:VEVENT
END:VCALENDAR