BEGIN:VCALENDAR
VERSION:2.0
PRODID:-//IK HOU VAN HELMOND - ECPv6.15.20//NONSGML v1.0//EN
CALSCALE:GREGORIAN
METHOD:PUBLISH
X-WR-CALNAME:IK HOU VAN HELMOND
X-ORIGINAL-URL:https://ikhouvanhelmond.nl
X-WR-CALDESC:Evenementen voor IK HOU VAN HELMOND
REFRESH-INTERVAL;VALUE=DURATION:PT1H
X-Robots-Tag:noindex
X-PUBLISHED-TTL:PT1H
BEGIN:VTIMEZONE
TZID:UTC
BEGIN:STANDARD
TZOFFSETFROM:+0000
TZOFFSETTO:+0000
TZNAME:UTC
DTSTART:20240101T000000
END:STANDARD
END:VTIMEZONE
BEGIN:VEVENT
DTSTART;VALUE=DATE:20250220
DTEND;VALUE=DATE:20250706
DTSTAMP:20260419T162421
CREATED:20250204T154557Z
LAST-MODIFIED:20250224T111505Z
UID:362-1740009600-1751759999@ikhouvanhelmond.nl
SUMMARY:Draden van ons slavernijverleden
DESCRIPTION:Samen met inwoners van Helmond en Brabant werken we aan een uniek monumentaal wandkleed naar ontwerp van de Eindhovense kunstenaar Victor Sonna. In het ontwerp/kleed zijn de verhalen over het koloniale verleden van onze provincie verwerkt. Ook jij kan meehelpen het kleed te ‘vullen’ met al deze verhalen. Dat kan door middel van verschillende textieltechnieken als tuften\, borduren\, punchen en patchwork. Ons kasteel is een van de maaklocaties in Brabant\, naast bijvoorbeeld TextielMuseum\, Noordbrabants Museum en Nieuwe Veste Breda. \nHet bijzondere wandkleed wordt gemaakt in het kader van het landelijke project ‘Draden van ons Nederlandse slavernijverleden’. Door samen aan het kleed te werken kunnen we met elkaar praten over het verleden\, en we verbinden op deze manier erfgoed met kunst. Het kleed dat op onze maaklocatie wordt gemaakt\, is onderdeel van een veel groter kleed (in totaal 35 x 2\,5 meter) dat uiteindelijk te zien zal zijn op een nu nog niet bekende locatie. \nHelp jij ook mee?\nOok jij kan meewerken aan dit kleed op de maaklocatie Kasteel Helmond iedere donderdag en zaterdag van 13.00-16.00 uur in de periode 20 februari tot en met 5 juli. Jouw deelname kan vanaf de leeftijd van 9 jaar en is gratis\, ook heb je geen museumkaartje nodig om mee te kunnen doen. En je hoeft ook geen ervaring te hebben met het maken van kleden\, iedereen is welkom! Het maken van het kleed gebeurt onder begeleiding van onze medewerkers. \nGeef je op via https://tickets.museumhelmond.nl/nl/draden-van-ons-slavernijverleden/tickets.
URL:https://ikhouvanhelmond.nl/event/draden-van-ons-slavernijverleden/
LOCATION:Museum Helmond locatie kasteel\, Kasteelplein 1\, Helmond\, 5701PP
CATEGORIES:Actief,Kunst & cultuur
ATTACH;FMTTYPE=image/jpeg:https://ikhouvanhelmond.nl/wp-content/uploads/2025/02/IMG_5802-scaled.jpeg
END:VEVENT
BEGIN:VEVENT
DTSTART;TZID=UTC:20250622T040000
DTEND;TZID=UTC:20250622T060000
DTSTAMP:20260419T162421
CREATED:20250611T073445Z
LAST-MODIFIED:20250611T073445Z
UID:1911-1750564800-1750572000@ikhouvanhelmond.nl
SUMMARY:Zonnewendewandeling
DESCRIPTION:Wil je ‘n keer ervaren hoe de dag begint in de natuur? Wil je een keer met eigen ogen zien en oren horen hoe de natuur elke dag weer ontwaakt? Dat kan. Kom\, wandel mee en geniet!\nEnkele dagen na de langste dag\, de dag van de zonnewende\, wandelen we bij het ochtendgloren.\nAls we ter plekke aankomen\, is het nog nacht; het is er nog stil. Tussen de huizen en bomen zien we mogelijk nog vleermuizen jagen.\nGauw genoeg beginnen de eerste vogels aarzelend te zingen. Het duister maakt plaatst voor wat licht in het Oosten. De lucht kleurt rood\, het vogelconcert zwelt aan\, de dag begint. \nSamen met de IVN-gidsen kun je op deze vroege ochtend op stap en genieten van een bijzondere ochtendwandeling. We hebben enkele batdetectors bij ons; als ze vliegen kunnen we daarmee de vleermuizen waarnemen. \nDe lengte van de wandeling is circa 3 km en duurt ongeveer 2 uur.\nDeelname is gratis. Opgave vooraf niet noodzakelijk.\nDe wandeling is niet geschikt voor mensen die slecht ter been zijn.
URL:https://ikhouvanhelmond.nl/event/zonnewendewandeling/
LOCATION:Rijpelaal\, Rijpelberg 5
CATEGORIES:Actief
ATTACH;FMTTYPE=image/jpeg:https://ikhouvanhelmond.nl/wp-content/uploads/2025/06/Zonnewendewandeling-Helmond.jpeg
END:VEVENT
BEGIN:VEVENT
DTSTART;VALUE=DATE:20250708
DTEND;VALUE=DATE:20250712
DTSTAMP:20260419T162421
CREATED:20250627T142212Z
LAST-MODIFIED:20250627T142212Z
UID:2090-1751932800-1752278399@ikhouvanhelmond.nl
SUMMARY:Fietsvierdaagse de Peel
DESCRIPTION:Vier dagen recreatief fietsen in de Limburgse en Brabantse Peel. Je kunt kiezen uit de afstanden 30-45 of 60 kilometer. Startpunt is bij HAC aan de Molenvenweg. \nBewegwijzerde routes leiden u door en langs de Brabantse en Limburgse Peelgebieden\, de Brabantse Kempen\, de Meierij en zelfs over Belgisch-Limburgse grondgebieden. De routes leiden zo weinig mogelijk langs drukke wegen\, om het recreatieve karakter te benadrukken.
URL:https://ikhouvanhelmond.nl/event/fietsvierdaagse-de-peel/
LOCATION:HAC\, Molenvenweg 3
CATEGORIES:Actief
ATTACH;FMTTYPE=image/jpeg:https://ikhouvanhelmond.nl/wp-content/uploads/2025/06/IMG_1714-2-scaled.jpg
END:VEVENT
BEGIN:VEVENT
DTSTART;VALUE=DATE:20250710
DTEND;VALUE=DATE:20250714
DTSTAMP:20260419T162421
CREATED:20250623T185002Z
LAST-MODIFIED:20250623T185002Z
UID:2030-1752105600-1752451199@ikhouvanhelmond.nl
SUMMARY:Rolschaatsen in de Kunsthal
DESCRIPTION:De tentoonstellingszaal van Kunsthal Helmond is van 10 t/m 13 juli eenmalig ingericht als rolschaatsparcours! Voor jou dé kans om met je familie en vrienden te komen rolschaatsen langs bijzondere kunstwerken. \nLaat je op het parcours verrassen door een poëtisch videowerk\, een bijzondere lichtinstallatie en graffiti-kunstwerken uit de jaren tachtig. Geniet intussen\nvan goede muziek en spetterende verlichting. Of je nu een doorgewinterde skater bent\, voor het eerst rolschaatsen onderbindt of alleen komt kijken\, iedereen is welkom! \nDe pop-up Skatehal is dagelijks open van 11.00-17.00 uur\nOp vrijdag 11 juli van 11.00 – 21.00 uur
URL:https://ikhouvanhelmond.nl/event/rolschaatsen-in-de-kunsthal/
LOCATION:Museum Helmond locatie kunsthal\, Frans Jozeph van Thielpark 7\, Helmond
CATEGORIES:Actief
ATTACH;FMTTYPE=image/png:https://ikhouvanhelmond.nl/wp-content/uploads/2025/06/Musuem-Helmond-Rollerskate_Headerbeeld-1500px1000px_1920x800_acf_cropped-1080x450-1.png
END:VEVENT
BEGIN:VEVENT
DTSTART;VALUE=DATE:20250928
DTEND;VALUE=DATE:20250929
DTSTAMP:20260419T162421
CREATED:20250626T093437Z
LAST-MODIFIED:20250626T093437Z
UID:2078-1759017600-1759103999@ikhouvanhelmond.nl
SUMMARY:Braverun
DESCRIPTION:Zin in een sportieve uitdaging vol modder\, obstakels en fun? Op zondag 28 september vindt de Braverun plaats in Helmond! Dit spectaculaire obstacle run-evenement is geschikt voor zowel fanatieke sporters als recreatieve deelnemers. Ren\, klim\, kruip en spring je een weg door het parcours en daag jezelf (en je vrienden) uit. Toeschouwers zijn uiteraard ook welkom om aan te moedigen en te genieten van de sfeer!
URL:https://ikhouvanhelmond.nl/event/braverun/
LOCATION:Automotive Campus
CATEGORIES:Actief
ATTACH;FMTTYPE=image/webp:https://ikhouvanhelmond.nl/wp-content/uploads/2025/06/braverun-footer-768x510.jpeg.webp
END:VEVENT
BEGIN:VEVENT
DTSTART;TZID=UTC:20251005T140000
DTEND;TZID=UTC:20251005T160000
DTSTAMP:20260419T162421
CREATED:20250930T095048Z
LAST-MODIFIED:20251001T081548Z
UID:2337-1759672800-1759680000@ikhouvanhelmond.nl
SUMMARY:IVN herfstwandeling Warande
DESCRIPTION:IVN Helmond houdt op zondag 5 oktober een herfstwandeling in de Warande. De wandeling begint om 14.00 uur bij de parkeerplaats van het Warande park restaurant. \n\n\n\n\nDeelname aan de wandeling is gratis. Vooraf aanmelden is niet nodig. De route is geschikt voor rolstoelhouders en heeft een lengte van ongeveer 2\,5 kilometer. De wandeling duurt ongeveer twee uur. \n\n\nDe IVN-gids vertelt tijdens de wandeling over de seizoenen en de natuur in de herfst. Wandelaars leren bijvoorbeeld waarom bladeren vallen\, paddenstoelen groeien en vogels wegtrekken. Bij gunstige weersomstandigheden zijn er veel verschillende paddenstoelen te zien.
URL:https://ikhouvanhelmond.nl/event/ivn-herfstwandeling-warande/
LOCATION:Warande\, Helmond
CATEGORIES:Actief
ATTACH;FMTTYPE=image/jpeg:https://ikhouvanhelmond.nl/wp-content/uploads/2025/09/herfst-warande-helmond-scaled.jpg
END:VEVENT
BEGIN:VEVENT
DTSTART;VALUE=DATE:20260627
DTEND;VALUE=DATE:20260629
DTSTAMP:20260419T162421
CREATED:20250314T133050Z
LAST-MODIFIED:20250314T133050Z
UID:1220-1782518400-1782691199@ikhouvanhelmond.nl
SUMMARY:In beweging tegen kanker
DESCRIPTION:Op 29 en 30 juni 2024 heeft de stichting In Beweging Tegen Kanker voor de 2e keer een 26-uurs loop georganiseerd met als doel geld op te halen voor regionale instellingen die kanker- en ex-kankerpatiënten ondersteunen. Tijdens dit 2-jaarlijks evenement is er opnieuw een groot bedrag opgehaald dat VOLLEDIG ten goede komt aan regionale goede doelen. Op 27 en 28 juni 2026 zal dit mooie evenement opnieuw plaatsvinden.
URL:https://ikhouvanhelmond.nl/event/in-beweging-tegen-kanker/
CATEGORIES:Actief
ATTACH;FMTTYPE=image/jpeg:https://ikhouvanhelmond.nl/wp-content/uploads/2025/03/inbewegingtegenkanker-scaled.jpg
END:VEVENT
END:VCALENDAR